Shooting information for this photo
Camera: | NIKON CORPORATION NIKON D500 |
Exposure: | 0.00063 sec. (1/1600) |
Aperture: | f/6.3 |
Focal Length: | 300.0 mm (35 mm equivalent: 450.0 mm) |
Flash: | No Flash |
Exposure mode: | Aperture-priority AE |
Max Aperture: | 6.3 |
Resolution: | 300 x 300 dpi |
Dimension: | 1600 x 1451 pixels |
Original Date: | 2017:12:12 13:31:20.67 |
Created on: | 2017:12:12 13:31:20.67 |
Modified on: | 2019:11:21 23:48:12.67 |
Software: | Adobe Photoshop 21.0 (Windows) |
Already Applied | True |
Approximate Focus Distance | 11.9 |
Auto Lateral CA | 0 |
Blacks 2012 | -31 |
Blue Hue | 0 |
Blue Saturation | 0 |
CFA Pattern | [Red,Green][Green,Blue] |
Camera Profile | Adobe Standard |
Circle Of Confusion | 0.020 mm |
Clarity 2012 | 0 |
Color Mode | RGB |
Color Noise Reduction | 25 |
Color Noise Reduction Detail | 50 |
Color Noise Reduction Smoothness | 50 |
Color Space | sRGB |
Color Temperature | 5150 |
Contrast | Normal |
Contrast 2012 | +13 |
Convert To Grayscale | False |
Crop Angle | -4.604487 |
Crop Bottom | 0.920753 |
Crop Constrain To Warp | 1 |
Crop Left | 0.02994 |
Crop Right | 0.733837 |
Crop Top | 0.107784 |
Custom Rendered | Normal |
Date Created | 2017:12:12 13:31:20.067 |
Defringe Green Amount | 0 |
Defringe Green Hue Hi | 60 |
Defringe Green Hue Lo | 40 |
Defringe Purple Amount | 0 |
Defringe Purple Hue Hi | 70 |
Defringe Purple Hue Lo | 30 |
Dehaze | 0 |
Exposure 2012 | -0.70 |
Exposure Compensation | +1 |
Exposure Mode | Auto |
Field Of View | 4.6 deg |
Focal Length In 35mm Format | 450 mm |
Format | image/jpeg |
Gain Control | Low gain up |
Grain Amount | 0 |
Green Hue | 0 |
Green Saturation | 0 |
Has Crop | True |
Has Settings | True |
Highlights 2012 | -94 |
Hue Adjustment Aqua | 0 |
Hue Adjustment Blue | 0 |
Hue Adjustment Green | 0 |
Hue Adjustment Magenta | 0 |
Hue Adjustment Orange | 0 |
Hue Adjustment Purple | 0 |
Hue Adjustment Red | 0 |
Hue Adjustment Yellow | 0 |
Hyperfocal Distance | 713.19 m |
ICC Profile Name | sRGB IEC61966-2.1 |
ISO | 1250 |
Image Number | 25274 |
Image Size | 1600x1451 |
Lens | TAMRON AF 16-300mm F3.5-6.3 Di II VC PZD B016N |
Lens ID | TAMRON AF 16-300mm F3.5-6.3 Di II VC PZD B016N |
Lens Info | 16-300mm f/3.5-6.3 |
Lens Manual Distortion Amount | 0 |
Lens Model | TAMRON AF 16-300mm F3.5-6.3 Di II VC PZD B016N |
Lens Profile Enable | 0 |
Lens Profile Setup | LensDefaults |
Light Source | Unknown |
Light Value | 12.3 |
Luminance Adjustment Aqua | 0 |
Luminance Adjustment Blue | 0 |
Luminance Adjustment Green | 0 |
Luminance Adjustment Magenta | 0 |
Luminance Adjustment Orange | 0 |
Luminance Adjustment Purple | 0 |
Luminance Adjustment Red | 0 |
Luminance Adjustment Yellow | 0 |
Luminance Smoothing | 0 |
Metering Mode | Center-weighted average |
Parametric Darks | 0 |
Parametric Highlight Split | 75 |
Parametric Highlights | 0 |
Parametric Lights | 0 |
Parametric Midtone Split | 50 |
Parametric Shadow Split | 25 |
Parametric Shadows | 0 |
Perspective Aspect | 0 |
Perspective Horizontal | 0 |
Perspective Rotate | 0.0 |
Perspective Scale | 100 |
Perspective Upright | 0 |
Perspective Vertical | 0 |
Perspective X | 0.00 |
Perspective Y | 0.00 |
Photometric Interpretation | RGB |
Post Crop Vignette Amount | 0 |
Process Version | 10.0 |
Rating | 0 |
Raw File Name | DSC_3868.NEF |
Red Hue | 0 |
Red Saturation | 0 |
Samples Per Pixel | 3 |
Saturation | Normal |
Saturation Adjustment Aqua | 0 |
Saturation Adjustment Blue | 0 |
Saturation Adjustment Green | 0 |
Saturation Adjustment Magenta | 0 |
Saturation Adjustment Orange | 0 |
Saturation Adjustment Purple | 0 |
Saturation Adjustment Red | 0 |
Saturation Adjustment Yellow | 0 |
Scale Factor To 35 mm Equivalent | 1.5 |
Scene Capture Type | Standard |
Scene Type | Directly photographed |
Sensing Method | One-chip color area |
Sensitivity Type | Recommended Exposure Index |
Shadow Tint | 0 |
Shadows 2012 | +58 |
Sharpen Detail | 25 |
Sharpen Edge Masking | 0 |
Sharpen Radius | +1.3 |
Sharpness | Normal |
Split Toning Balance | 0 |
Split Toning Highlight Hue | 0 |
Split Toning Highlight Saturation | 0 |
Split Toning Shadow Hue | 0 |
Split Toning Shadow Saturation | 0 |
Subject Distance Range | Unknown |
Tint | +2 |
Tone Curve | 0, 0, 32, 22, 64, 56, 128, 128, 192, 196, 255, 255 |
Tone Curve Blue | 0, 0, 255, 255 |
Tone Curve Green | 0, 0, 255, 255 |
Tone Curve Name | Medium Contrast |
Tone Curve Name 2012 | Linear |
Tone Curve PV2012 | 0, 0, 255, 255 |
Tone Curve PV2012 Blue | 0, 0, 255, 255 |
Tone Curve PV2012 Green | 0, 0, 255, 255 |
Tone Curve PV2012 Red | 0, 0, 255, 255 |
Tone Curve Red | 0, 0, 255, 255 |
Version | 10.1 |
Vibrance | 0 |
Vignette Amount | 0 |
White Balance | Auto |
Whites 2012 | -48 |