Shooting information for this photo
Camera: | PENTAX K-5 |
Exposure: | 0.04 sec. (1/25) |
Aperture: | f/9.0 |
Focal Length: | 18.0 mm (35 mm equivalent: 27.0 mm) |
Flash: | Off, Did not fire |
Exposure mode: | Aperture-priority AE |
Resolution: | 300 x 300 dpi |
Dimension: | 1600 x 1060 pixels |
Original Date: | 2017:04:26 12:38:34 |
Created on: | 2017:04:26 12:38:34 |
Modified on: | 2019:11:21 17:47:09 |
Software: | Adobe Photoshop 21.0 (Windows) |
Already Applied | True |
Approximate Focus Distance | 8 |
Auto Lateral CA | 0 |
Auto White Version | 134348800 |
Blacks 2012 | -13 |
Blue Hue | 0 |
Blue Saturation | 0 |
CFA Pattern | [Blue,Green][Green,Red] |
Camera Profile | Adobe Standard |
Circle Of Confusion | 0.020 mm |
Clarity 2012 | 0 |
Color Mode | RGB |
Color Noise Reduction | 25 |
Color Noise Reduction Detail | 50 |
Color Noise Reduction Smoothness | 50 |
Color Space | sRGB |
Color Temperature | 5650 |
Contrast | Normal |
Contrast 2012 | 0 |
Convert To Grayscale | False |
Crop Angle | 2.161079 |
Crop Bottom | 1 |
Crop Constrain To Warp | 1 |
Crop Left | 0.038775 |
Crop Right | 0.961225 |
Crop Top | 0 |
Custom Rendered | Normal |
Date Created | 2017:04:26 12:38:34 |
Defringe Green Amount | 0 |
Defringe Green Hue Hi | 60 |
Defringe Green Hue Lo | 40 |
Defringe Purple Amount | 0 |
Defringe Purple Hue Hi | 70 |
Defringe Purple Hue Lo | 30 |
Dehaze | 0 |
Exposure 2012 | +0.90 |
Exposure Compensation | 0 |
Exposure Mode | Auto |
Field Of View | 67.4 deg |
Focal Length In 35mm Format | 27 mm |
Format | image/jpeg |
Grain Amount | 0 |
Green Hue | 0 |
Green Saturation | 0 |
Has Crop | True |
Has Settings | True |
Highlights 2012 | -100 |
Hue Adjustment Aqua | 0 |
Hue Adjustment Blue | 0 |
Hue Adjustment Green | 0 |
Hue Adjustment Magenta | 0 |
Hue Adjustment Orange | 0 |
Hue Adjustment Purple | 0 |
Hue Adjustment Red | 0 |
Hue Adjustment Yellow | 0 |
Hyperfocal Distance | 1.80 m |
ICC Profile Name | sRGB IEC61966-2.1 |
ISO | 3200 |
Image Size | 1600x1060 |
Lens | smc PENTAX-DA 18-55mm F3.5-5.6 AL WR |
Lens ID | smc PENTAX-DA 18-55mm F3.5-5.6 AL WR |
Lens Info | 18-55mm f/3.5-5.6 |
Lens Manual Distortion Amount | 0 |
Lens Model | smc PENTAX-DA 18-55mm F3.5-5.6 AL WR |
Lens Profile Enable | 0 |
Lens Profile Setup | LensDefaults |
Light Value | 6.0 |
Luminance Adjustment Aqua | 0 |
Luminance Adjustment Blue | 0 |
Luminance Adjustment Green | 0 |
Luminance Adjustment Magenta | 0 |
Luminance Adjustment Orange | 0 |
Luminance Adjustment Purple | 0 |
Luminance Adjustment Red | 0 |
Luminance Adjustment Yellow | 0 |
Luminance Smoothing | 0 |
Metering Mode | Center-weighted average |
Parametric Darks | 0 |
Parametric Highlight Split | 75 |
Parametric Highlights | 0 |
Parametric Lights | 0 |
Parametric Midtone Split | 50 |
Parametric Shadow Split | 25 |
Parametric Shadows | 0 |
Perspective Aspect | 0 |
Perspective Horizontal | 0 |
Perspective Rotate | 0.0 |
Perspective Scale | 100 |
Perspective Upright | 0 |
Perspective Vertical | 0 |
Photometric Interpretation | RGB |
Post Crop Vignette Amount | 0 |
Process Version | 6.7 |
Rating | 0 |
Raw File Name | IMGP4681.PEF |
Red Hue | 0 |
Red Saturation | 0 |
Samples Per Pixel | 3 |
Saturation | Normal |
Saturation Adjustment Aqua | 0 |
Saturation Adjustment Blue | 0 |
Saturation Adjustment Green | 0 |
Saturation Adjustment Magenta | 0 |
Saturation Adjustment Orange | 0 |
Saturation Adjustment Purple | 0 |
Saturation Adjustment Red | 0 |
Saturation Adjustment Yellow | 0 |
Scale Factor To 35 mm Equivalent | 1.5 |
Scene Capture Type | Standard |
Sensing Method | One-chip color area |
Shadow Tint | 0 |
Shadows 2012 | +100 |
Sharpen Detail | 25 |
Sharpen Edge Masking | 0 |
Sharpen Radius | +1.0 |
Sharpness | Hard |
Split Toning Balance | 0 |
Split Toning Highlight Hue | 0 |
Split Toning Highlight Saturation | 0 |
Split Toning Shadow Hue | 0 |
Split Toning Shadow Saturation | 0 |
Subject Distance Range | Distant |
Tint | +2 |
Tone Curve | 0, 0, 32, 22, 64, 56, 128, 128, 192, 196, 255, 255 |
Tone Curve Blue | 0, 0, 255, 255 |
Tone Curve Green | 0, 0, 255, 255 |
Tone Curve Name | Medium Contrast |
Tone Curve Name 2012 | Linear |
Tone Curve PV2012 | 0, 0, 255, 255 |
Tone Curve PV2012 Blue | 0, 0, 255, 255 |
Tone Curve PV2012 Green | 0, 0, 255, 255 |
Tone Curve PV2012 Red | 0, 0, 255, 255 |
Tone Curve Red | 0, 0, 255, 255 |
Tone Map Strength | 0 |
Version | 9.1.1 |
Vibrance | 0 |
Vignette Amount | 0 |
White Balance | Auto |
Whites 2012 | -18 |