Shooting information for this photo
Camera: | PENTAX K-5 |
Exposure: | 0.00125 sec. (1/800) |
Aperture: | f/4.5 |
Focal Length: | 150.0 mm (35 mm equivalent: 225.0 mm) |
Flash: | Off, Did not fire |
Exposure mode: | Not Defined |
Resolution: | 240 x 240 dpi |
Dimension: | 1600 x 1580 pixels |
Original Date: | 2014:05:31 11:16:57 |
Created on: | 2014:05:31 11:16:57 |
Modified on: | 2019:11:21 16:51:37 |
Software: | Adobe Photoshop 21.0 (Windows) |
Already Applied | True |
Approximate Focus Distance | 8 |
Auto Lateral CA | 0 |
Blacks 2012 | -6 |
Blue Hue | 0 |
Blue Saturation | 0 |
Brightness | +50 |
CFA Pattern | [Blue,Green][Green,Red] |
Camera Profile | Adobe Standard |
Circle Of Confusion | 0.020 mm |
Clarity | 0 |
Clarity 2012 | 0 |
Color Mode | RGB |
Color Noise Reduction | 25 |
Color Noise Reduction Detail | 50 |
Color Space | sRGB |
Color Temperature | 5550 |
Contrast | Normal |
Contrast 2012 | +24 |
Convert To Grayscale | False |
Crop Angle | 0 |
Crop Bottom | 1 |
Crop Constrain To Warp | 1 |
Crop Left | 0.051251 |
Crop Right | 0.657926 |
Crop Top | 0.095324 |
Custom Rendered | Normal |
Date Created | 2014:05:31 11:16:57 |
Defringe | 0 |
Exposure | 0.00 |
Exposure 2012 | -0.05 |
Exposure Compensation | 0 |
Exposure Mode | Auto |
Field Of View | 9.1 deg |
Fill Light | 0 |
Focal Length In 35mm Format | 225 mm |
Format | image/jpeg |
Grain Amount | 0 |
Green Hue | 0 |
Green Saturation | 0 |
Has Crop | True |
Has Settings | True |
Highlight Recovery | 0 |
Highlights 2012 | 0 |
Hue Adjustment Aqua | 0 |
Hue Adjustment Blue | 0 |
Hue Adjustment Green | 0 |
Hue Adjustment Magenta | 0 |
Hue Adjustment Orange | 0 |
Hue Adjustment Purple | 0 |
Hue Adjustment Red | 0 |
Hue Adjustment Yellow | 0 |
Hyperfocal Distance | 249.62 m |
ICC Profile Name | sRGB IEC61966-2.1 |
ISO | 100 |
Image Size | 1600x1580 |
Lens | smc PENTAX-DA 55-300mm F4-5.8 ED |
Lens ID | smc PENTAX-DA 55-300mm F4-5.8 ED |
Lens Info | 55-300mm f/4-5.8 |
Lens Manual Distortion Amount | 0 |
Lens Model | smc PENTAX-DA 55-300mm F4-5.8 ED |
Lens Profile Enable | 0 |
Lens Profile Setup | LensDefaults |
Light Value | 14.0 |
Luminance Adjustment Aqua | 0 |
Luminance Adjustment Blue | 0 |
Luminance Adjustment Green | 0 |
Luminance Adjustment Magenta | 0 |
Luminance Adjustment Orange | 0 |
Luminance Adjustment Purple | 0 |
Luminance Adjustment Red | 0 |
Luminance Adjustment Yellow | 0 |
Luminance Smoothing | 0 |
Metering Mode | Multi-segment |
Parametric Darks | 0 |
Parametric Highlight Split | 75 |
Parametric Highlights | 0 |
Parametric Lights | 0 |
Parametric Midtone Split | 50 |
Parametric Shadow Split | 25 |
Parametric Shadows | 0 |
Perspective Horizontal | 0 |
Perspective Rotate | 0.0 |
Perspective Scale | 100 |
Perspective Vertical | 0 |
Photometric Interpretation | RGB |
Post Crop Vignette Amount | 0 |
Process Version | 6.7 |
Rating | 0 |
Raw File Name | IMGP8956.PEF |
Red Hue | 0 |
Red Saturation | 0 |
Samples Per Pixel | 3 |
Saturation | Normal |
Saturation Adjustment Aqua | 0 |
Saturation Adjustment Blue | 0 |
Saturation Adjustment Green | 0 |
Saturation Adjustment Magenta | 0 |
Saturation Adjustment Orange | 0 |
Saturation Adjustment Purple | 0 |
Saturation Adjustment Red | 0 |
Saturation Adjustment Yellow | 0 |
Scale Factor To 35 mm Equivalent | 1.5 |
Scene Capture Type | Standard |
Sensing Method | One-chip color area |
Shadow Tint | 0 |
Shadows | 5 |
Shadows 2012 | 0 |
Sharpen Detail | 25 |
Sharpen Edge Masking | 0 |
Sharpen Radius | +1.0 |
Sharpness | Hard |
Split Toning Balance | 0 |
Split Toning Highlight Hue | 0 |
Split Toning Highlight Saturation | 0 |
Split Toning Shadow Hue | 0 |
Split Toning Shadow Saturation | 0 |
Subject Distance Range | Distant |
Tint | +11 |
Tone Curve | 0, 0, 32, 22, 64, 56, 128, 128, 192, 196, 255, 255 |
Tone Curve Blue | 0, 0, 255, 255 |
Tone Curve Green | 0, 0, 255, 255 |
Tone Curve Name | Medium Contrast |
Tone Curve Name 2012 | Linear |
Tone Curve PV2012 | 0, 0, 255, 255 |
Tone Curve PV2012 Blue | 0, 0, 255, 255 |
Tone Curve PV2012 Green | 0, 0, 255, 255 |
Tone Curve PV2012 Red | 0, 0, 255, 255 |
Tone Curve Red | 0, 0, 255, 255 |
Version | 7.0 |
Vibrance | +28 |
Vignette Amount | 0 |
White Balance | Manual |
Whites 2012 | +42 |