Shooting information for this photo
Camera: | RICOH IMAGING COMPANY, LTD. PENTAX K-3 |
Exposure: | 0.002 sec. (1/500) |
Aperture: | f/7.1 |
Focal Length: | 300.0 mm (35 mm equivalent: 450.0 mm) |
Flash: | Off, Did not fire |
Exposure mode: | Not Defined |
Resolution: | 300 x 300 dpi |
Dimension: | 1500 x 1448 pixels |
Original Date: | 2015:06:27 10:46:49 |
Created on: | 2015:06:27 10:46:49 |
Modified on: | 2019:11:21 12:35:13 |
Software: | Adobe Photoshop 21.0 (Windows) |
Already Applied | True |
Approximate Focus Distance | 4 |
Auto Lateral CA | 0 |
Auto White Version | 134348800 |
Blacks 2012 | -3 |
Blue Hue | 0 |
Blue Saturation | 0 |
Camera Profile | Adobe Standard |
Circle Of Confusion | 0.020 mm |
Clarity 2012 | +4 |
Color Mode | RGB |
Color Noise Reduction | 25 |
Color Noise Reduction Detail | 50 |
Color Noise Reduction Smoothness | 50 |
Color Space | sRGB |
Color Temperature | 5000 |
Contrast | Normal |
Contrast 2012 | +25 |
Convert To Grayscale | False |
Crop Angle | 0 |
Crop Bottom | 0.895411 |
Crop Constrain To Warp | 1 |
Crop Left | 0.303052 |
Crop Right | 0.836054 |
Crop Top | 0.121665 |
Custom Rendered | Normal |
Date Created | 2015:06:27 10:46:49 |
Defringe Green Amount | 0 |
Defringe Green Hue Hi | 60 |
Defringe Green Hue Lo | 40 |
Defringe Purple Amount | 0 |
Defringe Purple Hue Hi | 70 |
Defringe Purple Hue Lo | 30 |
Dehaze | 0 |
Exposure 2012 | +0.95 |
Exposure Compensation | 0 |
Exposure Mode | Auto |
Field Of View | 4.6 deg |
Focal Length In 35mm Format | 450 mm |
Format | image/jpeg |
Grain Amount | 0 |
Green Hue | 0 |
Green Saturation | 0 |
Has Crop | True |
Has Settings | True |
Highlights 2012 | 0 |
Hue Adjustment Aqua | 0 |
Hue Adjustment Blue | 0 |
Hue Adjustment Green | 0 |
Hue Adjustment Magenta | 0 |
Hue Adjustment Orange | 0 |
Hue Adjustment Purple | 0 |
Hue Adjustment Red | 0 |
Hue Adjustment Yellow | 0 |
Hyperfocal Distance | 632.83 m |
ICC Profile Name | sRGB IEC61966-2.1 |
ISO | 160 |
Image Size | 1500x1448 |
Lens | smc PENTAX-DA 55-300mm F4-5.8 ED |
Lens ID | Unknown (7 236) |
Lens Info | 55-300mm f/4-5.8 |
Lens Manual Distortion Amount | 0 |
Lens Model | smc PENTAX-DA 55-300mm F4-5.8 ED |
Lens Profile Enable | 0 |
Lens Profile Setup | LensDefaults |
Light Value | 13.9 |
Luminance Adjustment Aqua | 0 |
Luminance Adjustment Blue | 0 |
Luminance Adjustment Green | 0 |
Luminance Adjustment Magenta | 0 |
Luminance Adjustment Orange | 0 |
Luminance Adjustment Purple | 0 |
Luminance Adjustment Red | 0 |
Luminance Adjustment Yellow | 0 |
Luminance Smoothing | 0 |
Metering Mode | Multi-segment |
Parametric Darks | 0 |
Parametric Highlight Split | 75 |
Parametric Highlights | 0 |
Parametric Lights | 0 |
Parametric Midtone Split | 50 |
Parametric Shadow Split | 25 |
Parametric Shadows | 0 |
Perspective Aspect | 0 |
Perspective Horizontal | 0 |
Perspective Rotate | 0.0 |
Perspective Scale | 100 |
Perspective Upright | 0 |
Perspective Vertical | 0 |
Photometric Interpretation | RGB |
Post Crop Vignette Amount | 0 |
Process Version | 6.7 |
Rating | 0 |
Raw File Name | IMGP4716.PEF |
Red Hue | 0 |
Red Saturation | 0 |
Samples Per Pixel | 3 |
Saturation | Normal |
Saturation Adjustment Aqua | 0 |
Saturation Adjustment Blue | 0 |
Saturation Adjustment Green | 0 |
Saturation Adjustment Magenta | 0 |
Saturation Adjustment Orange | 0 |
Saturation Adjustment Purple | 0 |
Saturation Adjustment Red | 0 |
Saturation Adjustment Yellow | 0 |
Scale Factor To 35 mm Equivalent | 1.5 |
Scene Capture Type | Standard |
Sensing Method | One-chip color area |
Sensitivity Type | Standard Output Sensitivity |
Shadow Tint | 0 |
Shadows 2012 | 0 |
Sharpen Detail | 25 |
Sharpen Edge Masking | 0 |
Sharpen Radius | +1.0 |
Sharpness | Normal |
Split Toning Balance | 0 |
Split Toning Highlight Hue | 0 |
Split Toning Highlight Saturation | 0 |
Split Toning Shadow Hue | 0 |
Split Toning Shadow Saturation | 0 |
Standard Output Sensitivity | 160 |
Subject Distance Range | Distant |
Tint | +16 |
Tone Curve | 0, 0, 32, 22, 64, 56, 128, 128, 192, 196, 255, 255 |
Tone Curve Blue | 0, 0, 255, 255 |
Tone Curve Green | 0, 0, 255, 255 |
Tone Curve Name | Medium Contrast |
Tone Curve Name 2012 | Linear |
Tone Curve PV2012 | 0, 0, 255, 255 |
Tone Curve PV2012 Blue | 0, 0, 255, 255 |
Tone Curve PV2012 Green | 0, 0, 255, 255 |
Tone Curve PV2012 Red | 0, 0, 255, 255 |
Tone Curve Red | 0, 0, 255, 255 |
Tone Map Strength | 0 |
Version | 9.1 |
Vibrance | +39 |
Vignette Amount | 0 |
White Balance | Auto |
Whites 2012 | -5 |