Shooting information for this photo
Camera: | SONY ILCE-7R |
Exposure: | 0.1 sec. (1/10) |
Aperture: | f/11.0 |
Focal Length: | 28.0 mm (35 mm equivalent: 28.0 mm) |
Flash: | Off, Did not fire |
Exposure mode: | Manual |
Max Aperture: | 3.5 |
Resolution: | 240 x 240 dpi |
Original Date: | 2017:09:22 19:22:32 |
Digitized Date: | 2017:09:22 19:22:32+00:00 |
Created on: | 2017:09:22 19:22:32 |
Software: | Adobe Photoshop Lightroom Classic 7.2 (Windows) |
Copyright: | Diederik Santema |
Already Applied | True |
Artist | Diederik Santema |
Auto Lateral CA | 0 |
Blacks 2012 | 0 |
Blue Hue | 0 |
Blue Saturation | 0 |
Brightness Value | 4.98984375 |
Camera Profile | Adobe Standard |
Circle Of Confusion | 0.030 mm |
Clarity 2012 | +6 |
Color Noise Reduction | 25 |
Color Noise Reduction Detail | 50 |
Color Noise Reduction Smoothness | 50 |
Color Space | sRGB |
Color Temperature | 5750 |
Contrast | Normal |
Contrast 2012 | 0 |
Convert To Grayscale | True |
Country | IJsland |
Country Code | ISL |
Custom Rendered | Normal |
Date Created | 2017:09:22 19:22:32+00:00 |
Dehaze | 0 |
Description | <i>Dank voor het bekijken, commentaren, favorieten en kritiek.Geen verder gebruik zonder mijn uitdrukkelijke toestemming.Thanks for watching, comments, favourites and critique.No further use without my explicit consent</i> |
Digital Zoom Ratio | 1 |
Distortion Correction Already Applied | True |
Exposure 2012 | 0.00 |
Exposure Compensation | 0 |
Exposure Mode | Manual |
Field Of View | 65.5 deg |
Focal Length In 35mm Format | 28 mm |
Format | image/jpeg |
Grain Amount | 0 |
Gray Mixer Aqua | -18 |
Gray Mixer Blue | +9 |
Gray Mixer Green | +59 |
Gray Mixer Magenta | +4 |
Gray Mixer Orange | -18 |
Gray Mixer Purple | +15 |
Gray Mixer Red | -9 |
Gray Mixer Yellow | -22 |
Green Hue | 0 |
Green Saturation | 0 |
Has Crop | False |
Has Settings | True |
Highlights 2012 | 0 |
Hyperfocal Distance | 2.37 m |
ISO | 50 |
Image Description | <i>Dank voor het bekijken, commentaren, favorieten en kritiek.Geen verder gebruik zonder mijn uitdrukkelijke toestemming.Thanks for watching, comments, favourites and critique.No further use without my explicit consent</i> |
Image Size | 7360x4912 |
Instructions | <i>Dank voor het bekijken, commentaren, favorieten en kritiek.Geen verder gebruik zonder mijn uitdrukkelijke toestemming.Thanks for watching, comments, favourites and critique.No further use without my explicit consent</i> |
Lateral Chromatic Aberration Correction Already Applied | True |
Lens | FE 28-70mm F3.5-5.6 OSS |
Lens Distort Info | 33329/32768 -69371069/1073741824 32522816/1073741824 -6829202/1073741824 |
Lens Info | 28-70mm f/3.5-5.6 |
Lens Manual Distortion Amount | 0 |
Lens Model | FE 28-70mm F3.5-5.6 OSS |
Lens Profile Chromatic Aberration Scale | 100 |
Lens Profile Distortion Scale | 100 |
Lens Profile Enable | 1 |
Lens Profile Filename | SONY (Sony FE 28-70mm F3.5-5.6 OSS) - RAW.lcp |
Lens Profile Name | Adobe (Sony FE 28-70mm F3.5-5.6 OSS) |
Lens Profile Setup | LensDefaults |
Lens Profile Vignetting Scale | 100 |
Light Source | Cloudy |
Light Value | 11.2 |
Location | Tungufell |
Luminance Smoothing | 0 |
Metering Mode | Multi-segment |
Parametric Darks | +49 |
Parametric Highlight Split | 75 |
Parametric Highlights | -82 |
Parametric Lights | +61 |
Parametric Midtone Split | 50 |
Parametric Shadow Split | 25 |
Parametric Shadows | -21 |
Perspective Aspect | 0 |
Perspective Horizontal | 0 |
Perspective Rotate | 0.0 |
Perspective Scale | 100 |
Perspective Upright | 0 |
Perspective Vertical | 0 |
Perspective X | 0.00 |
Perspective Y | 0.00 |
Post Crop Vignette Amount | 0 |
Process Version | 10.0 |
Recommended Exposure Index | 50 |
Red Hue | 0 |
Red Saturation | 0 |
Rights | Diederik Santema |
Saturation | Normal |
Scale Factor To 35 mm Equivalent | 1.0 |
Scene Capture Type | Standard |
Scene Type | Directly photographed |
Sensitivity Type | Recommended Exposure Index |
Shadow Tint | 0 |
Shadows 2012 | 0 |
Sharpen Detail | 25 |
Sharpen Edge Masking | 0 |
Sharpen Radius | +1.0 |
Sharpness | Normal |
Split Toning Balance | 0 |
Split Toning Highlight Hue | 0 |
Split Toning Highlight Saturation | 0 |
Split Toning Shadow Hue | 0 |
Split Toning Shadow Saturation | 0 |
State | Suðurland |
Subject | 2017, autumn, black and white, blackwhite, bw, fall, geo:lat=64.20656398, geo:lon=-19.68303680, geotagged, haifoss, háifoss, herfst, iceland, ijsland, ísland, najaar, september, waterfall, watervall, zw, zwartwit |
Tint | +5 |
Tone Curve | 0, 0, 255, 255 |
Tone Curve Blue | 0, 0, 255, 255 |
Tone Curve Green | 0, 0, 255, 255 |
Tone Curve Name | Linear |
Tone Curve Name 2012 | Linear |
Tone Curve PV2012 | 0, 0, 255, 255 |
Tone Curve PV2012 Blue | 0, 0, 255, 255 |
Tone Curve PV2012 Green | 0, 0, 255, 255 |
Tone Curve PV2012 Red | 0, 0, 255, 255 |
Tone Curve Red | 0, 0, 255, 255 |
Version | 10.2 |
Vignette Amount | 0 |
Vignette Correction Already Applied | True |
White Balance | Manual |
Whites 2012 | 0 |
GPS Information |
GPS Altitude | 400 m Above Sea Level |
GPS Altitude Ref | Above Sea Level |
GPS Date Stamp | 2017:09:22 |
GPS Date/Time | 2017:09:22 19:22:32Z |
GPS Latitude | 64 deg 12' 23.63" N |
GPS Latitude Ref | North |
GPS Longitude | 19 deg 40' 58.93" W |
GPS Longitude Ref | West |
GPS Map Datum | WGS-84 |
GPS Position | 64 deg 12' 23.63" N, 19 deg 40' 58.93" W |
GPS Time Stamp | 19:22:32 |
GPS Version ID | 2.2.0.0 |