Shooting information for this photo
Camera: | NIKON COOLPIX P900 |
Exposure: | 0.004 sec. (1/250) |
Aperture: | f/5.0 |
Focal Length: | 89.2 mm (35 mm equivalent: 500.0 mm) |
Flash: | Off, Did not fire |
Exposure mode: | Program AE |
Max Aperture: | 2.7 |
Resolution: | 240 x 240 dpi |
Dimension: | 4608 x 3456 pixels |
Original Date: | 2018:12:29 11:36:47 |
Created on: | 2018:12:29 11:36:47 |
Modified on: | 2019:01:02 22:42:24 |
Software: | Adobe Photoshop Elements 12.0 Windows |
Already Applied | True |
Auto Lateral CA | 0 |
Blacks 2012 | 0 |
Blue Hue | 0 |
Blue Saturation | 0 |
Camera Profile | Embedded |
Circle Of Confusion | 0.005 mm |
Clarity 2012 | +31 |
Color Mode | RGB |
Color Noise Reduction | 0 |
Color Space | sRGB |
Contrast | Normal |
Contrast 2012 | +14 |
Convert To Grayscale | False |
Custom Rendered | Normal |
Date Created | 2018:12:29 11:36:47 |
Defringe Green Amount | 0 |
Defringe Green Hue Hi | 60 |
Defringe Green Hue Lo | 40 |
Defringe Purple Amount | 0 |
Defringe Purple Hue Hi | 70 |
Defringe Purple Hue Lo | 30 |
Digital Zoom Ratio | 0 |
Exposure 2012 | 0.00 |
Exposure Compensation | 0 |
Exposure Mode | Auto |
Field Of View | 4.1 deg |
Focal Length In 35mm Format | 500 mm |
Format | image/jpeg |
Gain Control | None |
Grain Amount | 0 |
Green Hue | 0 |
Green Saturation | 0 |
Has Crop | False |
Has Settings | True |
Highlights 2012 | 0 |
Hue Adjustment Aqua | 0 |
Hue Adjustment Blue | 0 |
Hue Adjustment Green | 0 |
Hue Adjustment Magenta | 0 |
Hue Adjustment Orange | 0 |
Hue Adjustment Purple | 0 |
Hue Adjustment Red | 0 |
Hue Adjustment Yellow | 0 |
Hyperfocal Distance | 296.88 m |
ICC Profile Name | sRGB IEC61966-2.1 |
ISO | 280 |
Image Size | 4608x3456 |
Incremental Temperature | 0 |
Incremental Tint | 0 |
Lens Manual Distortion Amount | 0 |
Lens Profile Enable | 0 |
Lens Profile Setup | LensDefaults |
Light Source | Unknown |
Light Value | 11.1 |
Luminance Adjustment Aqua | 0 |
Luminance Adjustment Blue | 0 |
Luminance Adjustment Green | 0 |
Luminance Adjustment Magenta | 0 |
Luminance Adjustment Orange | 0 |
Luminance Adjustment Purple | 0 |
Luminance Adjustment Red | 0 |
Luminance Adjustment Yellow | 0 |
Luminance Smoothing | 0 |
Metering Mode | Multi-segment |
Parametric Darks | 0 |
Parametric Highlight Split | 75 |
Parametric Highlights | 0 |
Parametric Lights | 0 |
Parametric Midtone Split | 50 |
Parametric Shadow Split | 25 |
Parametric Shadows | 0 |
Perspective Aspect | 0 |
Perspective Horizontal | 0 |
Perspective Rotate | 0.0 |
Perspective Scale | 100 |
Perspective Upright | 0 |
Perspective Vertical | 0 |
Post Crop Vignette Amount | 0 |
Process Version | 6.7 |
Rating | 0 |
Raw File Name | 06 DSCN2816.JPG |
Red Hue | 0 |
Red Saturation | 0 |
Saturation | Normal |
Saturation Adjustment Aqua | 0 |
Saturation Adjustment Blue | 0 |
Saturation Adjustment Green | 0 |
Saturation Adjustment Magenta | 0 |
Saturation Adjustment Orange | 0 |
Saturation Adjustment Purple | 0 |
Saturation Adjustment Red | 0 |
Saturation Adjustment Yellow | 0 |
Scale Factor To 35 mm Equivalent | 5.6 |
Scene Capture Type | Standard |
Scene Type | Directly photographed |
Sensitivity Type | Standard Output Sensitivity |
Shadow Tint | 0 |
Shadows 2012 | 0 |
Sharpen Detail | 25 |
Sharpen Edge Masking | 0 |
Sharpen Radius | +1.0 |
Sharpness | Normal |
Split Toning Balance | 0 |
Split Toning Highlight Hue | 0 |
Split Toning Highlight Saturation | 0 |
Split Toning Shadow Hue | 0 |
Split Toning Shadow Saturation | 0 |
Subject Distance Range | Unknown |
Tone Curve Name 2012 | Linear |
Tone Curve PV2012 | 0, 0, 255, 255 |
Tone Curve PV2012 Blue | 0, 0, 255, 255 |
Tone Curve PV2012 Green | 0, 0, 255, 255 |
Tone Curve PV2012 Red | 0, 0, 255, 255 |
Version | 8.0 |
Vibrance | 0 |
Vignette Amount | 0 |
White Balance | Auto |
Whites 2012 | 0 |