Shooting information for this photo
Camera: | Panasonic DMC-FZ35 |
Exposure: | 0.004 sec. (1/250) |
Aperture: | f/4.0 |
Focal Length: | 47.8 mm (35 mm equivalent: 269.0 mm) |
Flash: | On, Fired |
Exposure mode: | Program AE |
Max Aperture: | 2.8 |
Resolution: | 240 x 240 dpi |
Dimension: | 3384 x 2538 pixels |
Original Date: | 2010:10:12 10:57:05 |
Digitized Date: | 2010:10:12 10:57:05-06:00 |
Created on: | 2010:10:12 10:57:05 |
Modified on: | 2012:02:15 22:11:41 |
Software: | Adobe Photoshop Elements 6.0 Windows |
Already Applied | True |
Blue Hue | 0 |
Blue Saturation | 0 |
Brightness | 0 |
Camera Profile | Embedded |
Chromatic Aberration B | 0 |
Chromatic Aberration R | 0 |
Circle Of Confusion | 0.005 mm |
Clarity | 0 |
Color Mode | RGB |
Color Noise Reduction | 0 |
Color Space | sRGB |
Contrast | Normal |
Convert To Grayscale | False |
Custom Rendered | Normal |
Defringe | 0 |
Digital Zoom Ratio | 0 |
Exposure | 0.00 |
Exposure Compensation | -0.33 |
Exposure Mode | Auto |
Field Of View | 7.7 deg |
Fill Light | 0 |
Flash Fired | True |
Flash Function | False |
Flash Mode | On |
Flash Red Eye Mode | False |
Flash Return | No return detection |
Focal Length In 35mm Format | 269 mm |
Format | image/jpeg |
Gain Control | None |
Green Hue | 0 |
Green Saturation | 0 |
Has Crop | False |
Has Settings | True |
Highlight Recovery | 0 |
Hue Adjustment Aqua | 0 |
Hue Adjustment Blue | 0 |
Hue Adjustment Green | 0 |
Hue Adjustment Magenta | 0 |
Hue Adjustment Orange | 0 |
Hue Adjustment Purple | 0 |
Hue Adjustment Red | 0 |
Hue Adjustment Yellow | 0 |
Hyperfocal Distance | 106.99 m |
ICC Profile Name | sRGB IEC61966-2.1 |
ISO | 100 |
Image Size | 3384x2538 |
Incremental Temperature | 0 |
Incremental Tint | 0 |
Light Source | Flash |
Light Value | 12.0 |
Luminance Adjustment Aqua | 0 |
Luminance Adjustment Blue | 0 |
Luminance Adjustment Green | 0 |
Luminance Adjustment Magenta | 0 |
Luminance Adjustment Orange | 0 |
Luminance Adjustment Purple | 0 |
Luminance Adjustment Red | 0 |
Luminance Adjustment Yellow | 0 |
Luminance Smoothing | 0 |
Metering Mode | Spot |
Parametric Darks | 0 |
Parametric Highlight Split | 75 |
Parametric Highlights | 0 |
Parametric Lights | 0 |
Parametric Midtone Split | 50 |
Parametric Shadow Split | 25 |
Parametric Shadows | 0 |
Rating | 0 |
Raw File Name | P1210792 cr CRaw t-up, Boreal Chickadee, Bebo Grove.jpg |
Red Hue | 0 |
Red Saturation | 0 |
Saturation | Normal |
Saturation Adjustment Aqua | 0 |
Saturation Adjustment Blue | 0 |
Saturation Adjustment Green | 0 |
Saturation Adjustment Magenta | 0 |
Saturation Adjustment Orange | 0 |
Saturation Adjustment Purple | 0 |
Saturation Adjustment Red | 0 |
Saturation Adjustment Yellow | 0 |
Scale Factor To 35 mm Equivalent | 5.6 |
Scene Capture Type | Standard |
Scene Type | Directly photographed |
Sensing Method | One-chip color area |
Shadow Tint | 0 |
Shadows | 6 |
Sharpen Detail | 25 |
Sharpen Edge Masking | 0 |
Sharpen Radius | +1.0 |
Sharpness | Normal |
Split Toning Balance | 0 |
Split Toning Highlight Hue | 0 |
Split Toning Highlight Saturation | 0 |
Split Toning Shadow Hue | 0 |
Split Toning Shadow Saturation | 0 |
Tone Curve | 0, 0, 255, 255 |
Tone Curve Name | Linear |
Version | 4.2 |
Vibrance | +27 |
Vignette Amount | 0 |
White Balance | Auto |