Shooting information for this photo
Camera: | Panasonic DMC-FZ28 |
Exposure: | 0.00156 sec. (1/640) |
Aperture: | f/3.2 |
Focal Length: | 4.8 mm (35 mm equivalent: 27.0 mm) |
Flash: | Off, Did not fire |
Exposure mode: | Aperture-priority AE |
Max Aperture: | 2.8 |
Resolution: | 240 x 240 dpi |
Dimension: | 3234 x 2432 pixels |
Original Date: | 2009:08:06 11:40:58 |
Digitized Date: | 2009:08:06 11:40:58-06:00 |
Created on: | 2009:08:06 11:40:58 |
Modified on: | 2009:09:26 22:17:34 |
Software: | Adobe Photoshop Elements 6.0 Windows |
Already Applied | True |
Blue Hue | 0 |
Blue Saturation | 0 |
Brightness | 0 |
Camera Profile | Embedded |
Chromatic Aberration B | 0 |
Chromatic Aberration R | 0 |
Circle Of Confusion | 0.005 mm |
Clarity | 70 |
Color Mode | RGB |
Color Noise Reduction | 0 |
Color Space | sRGB |
Contrast | Normal |
Convert To Grayscale | False |
Custom Rendered | Custom |
Defringe | 0 |
Digital Zoom Ratio | 0 |
Exposure | 0.00 |
Exposure Compensation | -0.66 |
Exposure Mode | Auto |
Field Of View | 67.4 deg |
Fill Light | 0 |
Flash Fired | False |
Flash Function | False |
Flash Mode | Off |
Flash Red Eye Mode | False |
Flash Return | No return detection |
Focal Length In 35mm Format | 27 mm |
Format | image/jpeg |
Gain Control | None |
Green Hue | 0 |
Green Saturation | 0 |
Has Crop | False |
Has Settings | True |
Highlight Recovery | 0 |
Hue Adjustment Aqua | 0 |
Hue Adjustment Blue | 0 |
Hue Adjustment Green | 0 |
Hue Adjustment Magenta | 0 |
Hue Adjustment Orange | 0 |
Hue Adjustment Purple | 0 |
Hue Adjustment Red | 0 |
Hue Adjustment Yellow | 0 |
Hyperfocal Distance | 1.35 m |
ICC Profile Name | sRGB IEC61966-2.1 |
ISO | 100 |
Image Size | 3234x2432 |
Incremental Temperature | 0 |
Incremental Tint | 0 |
Light Source | Unknown |
Light Value | 12.7 |
Luminance Adjustment Aqua | 0 |
Luminance Adjustment Blue | 0 |
Luminance Adjustment Green | 0 |
Luminance Adjustment Magenta | 0 |
Luminance Adjustment Orange | 0 |
Luminance Adjustment Purple | 0 |
Luminance Adjustment Red | 0 |
Luminance Adjustment Yellow | 0 |
Luminance Smoothing | 0 |
Metering Mode | Spot |
Parametric Darks | 0 |
Parametric Highlight Split | 75 |
Parametric Highlights | 0 |
Parametric Lights | 0 |
Parametric Midtone Split | 50 |
Parametric Shadow Split | 25 |
Parametric Shadows | 0 |
Rating | 0 |
Raw File Name | P1210272 cr sh t-up, The Sickener, Bentz Lake Natural Area.jpg |
Red Hue | 0 |
Red Saturation | 0 |
Saturation | Normal |
Saturation Adjustment Aqua | 0 |
Saturation Adjustment Blue | 0 |
Saturation Adjustment Green | 0 |
Saturation Adjustment Magenta | 0 |
Saturation Adjustment Orange | 0 |
Saturation Adjustment Purple | 0 |
Saturation Adjustment Red | 0 |
Saturation Adjustment Yellow | 0 |
Scale Factor To 35 mm Equivalent | 5.6 |
Scene Capture Type | Standard |
Scene Type | Directly photographed |
Sensing Method | One-chip color area |
Shadow Tint | 0 |
Shadows | 0 |
Sharpen Detail | 25 |
Sharpen Edge Masking | 0 |
Sharpen Radius | +1.0 |
Sharpness | Normal |
Split Toning Balance | 0 |
Split Toning Highlight Hue | 0 |
Split Toning Highlight Saturation | 0 |
Split Toning Shadow Hue | 0 |
Split Toning Shadow Saturation | 0 |
Tone Curve | 0, 0, 255, 255 |
Tone Curve Name | Linear |
Version | 4.2 |
Vibrance | +16 |
Vignette Amount | 0 |
White Balance | Auto |