Shooting information for this photo
Camera: | OLYMPUS CORPORATION C750UZ |
Exposure: | 0.02 sec. (1/50) |
Aperture: | f/3.2 |
Focal Length: | 9.0 mm |
Flash: | Off, Did not fire |
Exposure mode: | Creative (Slow speed) |
Max Aperture: | 3.2 |
Resolution: | 240 x 240 dpi |
Dimension: | 1162 x 1511 pixels |
Original Date: | 2005:10:01 08:04:11 |
Digitized Date: | 2005:10:01 08:04:11-06:00 |
Created on: | 2005:10:01 08:04:11 |
Modified on: | 2012:02:29 23:55:43 |
Software: | Adobe Photoshop Elements 6.0 Windows |
Already Applied | True |
Blue Hue | 0 |
Blue Saturation | 0 |
Brightness | 0 |
Camera Profile | Embedded |
Chromatic Aberration B | 0 |
Chromatic Aberration R | 0 |
Clarity | 72 |
Color Mode | RGB |
Color Noise Reduction | 0 |
Color Space | sRGB |
Contrast | Normal |
Convert To Grayscale | False |
Custom Rendered | Custom |
Defringe | 0 |
Description | OLYMPUS DIGITAL CAMERA |
Digital Zoom Ratio | 0 |
Exposure | 0.00 |
Exposure Compensation | 0 |
Exposure Mode | Auto |
Fill Light | 0 |
Flash Fired | False |
Flash Function | False |
Flash Mode | Off |
Flash Red Eye Mode | False |
Flash Return | No return detection |
Format | image/jpeg |
Gain Control | Low gain up |
Green Hue | 0 |
Green Saturation | 0 |
Has Crop | False |
Has Settings | True |
Highlight Recovery | 0 |
Hue Adjustment Aqua | 0 |
Hue Adjustment Blue | 0 |
Hue Adjustment Green | 0 |
Hue Adjustment Magenta | 0 |
Hue Adjustment Orange | 0 |
Hue Adjustment Purple | 0 |
Hue Adjustment Red | 0 |
Hue Adjustment Yellow | 0 |
ICC Profile Name | sRGB IEC61966-2.1 |
ISO | 200 |
Image Description | OLYMPUS DIGITAL CAMERA |
Image Size | 1162x1511 |
Incremental Temperature | 0 |
Incremental Tint | 0 |
Light Source | Unknown |
Light Value | 8.0 |
Luminance Adjustment Aqua | 0 |
Luminance Adjustment Blue | 0 |
Luminance Adjustment Green | 0 |
Luminance Adjustment Magenta | 0 |
Luminance Adjustment Orange | 0 |
Luminance Adjustment Purple | 0 |
Luminance Adjustment Red | 0 |
Luminance Adjustment Yellow | 0 |
Luminance Smoothing | 0 |
Metering Mode | Multi-segment |
Parametric Darks | 0 |
Parametric Highlight Split | 75 |
Parametric Highlights | 0 |
Parametric Lights | 0 |
Parametric Midtone Split | 50 |
Parametric Shadow Split | 25 |
Parametric Shadows | 0 |
Rating | 0 |
Raw File Name | 299645879_ead8cf5331_o.jpg |
Red Hue | 0 |
Red Saturation | 0 |
Saturation | Normal |
Saturation Adjustment Aqua | 0 |
Saturation Adjustment Blue | 0 |
Saturation Adjustment Green | 0 |
Saturation Adjustment Magenta | 0 |
Saturation Adjustment Orange | 0 |
Saturation Adjustment Purple | 0 |
Saturation Adjustment Red | 0 |
Saturation Adjustment Yellow | 0 |
Scene Capture Type | Standard |
Scene Type | Directly photographed |
Shadow Tint | 0 |
Shadows | 0 |
Sharpen Detail | 25 |
Sharpen Edge Masking | 0 |
Sharpen Radius | +1.0 |
Sharpness | Normal |
Split Toning Balance | 0 |
Split Toning Highlight Hue | 0 |
Split Toning Highlight Saturation | 0 |
Split Toning Shadow Hue | 0 |
Split Toning Shadow Saturation | 0 |
Tone Curve | 0, 0, 255, 255 |
Tone Curve Name | Linear |
Version | 4.2 |
Vibrance | +17 |
Vignette Amount | 0 |
White Balance | Auto |