Shooting information for this photo
Camera: | Canon EOS 5D |
Exposure: | 0.04 sec. (1/25) |
Aperture: | f/13.0 |
Focal Length: | 105.0 mm (35 mm equivalent: 105.2 mm) |
Flash: | Off, Did not fire |
Exposure mode: | Program AE |
Max Aperture: | 4.0 |
Resolution: | 300 x 300 dpi |
Dimension: | 4368 x 2912 pixels |
Original Date: | 2006:04:09 12:19:14 |
Created on: | 2006:04:09 12:19:14 |
Modified on: | 2025:03:16 20:44:19 |
Software: | darktable 5.0.1 |
Already Applied | False |
Artist | Manuel Wesser |
Auto Lateral CA | 0 |
Auto presets applied | 1 |
Blacks 2012 | -14 |
Blue Hue | 0 |
Blue Saturation | 0 |
Camera Profile | ACR 3.3 |
Camera Serial Number | 630308275 |
Circle Of Confusion | 0.030 mm |
Clarity 2012 | 0 |
Color Grade Blending | 50 |
Color Grade Global Hue | 0 |
Color Grade Global Lum | 0 |
Color Grade Global Sat | 0 |
Color Grade Highlight Lum | 0 |
Color Grade Midtone Hue | 0 |
Color Grade Midtone Lum | 0 |
Color Grade Midtone Sat | 0 |
Color Grade Shadow Lum | 0 |
Color Noise Reduction | 15 |
Color Noise Reduction Detail | 50 |
Color Noise Reduction Smoothness | 50 |
Color Space | sRGB |
Color Temperature | 4800 |
Contrast 2012 | +7 |
Convert To Grayscale | False |
Creator | Manuel Wesser |
Custom Rendered | Normal |
DNG Lens Info | 24-105mm f/? |
Date Created | 2006:04:09 12:19:14+02:00 |
Defringe Green Amount | 0 |
Defringe Green Hue Hi | 60 |
Defringe Green Hue Lo | 40 |
Defringe Purple Amount | 0 |
Defringe Purple Hue Hi | 70 |
Defringe Purple Hue Lo | 30 |
Dehaze | 0 |
Derived From | 20060409_12_19_14_0401.dng |
Exposure 2012 | +0.17 |
Exposure Compensation | 0 |
Exposure Mode | Auto |
Field Of View | 19.4 deg |
Firmware | 1.0.3 |
Flash Compensation | 0 |
Grain Amount | 0 |
Grain Size | 50 |
Gray Mixer Aqua | -18 |
Gray Mixer Blue | +13 |
Gray Mixer Green | -27 |
Gray Mixer Magenta | +7 |
Gray Mixer Orange | -18 |
Gray Mixer Purple | +20 |
Gray Mixer Red | -7 |
Gray Mixer Yellow | -22 |
Green Hue | 0 |
Green Saturation | 0 |
Has Crop | False |
Has Settings | True |
Highlights 2012 | -55 |
Hue Adjustment Aqua | 0 |
Hue Adjustment Blue | 0 |
Hue Adjustment Green | 0 |
Hue Adjustment Magenta | 0 |
Hue Adjustment Orange | 0 |
Hue Adjustment Purple | 0 |
Hue Adjustment Red | 0 |
Hue Adjustment Yellow | 0 |
Hyperfocal Distance | 28.28 m |
ISO | 100 |
Image Number | 6 |
Image Size | 4368x2912 |
Image id | 2006-04-09_009.dng-2023:05:30 15:33:15 |
Iop order version | 4 |
Lens | EF24-105mm f/4L IS USM |
Lens ID | Canon EF 24-105mm f/4L IS |
Lens Info | 24-105mm f/? |
Lens Manual Distortion Amount | 0 |
Lens Model | EF24-105mm f/4L IS USM |
Lens Profile Enable | 0 |
Light Value | 12.0 |
Luminance Adjustment Aqua | 0 |
Luminance Adjustment Blue | 0 |
Luminance Adjustment Green | 0 |
Luminance Adjustment Magenta | 0 |
Luminance Adjustment Orange | 0 |
Luminance Adjustment Purple | 0 |
Luminance Adjustment Red | 0 |
Luminance Adjustment Yellow | 0 |
Luminance Noise Reduction Contrast | 50 |
Luminance Noise Reduction Detail | 50 |
Luminance Smoothing | 10 |
Metering Mode | Unknown |
Override Look Vignette | False |
Owner Name | Manuel Wesser |
Parametric Darks | 0 |
Parametric Highlight Split | 75 |
Parametric Highlights | 0 |
Parametric Lights | 0 |
Parametric Midtone Split | 50 |
Parametric Shadow Split | 25 |
Parametric Shadows | 0 |
Perspective Aspect | 0 |
Perspective Horizontal | 0 |
Perspective Rotate | 0.0 |
Perspective Scale | 100 |
Perspective Upright | 0 |
Perspective Vertical | 0 |
Perspective X | 0.00 |
Perspective Y | 0.00 |
Post Crop Vignette Amount | 0 |
Process Version | 11.0 |
Rating | 5 |
Raw params | 0 |
Red Hue | 0 |
Red Saturation | 0 |
Saturation | +4 |
Saturation Adjustment Aqua | 0 |
Saturation Adjustment Blue | 0 |
Saturation Adjustment Green | 0 |
Saturation Adjustment Magenta | 0 |
Saturation Adjustment Orange | 0 |
Saturation Adjustment Purple | 0 |
Saturation Adjustment Red | 0 |
Saturation Adjustment Yellow | 0 |
Saved Settings Name | Importieren |
Saved Settings Parameters Auto Lateral CA | 0 |
Saved Settings Parameters Blue Hue | 0 |
Saved Settings Parameters Blue Saturation | 0 |
Saved Settings Parameters Brightness | +50 |
Saved Settings Parameters Camera Profile | ACR 3.3 |
Saved Settings Parameters Clarity | 0 |
Saved Settings Parameters Color Noise Reduction | 15 |
Saved Settings Parameters Contrast | 0 |
Saved Settings Parameters Convert To Grayscale | False |
Saved Settings Parameters Defringe Green Amount | 0 |
Saved Settings Parameters Defringe Green Hue Hi | 60 |
Saved Settings Parameters Defringe Green Hue Lo | 40 |
Saved Settings Parameters Defringe Purple Amount | 0 |
Saved Settings Parameters Defringe Purple Hue Hi | 70 |
Saved Settings Parameters Defringe Purple Hue Lo | 30 |
Saved Settings Parameters Exposure | 0.00 |
Saved Settings Parameters Fill Light | 0 |
Saved Settings Parameters Grain Amount | 0 |
Saved Settings Parameters Grain Size | 50 |
Saved Settings Parameters Green Hue | 0 |
Saved Settings Parameters Green Saturation | 0 |
Saved Settings Parameters Highlight Recovery | 0 |
Saved Settings Parameters Hue Adjustment Aqua | 0 |
Saved Settings Parameters Hue Adjustment Blue | 0 |
Saved Settings Parameters Hue Adjustment Green | 0 |
Saved Settings Parameters Hue Adjustment Magenta | 0 |
Saved Settings Parameters Hue Adjustment Orange | 0 |
Saved Settings Parameters Hue Adjustment Purple | 0 |
Saved Settings Parameters Hue Adjustment Red | 0 |
Saved Settings Parameters Hue Adjustment Yellow | 0 |
Saved Settings Parameters Lens Manual Distortion Amount | 0 |
Saved Settings Parameters Lens Profile Enable | 0 |
Saved Settings Parameters Luminance Adjustment Aqua | 0 |
Saved Settings Parameters Luminance Adjustment Blue | 0 |
Saved Settings Parameters Luminance Adjustment Green | 0 |
Saved Settings Parameters Luminance Adjustment Magenta | 0 |
Saved Settings Parameters Luminance Adjustment Orange | 0 |
Saved Settings Parameters Luminance Adjustment Purple | 0 |
Saved Settings Parameters Luminance Adjustment Red | 0 |
Saved Settings Parameters Luminance Adjustment Yellow | 0 |
Saved Settings Parameters Luminance Noise Reduction Contrast | 50 |
Saved Settings Parameters Luminance Smoothing | 10 |
Saved Settings Parameters Override Look Vignette | False |
Saved Settings Parameters Parametric Darks | -8 |
Saved Settings Parameters Parametric Highlight Split | 75 |
Saved Settings Parameters Parametric Highlights | +3 |
Saved Settings Parameters Parametric Lights | +8 |
Saved Settings Parameters Parametric Midtone Split | 50 |
Saved Settings Parameters Parametric Shadow Split | 25 |
Saved Settings Parameters Parametric Shadows | -25 |
Saved Settings Parameters Perspective Aspect | 0 |
Saved Settings Parameters Perspective Horizontal | 0 |
Saved Settings Parameters Perspective Rotate | 0.0 |
Saved Settings Parameters Perspective Scale | 100 |
Saved Settings Parameters Perspective Upright | 0 |
Saved Settings Parameters Perspective Vertical | 0 |
Saved Settings Parameters Perspective X | 0.00 |
Saved Settings Parameters Perspective Y | 0.00 |
Saved Settings Parameters Post Crop Vignette Amount | 0 |
Saved Settings Parameters Process Version | 5.0 |
Saved Settings Parameters Red Hue | 0 |
Saved Settings Parameters Red Saturation | 0 |
Saved Settings Parameters Saturation | 0 |
Saved Settings Parameters Saturation Adjustment Aqua | 0 |
Saved Settings Parameters Saturation Adjustment Blue | 0 |
Saved Settings Parameters Saturation Adjustment Green | 0 |
Saved Settings Parameters Saturation Adjustment Magenta | 0 |
Saved Settings Parameters Saturation Adjustment Orange | 0 |
Saved Settings Parameters Saturation Adjustment Purple | 0 |
Saved Settings Parameters Saturation Adjustment Red | 0 |
Saved Settings Parameters Saturation Adjustment Yellow | 0 |
Saved Settings Parameters Shadow Tint | 0 |
Saved Settings Parameters Shadows | 5 |
Saved Settings Parameters Sharpen Detail | 25 |
Saved Settings Parameters Sharpen Edge Masking | 0 |
Saved Settings Parameters Sharpen Radius | +1.0 |
Saved Settings Parameters Sharpness | 20 |
Saved Settings Parameters Split Toning Balance | 0 |
Saved Settings Parameters Split Toning Highlight Hue | 0 |
Saved Settings Parameters Split Toning Highlight Saturation | 0 |
Saved Settings Parameters Split Toning Shadow Hue | 0 |
Saved Settings Parameters Split Toning Shadow Saturation | 0 |
Saved Settings Parameters Temperature | 4800 |
Saved Settings Parameters Tint | +2 |
Saved Settings Parameters Tone Curve | 0, 0, 32, 22, 64, 56, 128, 128, 192, 196, 255, 255 |
Saved Settings Parameters Tone Curve Blue | 0, 0, 255, 255 |
Saved Settings Parameters Tone Curve Green | 0, 0, 255, 255 |
Saved Settings Parameters Tone Curve Name | Medium Contrast |
Saved Settings Parameters Tone Curve Red | 0, 0, 255, 255 |
Saved Settings Parameters Version | 15.3 |
Saved Settings Parameters Vibrance | +15 |
Saved Settings Parameters Vignette Amount | 0 |
Saved Settings Parameters White Balance | As Shot |
Saved Settings Type | Snapshot |
Scale Factor To 35 mm Equivalent | 1.0 |
Scene Capture Type | Standard |
Shadow Tint | 0 |
Shadows 2012 | +35 |
Sharpen Detail | 25 |
Sharpen Edge Masking | 0 |
Sharpen Radius | +1.0 |
Sharpness | 20 |
Split Toning Balance | 0 |
Split Toning Highlight Hue | 0 |
Split Toning Highlight Saturation | 0 |
Split Toning Shadow Hue | 0 |
Split Toning Shadow Saturation | 0 |
Subfile Type | Reduced-resolution image |
Subject | Maxičky, Ort |
Texture | 0 |
Tint | +2 |
Tone Curve Name 2012 | Linear |
Tone Curve PV2012 | 0, 0, 255, 255 |
Tone Curve PV2012 Blue | 0, 0, 255, 255 |
Tone Curve PV2012 Green | 0, 0, 255, 255 |
Tone Curve PV2012 Red | 0, 0, 255, 255 |
Unique Camera Model | Canon EOS 5D |
Version | 15.3 |
Vibrance | +20 |
Vignette Amount | 0 |
Weighted Flat Subject | Maxičky, Ort |
White Balance | Auto |
Whites 2012 | +23 |
Xmp version | 5 |