Shooting information for this photo
Camera: | Canon EOS 5D |
Exposure: | 0.00016 sec. (1/6400) |
Aperture: | f/5.6 |
Focal Length: | 400.0 mm (35 mm equivalent: 400.8 mm) |
Flash: | Off, Did not fire |
Exposure mode: | Aperture-priority AE |
Max Aperture: | 5.7 |
Resolution: | 300 x 300 dpi |
Dimension: | 1199 x 799 pixels |
Original Date: | 2006:07:01 11:08:31 |
Created on: | 2006:07:01 11:08:31 |
Modified on: | 2025:03:15 18:19:53 |
Software: | darktable 5.0.1 |
Already Applied | False |
Artist | Manuel Wesser |
Auto Lateral CA | 0 |
Auto presets applied | 1 |
Blacks 2012 | 0 |
Blue Hue | 0 |
Blue Saturation | 0 |
Camera Profile | ACR 3.3 |
Camera Serial Number | 630308275 |
Circle Of Confusion | 0.030 mm |
Clarity 2012 | 0 |
Color Grade Blending | 50 |
Color Grade Global Hue | 0 |
Color Grade Global Lum | 0 |
Color Grade Global Sat | 0 |
Color Grade Highlight Lum | 0 |
Color Grade Midtone Hue | 0 |
Color Grade Midtone Lum | 0 |
Color Grade Midtone Sat | 0 |
Color Grade Shadow Lum | 0 |
Color Noise Reduction | 30 |
Color Noise Reduction Detail | 50 |
Color Noise Reduction Smoothness | 50 |
Color Space | sRGB |
Color Temperature | 5600 |
Contrast | 0 |
Contrast 2012 | -33 |
Convert To Grayscale | False |
Creator | Manuel Wesser |
Crop Angle | 0 |
Crop Bottom | 0.627828 |
Crop Constrain To Warp | 0 |
Crop Left | 0.337858 |
Crop Right | 0.479638 |
Crop Top | 0.415158 |
Custom Rendered | Normal |
DNG Lens Info | 100-400mm f/? |
Date Created | 2006:07:01 11:08:31+02:00 |
Defringe Green Amount | 0 |
Defringe Green Hue Hi | 60 |
Defringe Green Hue Lo | 40 |
Defringe Purple Amount | 0 |
Defringe Purple Hue Hi | 70 |
Defringe Purple Hue Lo | 30 |
Dehaze | 0 |
Derived From | 20060701_11_08_31_1372.dng |
Exposure 2012 | 0.00 |
Exposure Compensation | 0 |
Exposure Mode | Auto |
Field Of View | 5.1 deg |
Firmware | 1.0.5 |
Flash Compensation | 0 |
Grain Amount | 0 |
Grain Size | 50 |
Gray Mixer Aqua | -13 |
Gray Mixer Blue | +22 |
Gray Mixer Green | -30 |
Gray Mixer Magenta | +5 |
Gray Mixer Orange | -23 |
Gray Mixer Purple | +24 |
Gray Mixer Red | -13 |
Gray Mixer Yellow | -28 |
Green Hue | 0 |
Green Saturation | 0 |
Has Crop | True |
Has Settings | True |
Highlights 2012 | 0 |
Hue Adjustment Aqua | 0 |
Hue Adjustment Blue | 0 |
Hue Adjustment Green | 0 |
Hue Adjustment Magenta | 0 |
Hue Adjustment Orange | 0 |
Hue Adjustment Purple | 0 |
Hue Adjustment Red | 0 |
Hue Adjustment Yellow | 0 |
Hyperfocal Distance | 952.89 m |
ISO | 800 |
Image Number | 19 |
Image Size | 1199x799 |
Image id | 2006-07-01_016.dng-2023:05:30 15:38:31 |
Iop order version | 4 |
Lens | EF100-400mm f/4.5-5.6L IS USM |
Lens ID | Canon EF 100-400mm f/4.5-5.6L IS |
Lens Info | 100-400mm f/? |
Lens Manual Distortion Amount | 0 |
Lens Model | EF100-400mm f/4.5-5.6L IS USM |
Lens Profile Enable | 0 |
Light Value | 14.6 |
Luminance Adjustment Aqua | 0 |
Luminance Adjustment Blue | 0 |
Luminance Adjustment Green | 0 |
Luminance Adjustment Magenta | 0 |
Luminance Adjustment Orange | 0 |
Luminance Adjustment Purple | 0 |
Luminance Adjustment Red | 0 |
Luminance Adjustment Yellow | 0 |
Luminance Noise Reduction Contrast | 50 |
Luminance Noise Reduction Detail | 50 |
Luminance Smoothing | 50 |
Metering Mode | Unknown |
Override Look Vignette | False |
Owner Name | Manuel Wesser |
Parametric Darks | -8 |
Parametric Highlight Split | 75 |
Parametric Highlights | +3 |
Parametric Lights | +8 |
Parametric Midtone Split | 50 |
Parametric Shadow Split | 25 |
Parametric Shadows | -25 |
Perspective Aspect | 0 |
Perspective Horizontal | 0 |
Perspective Rotate | 0.0 |
Perspective Scale | 100 |
Perspective Upright | 0 |
Perspective Vertical | 0 |
Perspective X | 0.00 |
Perspective Y | 0.00 |
Post Crop Vignette Amount | 0 |
Process Version | 11.0 |
Rating | 2 |
Raw params | 0 |
Red Hue | 0 |
Red Saturation | 0 |
Saturation | 0 |
Saturation Adjustment Aqua | 0 |
Saturation Adjustment Blue | 0 |
Saturation Adjustment Green | 0 |
Saturation Adjustment Magenta | 0 |
Saturation Adjustment Orange | 0 |
Saturation Adjustment Purple | 0 |
Saturation Adjustment Red | 0 |
Saturation Adjustment Yellow | 0 |
Saved Settings Name | Importieren |
Saved Settings Parameters Auto Lateral CA | 0 |
Saved Settings Parameters Blue Hue | 0 |
Saved Settings Parameters Blue Saturation | 0 |
Saved Settings Parameters Brightness | +50 |
Saved Settings Parameters Camera Profile | ACR 3.3 |
Saved Settings Parameters Clarity | 0 |
Saved Settings Parameters Color Noise Reduction | 30 |
Saved Settings Parameters Contrast | 0 |
Saved Settings Parameters Convert To Grayscale | False |
Saved Settings Parameters Crop Angle | 0 |
Saved Settings Parameters Crop Bottom | 0.627828 |
Saved Settings Parameters Crop Constrain To Warp | 0 |
Saved Settings Parameters Crop Left | 0.337858 |
Saved Settings Parameters Crop Right | 0.479638 |
Saved Settings Parameters Crop Top | 0.415158 |
Saved Settings Parameters Defringe Green Amount | 0 |
Saved Settings Parameters Defringe Green Hue Hi | 60 |
Saved Settings Parameters Defringe Green Hue Lo | 40 |
Saved Settings Parameters Defringe Purple Amount | 0 |
Saved Settings Parameters Defringe Purple Hue Hi | 70 |
Saved Settings Parameters Defringe Purple Hue Lo | 30 |
Saved Settings Parameters Exposure | 0.00 |
Saved Settings Parameters Fill Light | 0 |
Saved Settings Parameters Grain Amount | 0 |
Saved Settings Parameters Grain Size | 50 |
Saved Settings Parameters Green Hue | 0 |
Saved Settings Parameters Green Saturation | 0 |
Saved Settings Parameters Highlight Recovery | 0 |
Saved Settings Parameters Hue Adjustment Aqua | 0 |
Saved Settings Parameters Hue Adjustment Blue | 0 |
Saved Settings Parameters Hue Adjustment Green | 0 |
Saved Settings Parameters Hue Adjustment Magenta | 0 |
Saved Settings Parameters Hue Adjustment Orange | 0 |
Saved Settings Parameters Hue Adjustment Purple | 0 |
Saved Settings Parameters Hue Adjustment Red | 0 |
Saved Settings Parameters Hue Adjustment Yellow | 0 |
Saved Settings Parameters Lens Manual Distortion Amount | 0 |
Saved Settings Parameters Lens Profile Enable | 0 |
Saved Settings Parameters Luminance Adjustment Aqua | 0 |
Saved Settings Parameters Luminance Adjustment Blue | 0 |
Saved Settings Parameters Luminance Adjustment Green | 0 |
Saved Settings Parameters Luminance Adjustment Magenta | 0 |
Saved Settings Parameters Luminance Adjustment Orange | 0 |
Saved Settings Parameters Luminance Adjustment Purple | 0 |
Saved Settings Parameters Luminance Adjustment Red | 0 |
Saved Settings Parameters Luminance Adjustment Yellow | 0 |
Saved Settings Parameters Luminance Noise Reduction Contrast | 50 |
Saved Settings Parameters Luminance Smoothing | 50 |
Saved Settings Parameters Override Look Vignette | False |
Saved Settings Parameters Parametric Darks | -8 |
Saved Settings Parameters Parametric Highlight Split | 75 |
Saved Settings Parameters Parametric Highlights | +3 |
Saved Settings Parameters Parametric Lights | +8 |
Saved Settings Parameters Parametric Midtone Split | 50 |
Saved Settings Parameters Parametric Shadow Split | 25 |
Saved Settings Parameters Parametric Shadows | -25 |
Saved Settings Parameters Perspective Aspect | 0 |
Saved Settings Parameters Perspective Horizontal | 0 |
Saved Settings Parameters Perspective Rotate | 0.0 |
Saved Settings Parameters Perspective Scale | 100 |
Saved Settings Parameters Perspective Upright | 0 |
Saved Settings Parameters Perspective Vertical | 0 |
Saved Settings Parameters Perspective X | 0.00 |
Saved Settings Parameters Perspective Y | 0.00 |
Saved Settings Parameters Post Crop Vignette Amount | 0 |
Saved Settings Parameters Process Version | 5.0 |
Saved Settings Parameters Red Hue | 0 |
Saved Settings Parameters Red Saturation | 0 |
Saved Settings Parameters Saturation | 0 |
Saved Settings Parameters Saturation Adjustment Aqua | 0 |
Saved Settings Parameters Saturation Adjustment Blue | 0 |
Saved Settings Parameters Saturation Adjustment Green | 0 |
Saved Settings Parameters Saturation Adjustment Magenta | 0 |
Saved Settings Parameters Saturation Adjustment Orange | 0 |
Saved Settings Parameters Saturation Adjustment Purple | 0 |
Saved Settings Parameters Saturation Adjustment Red | 0 |
Saved Settings Parameters Saturation Adjustment Yellow | 0 |
Saved Settings Parameters Shadow Tint | 0 |
Saved Settings Parameters Shadows | 5 |
Saved Settings Parameters Sharpen Detail | 25 |
Saved Settings Parameters Sharpen Edge Masking | 0 |
Saved Settings Parameters Sharpen Radius | +1.0 |
Saved Settings Parameters Sharpness | 40 |
Saved Settings Parameters Split Toning Balance | 0 |
Saved Settings Parameters Split Toning Highlight Hue | 0 |
Saved Settings Parameters Split Toning Highlight Saturation | 0 |
Saved Settings Parameters Split Toning Shadow Hue | 0 |
Saved Settings Parameters Split Toning Shadow Saturation | 0 |
Saved Settings Parameters Temperature | 5600 |
Saved Settings Parameters Tint | -1 |
Saved Settings Parameters Tone Curve | 0, 0, 32, 22, 64, 56, 128, 128, 192, 196, 255, 255 |
Saved Settings Parameters Tone Curve Blue | 0, 0, 255, 255 |
Saved Settings Parameters Tone Curve Green | 0, 0, 255, 255 |
Saved Settings Parameters Tone Curve Name | Medium Contrast |
Saved Settings Parameters Tone Curve Red | 0, 0, 255, 255 |
Saved Settings Parameters Version | 15.3 |
Saved Settings Parameters Vibrance | +5 |
Saved Settings Parameters Vignette Amount | 0 |
Saved Settings Parameters White Balance | As Shot |
Saved Settings Type | Snapshot |
Scale Factor To 35 mm Equivalent | 1.0 |
Scene Capture Type | Standard |
Shadow Tint | 0 |
Shadows 2012 | 0 |
Sharpen Detail | 25 |
Sharpen Edge Masking | 0 |
Sharpen Radius | +1.0 |
Sharpness | 40 |
Split Toning Balance | 0 |
Split Toning Highlight Hue | 0 |
Split Toning Highlight Saturation | 0 |
Split Toning Shadow Hue | 0 |
Split Toning Shadow Saturation | 0 |
Subfile Type | Reduced-resolution image |
Subject | Mauersegler, Mehlschwalbe, Natur, Tier, Vogel |
Texture | 0 |
Tint | -1 |
Tone Curve Name 2012 | Linear |
Tone Curve PV2012 | 0, 0, 255, 255 |
Tone Curve PV2012 Blue | 0, 0, 255, 255 |
Tone Curve PV2012 Green | 0, 0, 255, 255 |
Tone Curve PV2012 Red | 0, 0, 255, 255 |
Unique Camera Model | Canon EOS 5D |
Version | 15.3 |
Vibrance | +5 |
Vignette Amount | 0 |
Weighted Flat Subject | Mauersegler, Vogel, Tier, Natur, Mehlschwalbe |
White Balance | Auto |
Whites 2012 | 0 |
Xmp version | 5 |