Shooting information for this photo
Camera: | Canon EOS 7D |
Exposure: | 0.125 sec. (1/8) |
Aperture: | f/8.0 |
Focal Length: | 35.0 mm (35 mm equivalent: 55.0 mm) |
Flash: | Off, Did not fire |
Exposure mode: | Manual |
Max Aperture: | 4.6 |
Resolution: | 300 x 300 dpi |
Original Date: | 2025:03:22 23:56:50.13 |
Created on: | 2025:03:22 23:56:50.13 |
Modified on: | 2025:03:26 19:13:25 |
Software: | Adobe Photoshop Lightroom Classic 14.1.1 (Windows) |
Copyright: | by Studio MT |
Adobe White Level | 26700 |
Already Applied | True |
Approximate Focus Distance | 655.35 |
Auto Lateral CA | 0 |
Blacks 2012 | 0 |
Blue Hue | 0 |
Blue Saturation | 0 |
Camera Profile | Adobe Standard |
Circle Of Confusion | 0.019 mm |
Clarity 2012 | +12 |
Color Grade Blending | 50 |
Color Grade Global Hue | 0 |
Color Grade Global Lum | 0 |
Color Grade Global Sat | 0 |
Color Grade Highlight Lum | 0 |
Color Grade Midtone Hue | 0 |
Color Grade Midtone Lum | 0 |
Color Grade Midtone Sat | 0 |
Color Grade Shadow Lum | -11 |
Color Noise Reduction | 0 |
Color Space | sRGB |
Color Temperature | 6300 |
Contrast 2012 | 0 |
Crop Angle | 0 |
Crop Bottom | 1 |
Crop Constrain To Warp | 0 |
Crop Left | 0 |
Crop Right | 1 |
Crop Top | 0 |
Curve Refine Saturation | 100 |
Custom Rendered | Normal |
Date Created | 2025:03:22 23:56:50.13+02:00 |
Defringe Green Amount | 0 |
Defringe Green Hue Hi | 60 |
Defringe Green Hue Lo | 40 |
Defringe Purple Amount | 0 |
Defringe Purple Hue Hi | 70 |
Defringe Purple Hue Lo | 30 |
Dehaze | -3 |
Depth Of Field | inf (7.91 m - inf) |
Exposure 2012 | 0.00 |
Exposure Compensation | 0 |
Exposure Mode | Manual |
Field Of View | 36.3 deg |
Firmware | 2.0.5 |
Flash Compensation | 0 |
Format | image/jpeg |
Grain Amount | 0 |
Green Hue | 0 |
Green Saturation | 0 |
HDR Edit Mode | 0 |
Has Crop | False |
Has Settings | True |
Highlights 2012 | 0 |
Hue Adjustment Aqua | -15 |
Hue Adjustment Blue | -13 |
Hue Adjustment Green | 0 |
Hue Adjustment Magenta | 0 |
Hue Adjustment Orange | -10 |
Hue Adjustment Purple | 0 |
Hue Adjustment Red | 0 |
Hue Adjustment Yellow | 0 |
Hyperfocal Distance | 8.00 m |
ISO | 6400 |
Image Number | 0 |
Image Size | 3000x2000 |
Lens | EF-S18-55mm f/3.5-5.6 IS II |
Lens ID | Canon EF-S 18-55mm f/3.5-5.6 IS II |
Lens Info | 18-55mm f/? |
Lens Manual Distortion Amount | 0 |
Lens Model | EF-S18-55mm f/3.5-5.6 IS II |
Lens Profile Enable | 0 |
Light Value | 3.0 |
Look Amount | 1 |
Look Cluster | Adobe |
Look Copyright | © 2018 Adobe Systems, Inc. |
Look Group | Modern |
Look Name | Modern 03 |
Look Parameters Clarity 2012 | +4 |
Look Parameters Color Grade Blending | 100 |
Look Parameters Color Grade Global Hue | 0 |
Look Parameters Color Grade Global Lum | 0 |
Look Parameters Color Grade Global Sat | 0 |
Look Parameters Color Grade Highlight Lum | 0 |
Look Parameters Color Grade Midtone Hue | 0 |
Look Parameters Color Grade Midtone Lum | 0 |
Look Parameters Color Grade Midtone Sat | 0 |
Look Parameters Color Grade Shadow Lum | 0 |
Look Parameters Convert To Grayscale | False |
Look Parameters Highlights 2012 | -8 |
Look Parameters Look Table | E1095149FDB39D7A057BAB208837E2 E1 |
Look Parameters Luminance Adjustment Orange | -7 |
Look Parameters Post Crop Vignette Amount | -8 |
Look Parameters Post Crop Vignette Feather | 50 |
Look Parameters Post Crop Vignette Highlight Contrast | 0 |
Look Parameters Post Crop Vignette Midpoint | 50 |
Look Parameters Post Crop Vignette Roundness | 0 |
Look Parameters Post Crop Vignette Style | 1 |
Look Parameters Process Version | 15.4 |
Look Parameters Saturation | -20 |
Look Parameters Saturation Adjustment Orange | -14 |
Look Parameters Shadows 2012 | +4 |
Look Parameters Split Toning Balance | 0 |
Look Parameters Split Toning Highlight Hue | 0 |
Look Parameters Split Toning Highlight Saturation | 0 |
Look Parameters Split Toning Shadow Hue | 44 |
Look Parameters Split Toning Shadow Saturation | 25 |
Look Parameters Tone Curve PV2012 | 0, 0, 32, 22, 64, 56, 128, 128, 192, 196, 255, 255 |
Look Parameters Tone Curve PV2012 Blue | 0, 0, 255, 255 |
Look Parameters Tone Curve PV2012 Green | 0, 0, 255, 255 |
Look Parameters Tone Curve PV2012 Red | 0, 0, 255, 255 |
Look Parameters Version | 17.1 |
Look Supports Monochrome | false |
Luminance Adjustment Aqua | +6 |
Luminance Adjustment Blue | +11 |
Luminance Adjustment Green | 0 |
Luminance Adjustment Magenta | 0 |
Luminance Adjustment Orange | -5 |
Luminance Adjustment Purple | 0 |
Luminance Adjustment Red | 0 |
Luminance Adjustment Yellow | -11 |
Luminance Smoothing | 0 |
Metering Mode | Multi-segment |
Override Look Vignette | False |
Parametric Darks | 0 |
Parametric Highlight Split | 75 |
Parametric Highlights | 0 |
Parametric Lights | 0 |
Parametric Midtone Split | 50 |
Parametric Shadow Split | 25 |
Parametric Shadows | 0 |
Perspective Aspect | 0 |
Perspective Horizontal | 0 |
Perspective Rotate | 0.0 |
Perspective Scale | 100 |
Perspective Upright | 0 |
Perspective Vertical | 0 |
Perspective X | 0.00 |
Perspective Y | 0.00 |
Pick | 0 |
Point Colors | -1.000000, -1.000000, -1.000000, -1.000000, -1.000000, -1.000000, -1.000000, -1.000000, -1.000000, -1.000000, -1.000000, -1.000000, -1.000000, -1.000000, -1.000000, -1.000000, -1.000000, -1.000000, -1.000000 |
Post Crop Vignette Amount | 0 |
Post Crop Vignette Style | 1 |
Preserved File Name | IMG_4779.CR2 |
Process Version | 15.4 |
Rating Percent | 0 |
Raw File Name | IMG_4779_DxO.dng |
Recommended Exposure Index | 6400 |
Red Hue | 0 |
Red Saturation | 0 |
Rights | by Studio MT |
Saturation | -5 |
Saturation Adjustment Aqua | -20 |
Saturation Adjustment Blue | -25 |
Saturation Adjustment Green | +3 |
Saturation Adjustment Magenta | -40 |
Saturation Adjustment Orange | -8 |
Saturation Adjustment Purple | -40 |
Saturation Adjustment Red | 0 |
Saturation Adjustment Yellow | -12 |
Scale Factor To 35 mm Equivalent | 1.6 |
Scene Capture Type | Standard |
Sensitivity Type | Recommended Exposure Index |
Shadow Tint | 0 |
Shadows 2012 | 0 |
Sharpness | 0 |
Split Toning Balance | 0 |
Split Toning Highlight Hue | 0 |
Split Toning Highlight Saturation | 0 |
Split Toning Shadow Hue | 96 |
Split Toning Shadow Saturation | 5 |
Subject Distance | 655.35 m |
Texture | 0 |
Tint | +65 |
Tone Curve Name 2012 | Custom |
Tone Curve PV2012 | 6, 15, 38, 37, 72, 73, 117, 128, 197, 193, 255, 243 |
Tone Curve PV2012 Blue | 0, 0, 255, 255 |
Tone Curve PV2012 Green | 0, 0, 255, 255 |
Tone Curve PV2012 Red | 0, 0, 255, 255 |
Version | 17.1 |
Vibrance | +10 |
Vignette Amount | 0 |
White Balance | Auto |
White Level | 32767 |
Whites 2012 | 0 |