Shooting information for this photo
Camera: | Canon EOS 5D Mark III |
Exposure: | 0.00025 sec. (1/4000) |
Aperture: | f/2.5 |
Focal Length: | 50.0 mm (35 mm equivalent: 50.0 mm) |
Flash: | Off, Did not fire |
Exposure mode: | Aperture-priority AE |
Max Aperture: | 1.4 |
Resolution: | 240 x 240 dpi |
Dimension: | 5760 x 3840 pixels |
Original Date: | 2018:04:30 17:01:02.19 |
Created on: | 2018:04:30 17:01:02.19 |
Modified on: | 2024:09:08 14:53:56.861 |
Software: | ACD Systems Digital Imaging |
Already Applied | True |
Auto Lateral CA | 0 |
Auto White Version | 134348800 |
Blacks 2012 | -62 |
Blue Hue | -44 |
Blue Saturation | -100 |
Camera Profile | Camera Standard |
Circle Of Confusion | 0.030 mm |
Clarity 2012 | +11 |
Color Mode | RGB |
Color Noise Reduction | 25 |
Color Noise Reduction Detail | 50 |
Color Noise Reduction Smoothness | 50 |
Color Space | sRGB |
Color Temperature | 4553 |
Contrast 2012 | +85 |
Convert To Grayscale | False |
Custom Rendered | Normal |
Date Created | 2018:04:30 17:01:02.019 |
Defringe Green Amount | 0 |
Defringe Green Hue Hi | 60 |
Defringe Green Hue Lo | 40 |
Defringe Purple Amount | 0 |
Defringe Purple Hue Hi | 70 |
Defringe Purple Hue Lo | 30 |
Exposure 2012 | -0.43 |
Exposure Compensation | 0 |
Exposure Mode | Auto |
Field Of View | 39.6 deg |
Firmware | 1.2.3 |
Flash Compensation | 0 |
Format | image/jpeg |
Gradient Based Corr Active | true |
Gradient Based Corr Amount | 1.000000 |
Gradient Based Corr Brightness | 0.000000 |
Gradient Based Corr Hue | 240.000000 |
Gradient Based Corr Mask Full X | 0.066359 |
Gradient Based Corr Mask Full Y | 1.001160 |
Gradient Based Corr Mask Value | 1.000000 |
Gradient Based Corr Mask What | Mask/Gradient |
Gradient Based Corr Mask Zero X | 0.194053 |
Gradient Based Corr Mask Zero Y | 0.691496 |
Gradient Based Corr Saturation | 0.000000 |
Gradient Based Corr Sharpness | 0.250000 |
Gradient Based Corr What | Correction |
Grain Amount | 0 |
Green Hue | +44 |
Green Saturation | +100 |
Has Crop | False |
Has Settings | True |
Highlights 2012 | -40 |
Hue Adjustment Aqua | +36 |
Hue Adjustment Blue | -2 |
Hue Adjustment Green | -35 |
Hue Adjustment Magenta | 0 |
Hue Adjustment Orange | 0 |
Hue Adjustment Purple | -2 |
Hue Adjustment Red | 0 |
Hue Adjustment Yellow | -19 |
Hyperfocal Distance | 33.28 m |
ICC Profile Name | sRGB IEC61966-2.1 |
ISO | 100 |
Image Number | 0 |
Image Size | 5760x3840 |
Lens | EF50mm f/1.4 USM |
Lens ID | Canon EF 50mm f/1.4 USM |
Lens Info | 50mm f/? |
Lens Manual Distortion Amount | 0 |
Lens Profile Enable | 0 |
Lens Profile Setup | LensDefaults |
Light Value | 14.6 |
Luminance Adjustment Aqua | -46 |
Luminance Adjustment Blue | -39 |
Luminance Adjustment Green | 0 |
Luminance Adjustment Magenta | 0 |
Luminance Adjustment Orange | +89 |
Luminance Adjustment Purple | 0 |
Luminance Adjustment Red | +39 |
Luminance Adjustment Yellow | +98 |
Luminance Noise Reduction Contrast | 52 |
Luminance Noise Reduction Detail | 50 |
Luminance Smoothing | 49 |
Metering Mode | Multi-segment |
Parametric Darks | +54 |
Parametric Highlight Split | 87 |
Parametric Highlights | +11 |
Parametric Lights | +9 |
Parametric Midtone Split | 50 |
Parametric Shadow Split | 10 |
Parametric Shadows | +79 |
Perspective Aspect | 0 |
Perspective Horizontal | 0 |
Perspective Rotate | 0.0 |
Perspective Scale | 100 |
Perspective Upright | 0 |
Perspective Vertical | 0 |
Post Crop Vignette Amount | -14 |
Post Crop Vignette Feather | 100 |
Post Crop Vignette Highlight Contrast | 100 |
Post Crop Vignette Midpoint | 27 |
Post Crop Vignette Roundness | +100 |
Post Crop Vignette Style | 1 |
Process Version | 6.7 |
Red Hue | +60 |
Red Saturation | 0 |
Saturation | -34 |
Saturation Adjustment Aqua | +37 |
Saturation Adjustment Blue | -53 |
Saturation Adjustment Green | 0 |
Saturation Adjustment Magenta | 0 |
Saturation Adjustment Orange | +47 |
Saturation Adjustment Purple | 0 |
Saturation Adjustment Red | +50 |
Saturation Adjustment Yellow | -57 |
Scale Factor To 35 mm Equivalent | 1.0 |
Scene Capture Type | Standard |
Shadow Tint | -58 |
Shadows 2012 | +100 |
Sharpen Detail | 22 |
Sharpen Edge Masking | 54 |
Sharpen Radius | +0.8 |
Sharpness | 98 |
Split Toning Balance | +48 |
Split Toning Highlight Hue | 42 |
Split Toning Highlight Saturation | 22 |
Split Toning Shadow Hue | 140 |
Split Toning Shadow Saturation | 0 |
Tint | +16 |
Tone Curve | 0, 0, 255, 255 |
Tone Curve Blue | 0, 0, 255, 255 |
Tone Curve Green | 0, 0, 255, 255 |
Tone Curve Name | Linear |
Tone Curve Name 2012 | Custom |
Tone Curve PV2012 | 0, 16, 47, 43, 193, 193, 255, 243 |
Tone Curve PV2012 Blue | 0, 14, 102, 102, 192, 191, 255, 255 |
Tone Curve PV2012 Green | 0, 0, 255, 255 |
Tone Curve PV2012 Red | 0, 0, 74, 80, 203, 199, 255, 255 |
Tone Curve Red | 0, 0, 255, 255 |
Version | 8.7.1 |
Vibrance | +89 |
Vignette Amount | +10 |
Vignette Midpoint | 50 |
White Balance | Auto |
Whites 2012 | +12 |