Shooting information for this photo
Camera: | Canon EOS 5D Mark III |
Exposure: | 0.00125 sec. (1/800) |
Aperture: | f/2.5 |
Focal Length: | 50.0 mm (35 mm equivalent: 51.1 mm) |
Flash: | Off, Did not fire |
Exposure mode: | Aperture-priority AE |
Max Aperture: | 1.4 |
Resolution: | 240 x 240 dpi |
Dimension: | 5632 x 3755 pixels |
Original Date: | 2018:04:30 16:16:14.61 |
Digitized Date: | 2018:04:30 16:16:14+03:00 |
Created on: | 2018:04:30 16:16:14.61 |
Modified on: | 2024:09:08 14:53:51.327 |
Software: | ACD Systems Digital Imaging |
Already Applied | True |
Auto Lateral CA | 0 |
Auto White Version | 134348800 |
Blacks 2012 | +61 |
Blue Hue | -44 |
Blue Saturation | +33 |
Camera Profile | 400H⁺¹ - C |
Circle Of Confusion | 0.029 mm |
Clarity 2012 | +17 |
Color Mode | RGB |
Color Noise Reduction | 54 |
Color Noise Reduction Detail | 50 |
Color Noise Reduction Smoothness | 50 |
Color Space | sRGB |
Color Temperature | 5661 |
Contrast 2012 | +38 |
Convert To Grayscale | False |
Crop Angle | 0.869566 |
Crop Bottom | 1 |
Crop Constrain To Warp | 0 |
Crop Left | 0.016077 |
Crop Right | 0.983923 |
Crop Top | 0 |
Custom Rendered | Normal |
Defringe Green Amount | 0 |
Defringe Green Hue Hi | 60 |
Defringe Green Hue Lo | 40 |
Defringe Purple Amount | 0 |
Defringe Purple Hue Hi | 70 |
Defringe Purple Hue Lo | 30 |
Exposure 2012 | +0.11 |
Exposure Compensation | 0 |
Exposure Mode | Auto |
Field Of View | 38.8 deg |
Firmware | 1.2.3 |
Flash Compensation | 0 |
Flash Fired | False |
Flash Function | False |
Flash Mode | Off |
Flash Red Eye Mode | False |
Flash Return | No return detection |
Format | image/jpeg |
Gradient Based Corr Active | true |
Gradient Based Corr Amount | 1.000000 |
Gradient Based Corr Brightness | 0.000000 |
Gradient Based Corr Hue | 240.000000 |
Gradient Based Corr Masks | , |
Gradient Based Corr Saturation | 0.000000 |
Gradient Based Corr Sharpness | 0.250000 |
Gradient Based Corr What | Correction |
Grain Amount | 0 |
Green Hue | +46 |
Green Saturation | 0 |
Has Crop | True |
Has Settings | True |
Highlights 2012 | -21 |
Hue Adjustment Aqua | 0 |
Hue Adjustment Blue | 0 |
Hue Adjustment Green | +31 |
Hue Adjustment Magenta | 0 |
Hue Adjustment Orange | -38 |
Hue Adjustment Purple | 0 |
Hue Adjustment Red | -50 |
Hue Adjustment Yellow | +82 |
Hyperfocal Distance | 34.04 m |
ICC Profile Name | sRGB IEC61966-2.1 |
ISO | 100 |
Image Number | 0 |
Image Size | 5632x3755 |
Lens | EF50mm f/1.4 USM |
Lens ID | Canon EF 50mm f/1.4 USM |
Lens Info | 50mm f/? |
Lens Manual Distortion Amount | 0 |
Lens Profile Enable | 0 |
Lens Profile Setup | LensDefaults |
Light Value | 12.3 |
Luminance Adjustment Aqua | 0 |
Luminance Adjustment Blue | +27 |
Luminance Adjustment Green | -56 |
Luminance Adjustment Magenta | 0 |
Luminance Adjustment Orange | +35 |
Luminance Adjustment Purple | 0 |
Luminance Adjustment Red | 0 |
Luminance Adjustment Yellow | 0 |
Luminance Noise Reduction Contrast | 52 |
Luminance Noise Reduction Detail | 50 |
Luminance Smoothing | 51 |
Metering Mode | Multi-segment |
Parametric Darks | -12 |
Parametric Highlight Split | 90 |
Parametric Highlights | -35 |
Parametric Lights | 0 |
Parametric Midtone Split | 59 |
Parametric Shadow Split | 10 |
Parametric Shadows | +78 |
Perspective Aspect | 0 |
Perspective Horizontal | 0 |
Perspective Rotate | 0.0 |
Perspective Scale | 100 |
Perspective Upright | 0 |
Perspective Vertical | 0 |
Photometric Interpretation | RGB |
Post Crop Vignette Amount | -7 |
Post Crop Vignette Feather | 50 |
Post Crop Vignette Highlight Contrast | 0 |
Post Crop Vignette Midpoint | 50 |
Post Crop Vignette Roundness | 0 |
Post Crop Vignette Style | 1 |
Process Version | 6.7 |
Red Hue | +49 |
Red Saturation | 0 |
Samples Per Pixel | 3 |
Saturation | -9 |
Saturation Adjustment Aqua | -14 |
Saturation Adjustment Blue | -31 |
Saturation Adjustment Green | +22 |
Saturation Adjustment Magenta | -14 |
Saturation Adjustment Orange | +12 |
Saturation Adjustment Purple | -14 |
Saturation Adjustment Red | -12 |
Saturation Adjustment Yellow | +31 |
Scale Factor To 35 mm Equivalent | 1.0 |
Scene Capture Type | Standard |
Shadow Tint | 0 |
Shadows 2012 | -33 |
Sharpen Detail | 18 |
Sharpen Edge Masking | 84 |
Sharpen Radius | +0.9 |
Sharpness | 116 |
Split Toning Balance | 0 |
Split Toning Highlight Hue | 92 |
Split Toning Highlight Saturation | 0 |
Split Toning Shadow Hue | 176 |
Split Toning Shadow Saturation | 0 |
Tint | +6 |
Tone Curve | 0, 0, 255, 255 |
Tone Curve Blue | 0, 0, 255, 255 |
Tone Curve Green | 0, 0, 255, 255 |
Tone Curve Name | Linear |
Tone Curve Name 2012 | Custom |
Tone Curve PV2012 | 0, 5, 27, 27, 174, 184, 255, 244 |
Tone Curve PV2012 Blue | 0, 0, 255, 255 |
Tone Curve PV2012 Green | 0, 0, 255, 255 |
Tone Curve PV2012 Red | 0, 0, 255, 255 |
Tone Curve Red | 0, 0, 255, 255 |
Version | 8.7.1 |
Vibrance | -20 |
Vignette Amount | +11 |
Vignette Midpoint | 84 |
White Balance | Auto |
Whites 2012 | -25 |