Shooting information for this photo
Camera: | Canon EOS 5D Mark III |
Exposure: | 0.0008 sec. (1/1250) |
Aperture: | f/2.5 |
Focal Length: | 50.0 mm (35 mm equivalent: 50.0 mm) |
Flash: | Off, Did not fire |
Exposure mode: | Aperture-priority AE |
Max Aperture: | 1.4 |
Resolution: | 240 x 240 dpi |
Dimension: | 5760 x 3840 pixels |
Original Date: | 2018:04:30 16:07:29.63 |
Created on: | 2018:04:30 16:07:29.63 |
Modified on: | 2024:09:08 14:53:50.972 |
Software: | ACD Systems Digital Imaging |
Already Applied | True |
Auto Lateral CA | 0 |
Auto White Version | 134348800 |
Blacks 2012 | -41 |
Blue Hue | -5 |
Blue Saturation | +5 |
Camera Profile | Adobe Standard |
Circle Of Confusion | 0.030 mm |
Clarity 2012 | +26 |
Color Mode | RGB |
Color Noise Reduction | 53 |
Color Noise Reduction Detail | 50 |
Color Noise Reduction Smoothness | 50 |
Color Space | sRGB |
Color Temperature | 4951 |
Contrast 2012 | -43 |
Convert To Grayscale | False |
Custom Rendered | Normal |
Date Created | 2018:04:30 16:07:29.063 |
Defringe Green Amount | 0 |
Defringe Green Hue Hi | 60 |
Defringe Green Hue Lo | 40 |
Defringe Purple Amount | 0 |
Defringe Purple Hue Hi | 70 |
Defringe Purple Hue Lo | 30 |
Exposure 2012 | +0.90 |
Exposure Compensation | 0 |
Exposure Mode | Auto |
Field Of View | 39.6 deg |
Firmware | 1.2.3 |
Flash Compensation | 0 |
Format | image/jpeg |
Gradient Based Corr Active | true |
Gradient Based Corr Amount | 1.000000 |
Gradient Based Corr Brightness | 0.000000 |
Gradient Based Corr Hue | 27.000000 |
Gradient Based Corr Mask Full X | 0.491005 |
Gradient Based Corr Mask Full Y | -0.004762 |
Gradient Based Corr Mask Value | 1.000000 |
Gradient Based Corr Mask What | Mask/Gradient |
Gradient Based Corr Mask Zero X | 0.488889 |
Gradient Based Corr Mask Zero Y | 0.493651 |
Gradient Based Corr Saturation | 0.000000 |
Gradient Based Corr Sharpness | 0.000000 |
Gradient Based Corr What | Correction |
Grain Amount | 0 |
Green Hue | +7 |
Green Saturation | -20 |
Has Crop | False |
Has Settings | True |
Highlights 2012 | -49 |
Hue Adjustment Aqua | +20 |
Hue Adjustment Blue | 0 |
Hue Adjustment Green | +15 |
Hue Adjustment Magenta | +25 |
Hue Adjustment Orange | -34 |
Hue Adjustment Purple | +25 |
Hue Adjustment Red | +10 |
Hue Adjustment Yellow | 0 |
Hyperfocal Distance | 33.28 m |
ICC Profile Name | sRGB IEC61966-2.1 |
ISO | 100 |
Image Number | 0 |
Image Size | 5760x3840 |
Lens | EF50mm f/1.4 USM |
Lens ID | Canon EF 50mm f/1.4 USM |
Lens Info | 50mm f/? |
Lens Manual Distortion Amount | 0 |
Lens Profile Enable | 0 |
Lens Profile Setup | LensDefaults |
Light Value | 12.9 |
Luminance Adjustment Aqua | +5 |
Luminance Adjustment Blue | -12 |
Luminance Adjustment Green | 0 |
Luminance Adjustment Magenta | -10 |
Luminance Adjustment Orange | -10 |
Luminance Adjustment Purple | -10 |
Luminance Adjustment Red | -15 |
Luminance Adjustment Yellow | -10 |
Luminance Noise Reduction Contrast | 52 |
Luminance Noise Reduction Detail | 50 |
Luminance Smoothing | 52 |
Metering Mode | Multi-segment |
Parametric Darks | +13 |
Parametric Highlight Split | 83 |
Parametric Highlights | -28 |
Parametric Lights | -9 |
Parametric Midtone Split | 40 |
Parametric Shadow Split | 15 |
Parametric Shadows | +46 |
Perspective Aspect | 0 |
Perspective Horizontal | 0 |
Perspective Rotate | 0.0 |
Perspective Scale | 100 |
Perspective Upright | 0 |
Perspective Vertical | 0 |
Post Crop Vignette Amount | 0 |
Process Version | 6.7 |
Red Hue | +20 |
Red Saturation | -5 |
Saturation | +4 |
Saturation Adjustment Aqua | +10 |
Saturation Adjustment Blue | +10 |
Saturation Adjustment Green | -35 |
Saturation Adjustment Magenta | -20 |
Saturation Adjustment Orange | 0 |
Saturation Adjustment Purple | -47 |
Saturation Adjustment Red | -15 |
Saturation Adjustment Yellow | -5 |
Scale Factor To 35 mm Equivalent | 1.0 |
Scene Capture Type | Standard |
Shadow Tint | 0 |
Shadows 2012 | +19 |
Sharpen Detail | 25 |
Sharpen Edge Masking | 67 |
Sharpen Radius | +1.0 |
Sharpness | 113 |
Split Toning Balance | 0 |
Split Toning Highlight Hue | 211 |
Split Toning Highlight Saturation | 8 |
Split Toning Shadow Hue | 117 |
Split Toning Shadow Saturation | 0 |
Tint | +13 |
Tone Curve | 0, 0, 255, 255 |
Tone Curve Blue | 0, 0, 255, 255 |
Tone Curve Green | 0, 0, 255, 255 |
Tone Curve Name | Linear |
Tone Curve Name 2012 | Custom |
Tone Curve PV2012 | 0, 0, 255, 255 |
Tone Curve PV2012 Blue | 0, 0, 31, 4, 64, 26, 108, 101, 143, 161, 255, 255 |
Tone Curve PV2012 Green | 0, 0, 31, 4, 55, 21, 104, 102, 140, 165, 255, 255 |
Tone Curve PV2012 Red | 1, 0, 31, 4, 52, 19, 104, 99, 140, 165, 255, 255 |
Tone Curve Red | 0, 0, 255, 255 |
Version | 8.7.1 |
Vibrance | +30 |
Vignette Amount | -72 |
Vignette Midpoint | 21 |
White Balance | Auto |
Whites 2012 | +15 |