Shooting information for this photo
Camera: | samsung Galaxy S23 Ultra |
Exposure: | 0.00294 sec. (1/340) |
Aperture: | f/1.7 |
Focal Length: | 6.3 mm (35 mm equivalent: 23.0 mm) |
Flash: | No Flash |
Exposure mode: | Program AE |
Max Aperture: | 1.7 |
Resolution: | 240 x 240 dpi |
Original Date: | 2024:01:01 13:46:23.166911 |
Created on: | 2024:01:01 13:46:23.166911 |
Modified on: | 2024:02:17 22:58:55 |
Software: | Adobe Photoshop Lightroom Classic 13.1 (Windows) |
Already Applied | True |
Auto Lateral CA | 0 |
Blacks 2012 | -9 |
Blue Hue | 0 |
Blue Saturation | 0 |
Brightness | +50 |
Brightness Value | 8.15 |
Camera Profile | Embedded |
Circle Of Confusion | 0.008 mm |
Clarity 2012 | 0 |
Color Grade Blending | 50 |
Color Grade Global Hue | 0 |
Color Grade Global Lum | 0 |
Color Grade Global Sat | 0 |
Color Grade Highlight Lum | 0 |
Color Grade Midtone Hue | 0 |
Color Grade Midtone Lum | 0 |
Color Grade Midtone Sat | 0 |
Color Grade Shadow Lum | 0 |
Color Noise Reduction | 0 |
Color Space | sRGB |
Contrast | +25 |
Contrast 2012 | +6 |
Convert To Grayscale | False |
Crop Angle | 0 |
Crop Bottom | 1 |
Crop Constrain To Warp | 0 |
Crop Left | 0 |
Crop Right | 0.938892 |
Crop Top | 0 |
Date Created | 2024:01:01 13:46:23.166911+01:00 |
Defringe Green Amount | 0 |
Defringe Green Hue Hi | 60 |
Defringe Green Hue Lo | 40 |
Defringe Purple Amount | 0 |
Defringe Purple Hue Hi | 70 |
Defringe Purple Hue Lo | 30 |
Dehaze | 0 |
Description | Das Foto habe ich im Zentrum der Stadt Tilburg in der niederländischen Provinz Noord-Brabant aufgenommen. Im Hintergrund ist die St. Jozefkerk zu sehen. |
Digital Zoom Ratio | 1 |
Exposure 2012 | +0.16 |
Exposure Compensation | 0 |
Exposure Mode | Auto |
Field Of View | 76.1 deg |
Focal Length In 35mm Format | 23 mm |
Format | image/jpeg |
Grain Amount | 0 |
Green Hue | 0 |
Green Saturation | 0 |
HDR Edit Mode | 0 |
Has Crop | True |
Has Settings | True |
Highlights 2012 | -19 |
Hue Adjustment Aqua | 0 |
Hue Adjustment Blue | 0 |
Hue Adjustment Green | 0 |
Hue Adjustment Magenta | 0 |
Hue Adjustment Orange | 0 |
Hue Adjustment Purple | 0 |
Hue Adjustment Red | 0 |
Hue Adjustment Yellow | 0 |
Hyperfocal Distance | 2.84 m |
ISO | 10 |
Image Description | Das Foto habe ich im Zentrum der Stadt Tilburg in der niederländischen Provinz Noord-Brabant aufgenommen. Im Hintergrund ist die St. Jozefkerk zu sehen. |
Image Size | 3000x3756 |
Incremental Temperature | 0 |
Incremental Tint | 0 |
Lens | Samsung Galaxy S23 Ultra Rear Wide Camera |
Lens Manual Distortion Amount | 0 |
Lens Model | Samsung Galaxy S23 Ultra Rear Wide Camera |
Lens Profile Enable | 0 |
Light Value | 13.3 |
Luminance Adjustment Aqua | 0 |
Luminance Adjustment Blue | 0 |
Luminance Adjustment Green | 0 |
Luminance Adjustment Magenta | 0 |
Luminance Adjustment Orange | 0 |
Luminance Adjustment Purple | 0 |
Luminance Adjustment Red | 0 |
Luminance Adjustment Yellow | 0 |
Luminance Smoothing | 0 |
Metering Mode | Center-weighted average |
Override Look Vignette | False |
Parametric Darks | 0 |
Parametric Highlight Split | 75 |
Parametric Highlights | 0 |
Parametric Lights | 0 |
Parametric Midtone Split | 50 |
Parametric Shadow Split | 25 |
Parametric Shadows | 0 |
Perspective Aspect | 0 |
Perspective Horizontal | 0 |
Perspective Rotate | 0.0 |
Perspective Scale | 100 |
Perspective Upright | 0 |
Perspective Vertical | 0 |
Perspective X | 0.00 |
Perspective Y | 0.00 |
Point Colors | -1.000000, -1.000000, -1.000000, -1.000000, -1.000000, -1.000000, -1.000000, -1.000000, -1.000000, -1.000000, -1.000000, -1.000000, -1.000000, -1.000000, -1.000000, -1.000000, -1.000000, -1.000000, -1.000000 |
Post Crop Vignette Amount | 0 |
Preserved File Name | 20240101_134622.jpg |
Process Version | 15.4 |
Raw File Name | 20240101_134622.jpg |
Red Hue | 0 |
Red Saturation | 0 |
Saturation | +1 |
Saturation Adjustment Aqua | 0 |
Saturation Adjustment Blue | 0 |
Saturation Adjustment Green | 0 |
Saturation Adjustment Magenta | 0 |
Saturation Adjustment Orange | 0 |
Saturation Adjustment Purple | 0 |
Saturation Adjustment Red | 0 |
Saturation Adjustment Yellow | 0 |
Scale Factor To 35 mm Equivalent | 3.7 |
Scene Capture Type | Standard |
Scene Type | Directly photographed |
Sensing Method | Not defined |
Shadow Tint | 0 |
Shadows | 5 |
Shadows 2012 | +10 |
Sharpness | 0 |
Split Toning Balance | 0 |
Split Toning Highlight Hue | 0 |
Split Toning Highlight Saturation | 0 |
Split Toning Shadow Hue | 0 |
Split Toning Shadow Saturation | 0 |
Subject | Europa, Heuvelse Kerk, Hue, Kirche, Netherlands, Niederlande, Noord-Brabant, Nordbrabant, St. Jozefkerk, Tilburg, albumNiederlande, albumNiederlande20232024, zugrifföffentlich |
Texture | 0 |
Title | Niederlande - Tilburg |
Tone Curve Name 2012 | Linear |
Tone Curve PV2012 | 0, 0, 255, 255 |
Tone Curve PV2012 Blue | 0, 0, 255, 255 |
Tone Curve PV2012 Green | 0, 0, 255, 255 |
Tone Curve PV2012 Red | 0, 0, 255, 255 |
Version | 16.1 |
Vibrance | +8 |
Vignette Amount | 0 |
Weighted Flat Subject | Niederlande, Netherlands, Noord-Brabant, Nordbrabant, Tilburg, St. Jozefkerk, Kirche, albumNiederlande20232024, albumNiederlande, zugrifföffentlich, Europa, Hue, Heuvelse Kerk |
White Balance | Auto |
Whites 2012 | +8 |
GPS Information |
GPS Date Stamp | 2024:01:01 |
GPS Date/Time | 2024:01:01 12:46:01Z |
GPS Latitude | 51 deg 33' 25.58" N |
GPS Latitude Ref | North |
GPS Longitude | 5 deg 5' 23.94" E |
GPS Longitude Ref | East |
GPS Position | 51 deg 33' 25.58" N, 5 deg 5' 23.94" E |
GPS Processing Method | GPS |
GPS Time Stamp | 12:46:01 |
GPS Version ID | 2.2.0.0 |