Shooting information for this photo
Camera: | OM Digital Solutions OM-5 |
Exposure: | 0.00125 sec. (1/800) |
Aperture: | f/6.3 |
Focal Length: | 42.0 mm (35 mm equivalent: 84.0 mm) |
Flash: | On, Did not fire |
Exposure mode: | Aperture-priority AE |
Max Aperture: | 3.5 |
Resolution: | 300 x 300 dpi |
Original Date: | 2025:03:21 14:32:29.1 |
Created on: | 2025:03:21 14:32:29.1 |
Modified on: | 2025:03:22 15:15:23 |
Software: | Adobe Photoshop Lightroom Classic 14.2 (Windows) |
Copyright: | Manfred Hofmann |
Already Applied | True |
Artist | LUMAHO |
Auto Lateral CA | 1 |
Blacks 2012 | 0 |
Blue Hue | 0 |
Blue Saturation | 0 |
CFA Pattern | [Red,Green][Green,Blue] |
Camera Profile | Adobe Standard |
Circle Of Confusion | 0.015 mm |
City | Edenkoben |
Clarity 2012 | +20 |
Color Grade Blending | 50 |
Color Grade Global Hue | 0 |
Color Grade Global Lum | 0 |
Color Grade Global Sat | 0 |
Color Grade Highlight Lum | 0 |
Color Grade Midtone Hue | 0 |
Color Grade Midtone Lum | 0 |
Color Grade Midtone Sat | 0 |
Color Grade Shadow Lum | 0 |
Color Noise Reduction | 25 |
Color Noise Reduction Detail | 50 |
Color Noise Reduction Smoothness | 50 |
Color Space | Uncalibrated |
Color Temperature | 6000 |
Compatible Version | 268632064 |
Contrast | Normal |
Contrast 2012 | +10 |
Country | BRD |
Creator | LUMAHO |
Crop Angle | 0 |
Crop Bottom | 0.845304 |
Crop Constrain To Warp | 1 |
Crop Left | 0.093883 |
Crop Right | 0.931939 |
Crop Top | 0.163064 |
Custom Rendered | Normal |
Date Created | 2025:03:21 14:32:23+01:00 |
Defringe Green Amount | 0 |
Defringe Green Hue Hi | 60 |
Defringe Green Hue Lo | 40 |
Defringe Purple Amount | 0 |
Defringe Purple Hue Hi | 70 |
Defringe Purple Hue Lo | 30 |
Dehaze | +20 |
Digital Zoom Ratio | 1 |
Distortion Correction Already Applied | True |
Exposure 2012 | 0.00 |
Exposure Compensation | 0 |
Exposure Mode | Auto |
Field Of View | 24.2 deg |
Flash Compensation | 0 |
Focal Length In 35mm Format | 84 mm |
Format | image/jpeg |
Gain Control | Low gain up |
Grain Amount | 0 |
Grain Size | 50 |
Green Hue | 0 |
Green Saturation | 0 |
HDR Edit Mode | 0 |
Has Crop | True |
Has Settings | True |
Highlights 2012 | +15 |
Hue Adjustment Aqua | 0 |
Hue Adjustment Blue | 0 |
Hue Adjustment Green | 0 |
Hue Adjustment Magenta | 0 |
Hue Adjustment Orange | 0 |
Hue Adjustment Purple | 0 |
Hue Adjustment Red | 0 |
Hue Adjustment Yellow | 0 |
Hyperfocal Distance | 18.64 m |
ISO | 250 |
Image Size | 9958x3365 |
Is Merged Panorama | True |
Label | Grün |
Lateral Chromatic Aberration Correction Already Applied | True |
Lens | OLYMPUS M.14-42mm F3.5-5.6 EZ |
Lens Info | 14-42mm f/3.5-5.6 |
Lens Manual Distortion Amount | 0 |
Lens Model | OLYMPUS M.14-42mm F3.5-5.6 EZ |
Lens Profile Enable | 1 |
Lens Profile Setup | LensDefaults |
Light Source | Unknown |
Light Value | 13.6 |
Look Amount | 1 |
Look Copyright | © 2018 Adobe Systems, Inc. |
Look Group | Profiles |
Look Name | Adobe Color |
Look Parameters Camera Profile | Adobe Standard |
Look Parameters Convert To Grayscale | False |
Look Parameters Look Table | E1095149FDB39D7A057BAB208837E2 E1 |
Look Parameters Process Version | 15.4 |
Look Parameters Tone Curve PV2012 | 0, 0, 22, 16, 40, 35, 127, 127, 224, 230, 240, 246, 255, 255 |
Look Parameters Tone Curve PV2012 Blue | 0, 0, 255, 255 |
Look Parameters Tone Curve PV2012 Green | 0, 0, 255, 255 |
Look Parameters Tone Curve PV2012 Red | 0, 0, 255, 255 |
Look Parameters Version | 17.2 |
Look Supports Amount | false |
Look Supports Monochrome | false |
Look Supports Output Referred | false |
Luminance Adjustment Aqua | 0 |
Luminance Adjustment Blue | 0 |
Luminance Adjustment Green | 0 |
Luminance Adjustment Magenta | 0 |
Luminance Adjustment Orange | 0 |
Luminance Adjustment Purple | 0 |
Luminance Adjustment Red | 0 |
Luminance Adjustment Yellow | 0 |
Luminance Noise Reduction Contrast | 50 |
Luminance Smoothing | 0 |
Metering Mode | Multi-segment |
Override Look Vignette | False |
Parametric Darks | -12 |
Parametric Highlight Split | 75 |
Parametric Highlights | +24 |
Parametric Lights | +12 |
Parametric Midtone Split | 50 |
Parametric Shadow Split | 25 |
Parametric Shadows | -24 |
Perspective Aspect | 0 |
Perspective Horizontal | 0 |
Perspective Rotate | 0.0 |
Perspective Scale | 100 |
Perspective Upright | 1 |
Perspective Vertical | 0 |
Perspective X | 0.00 |
Perspective Y | 0.00 |
Pick | 0 |
Point Colors | -1.000000, -1.000000, -1.000000, -1.000000, -1.000000, -1.000000, -1.000000, -1.000000, -1.000000, -1.000000, -1.000000, -1.000000, -1.000000, -1.000000, -1.000000, -1.000000, -1.000000, -1.000000, -1.000000 |
Post Crop Vignette Amount | -5 |
Post Crop Vignette Feather | 50 |
Post Crop Vignette Highlight Contrast | 0 |
Post Crop Vignette Midpoint | 50 |
Post Crop Vignette Roundness | 0 |
Post Crop Vignette Style | 1 |
Preserved File Name | _OM50055.ORF |
Process Version | 15.4 |
Raw File Name | _OM50052-Pano.dng |
Red Hue | 0 |
Red Saturation | 0 |
Remove Areas Fill method | firefly |
Remove Areas Ingest Info | 33BD3469EE259D40E979C9F19DFE00 F3 |
Remove Areas Masks Gesture Brush Gesture Interpretation | 0 |
Remove Areas Masks Gesture Center Weight | 0 |
Remove Areas Masks Gesture Flow | 1 |
Remove Areas Masks Gesture Mask Active | true |
Remove Areas Masks Gesture Mask Blend Mode | 0 |
Remove Areas Masks Gesture Mask Inverted | false |
Remove Areas Masks Gesture Mask Sync ID | 63BFDE8862C7B649B01BC47FDE5FB5 3E |
Remove Areas Masks Gesture Mask Value | 1 |
Remove Areas Masks Gesture Radius | 0 |
Remove Areas Masks Gesture What | Mask/Paint |
Remove Areas Masks Mask Active | true |
Remove Areas Masks Mask Blend Mode | 0 |
Remove Areas Masks Mask Inverted | false |
Remove Areas Masks Mask Sub Type | 0 |
Remove Areas Masks Mask Sync ID | 127FD43267DF5B46BEFE1A178A932A E6 |
Remove Areas Masks Mask Value | 1 |
Remove Areas Masks Mask Version | 1 |
Remove Areas Masks Model Version | 234881976 |
Remove Areas Masks Origin | 1278,852 |
Remove Areas Masks Reference Point | 0.332407 0.712336 |
Remove Areas Masks What | Mask/Image |
Remove Areas Masks Whole Image Area | 0/1,0/1,1920/1,4626/1 |
Remove Areas Opacity | 1 |
Remove Areas Pm black level | 0 |
Remove Areas Pm clio model version | 1.0.5-beta.1-1.2_1.2-8c2cea4-0 .1.27.1r16.2 |
Remove Areas Pm current variation index | 1 |
Remove Areas Pm gamma type | 1 |
Remove Areas Pm mask remap info | 0.000000000,1.000000000,0.0000 00000,1.000000000 |
Remove Areas Pm patch | 649E1916033D5EFBCF0821F7AF077C 3C |
Remove Areas Pm patch mask | 49D6D82E3021C973527C7212B76977 B8 |
Remove Areas Pm patch variations Pm patch variation | 2D32FD4901E7C804A3844AA6580BC4 EA |
Remove Areas Pm remap info 0 | 0.004425116,0.171114668,0.0000 00000,1.000000000 |
Remove Areas Pm remap info 1 | 0.009277485,0.359548330,0.0000 00000,1.000000000 |
Remove Areas Pm remap info 2 | 0.005233845,0.183779657,0.0000 00000,1.000000000 |
Remove Areas Pm remap info variation 0 0 | 0.004425116,0.141206995,0.0000 00000,1.000000000 |
Remove Areas Pm remap info variation 0 1 | 0.009277485,0.270511925,0.0000 00000,1.000000000 |
Remove Areas Pm remap info variation 0 2 | 0.005233845,0.107713439,0.0000 00000,1.000000000 |
Remove Areas Pm remap info variation 1 0 | 0.004425116,0.203326464,0.0000 00000,1.000000000 |
Remove Areas Pm remap info variation 1 1 | 0.009277485,0.403067052,0.0000 00000,1.000000000 |
Remove Areas Pm remap info variation 1 2 | 0.005233845,0.196963459,0.0000 00000,1.000000000 |
Remove Areas Pm search bottom | 4931 |
Remove Areas Pm search left | 2588 |
Remove Areas Pm search right | 5438 |
Remove Areas Pm search top | 1012 |
Remove Areas Pm source type | full |
Remove Areas Pm target bottom | 4746 |
Remove Areas Pm target left | 3256 |
Remove Areas Pm target right | 4625 |
Remove Areas Pm target top | 2162 |
Remove Areas Pm version | 327680 |
Remove Areas Pm whole image bottom | 4932 |
Remove Areas Pm whole image left | 0 |
Remove Areas Pm whole image right | 11882 |
Remove Areas Pm whole image top | 0 |
Remove Areas Seed | 2 |
Remove Areas Source State | sourceAutoComputed |
Remove Areas Spot Type | heal_patchmatch |
Rights | Manfred Hofmann |
Saturation | Normal |
Saturation Adjustment Aqua | 0 |
Saturation Adjustment Blue | 0 |
Saturation Adjustment Green | 0 |
Saturation Adjustment Magenta | 0 |
Saturation Adjustment Orange | 0 |
Saturation Adjustment Purple | 0 |
Saturation Adjustment Red | 0 |
Saturation Adjustment Yellow | 0 |
Scale Factor To 35 mm Equivalent | 2.0 |
Scene Capture Type | Standard |
Sensitivity Type | Standard Output Sensitivity |
Shadow Tint | 0 |
Shadows 2012 | +15 |
Sharpen Detail | 25 |
Sharpen Edge Masking | 0 |
Sharpen Radius | +0.8 |
Sharpness | Normal |
Split Toning Balance | 0 |
Split Toning Highlight Hue | 0 |
Split Toning Highlight Saturation | 0 |
Split Toning Shadow Hue | 0 |
Split Toning Shadow Saturation | 0 |
State | Pfalz |
Subject | 01 Landschaft, BRD, Bild, Farbe, Ipernity, Kurpfalz, ORTE, PROJEKTE, flickr, Öffentlich |
Texture | +5 |
Tint | +9 |
Title | Weinberge und Mandeln |
Tone Curve Name 2012 | Linear |
Tone Curve PV2012 | 0, 0, 255, 255 |
Tone Curve PV2012 Blue | 0, 0, 255, 255 |
Tone Curve PV2012 Green | 0, 0, 255, 255 |
Tone Curve PV2012 Red | 0, 0, 255, 255 |
Transformation | Perspective |
Version | 17.2 |
Vibrance | +15 |
Vignette Amount | 0 |
Virtual Focal Length | 1.005223 |
Virtual Image X Center | 0.498443 |
Virtual Image Y Center | 0.206766 |
Weighted Flat Subject | Farbe, Bild, flickr, Öffentlich, Ipernity, Kurpfalz, BRD, ORTE, 01 Landschaft, PROJEKTE |
White Balance | Auto |
Whites 2012 | 0 |