Shooting information for this photo
Camera: | OM Digital Solutions OM-5 |
Exposure: | 0.03333 sec. (1/30) |
Aperture: | f/5.6 |
Focal Length: | 45.0 mm (35 mm equivalent: 90.0 mm) |
Flash: | Off, Did not fire |
Exposure mode: | Aperture-priority AE |
Max Aperture: | 2.8 |
Resolution: | 300 x 300 dpi |
Original Date: | 2024:11:11 23:13:16 |
Created on: | 2024:11:11 23:13:16 |
Modified on: | 2024:12:01 17:00:46 |
Software: | Adobe Photoshop Lightroom Classic 14.0.1 (Windows) |
Copyright: | Manfred Hofmann |
Already Applied | True |
Artist | LUMAHO |
Auto Lateral CA | 1 |
Bits Per Sample | 16 16 16 |
Blacks 2012 | 0 |
Blue Hue | +20 |
Blue Saturation | 0 |
Camera Profile | Embedded |
Circle Of Confusion | 0.015 mm |
Clarity 2012 | +5 |
Color Grade Blending | 50 |
Color Grade Global Hue | 55 |
Color Grade Global Lum | 0 |
Color Grade Global Sat | 25 |
Color Grade Highlight Lum | 0 |
Color Grade Midtone Hue | 0 |
Color Grade Midtone Lum | 0 |
Color Grade Midtone Sat | 0 |
Color Grade Shadow Lum | 0 |
Color Noise Reduction | 0 |
Color Space | Uncalibrated |
Compatible Version | 268435456 |
Contrast | Normal |
Contrast 2012 | 0 |
Convert To Grayscale | False |
Country | BRD |
Creator | LUMAHO |
Crop Angle | 0 |
Crop Bottom | 0.795868 |
Crop Constrain To Warp | 0 |
Crop Left | 0.303279 |
Crop Right | 0.780339 |
Crop Top | 0.174434 |
Custom Rendered | Normal |
Defringe Green Amount | 0 |
Defringe Green Hue Hi | 60 |
Defringe Green Hue Lo | 40 |
Defringe Purple Amount | 0 |
Defringe Purple Hue Hi | 70 |
Defringe Purple Hue Lo | 30 |
Dehaze | 0 |
Description | Stacking 18 Aufnahmen |
Digital Zoom Ratio | 1 |
Exposure 2012 | +0.70 |
Exposure Compensation | 0 |
Exposure Mode | Auto |
Field Of View | 22.6 deg |
Flash Compensation | 0 |
Focal Length In 35mm Format | 90 mm |
Format | image/tiff |
Gain Control | Low gain up |
Grain Amount | 0 |
Green Hue | 0 |
Green Saturation | 0 |
HDR Edit Mode | 0 |
Has Crop | True |
Has Settings | True |
Hierarchical Subject | excire|style|grayscale |
Highlights 2012 | +10 |
Hue Adjustment Aqua | 0 |
Hue Adjustment Blue | 0 |
Hue Adjustment Green | 0 |
Hue Adjustment Magenta | 0 |
Hue Adjustment Orange | 0 |
Hue Adjustment Purple | 0 |
Hue Adjustment Red | 0 |
Hue Adjustment Yellow | 0 |
Hyperfocal Distance | 24.07 m |
ISO | 320 |
Image Description | Stacking 18 Aufnahmen |
Image Height | 2645 |
Image Size | 2645x2645 |
Image Width | 2645 |
Incremental Temperature | 0 |
Incremental Tint | 0 |
Lateral Chromatic Aberration Correction Already Applied | True |
Lens | LEICA DG MACRO-ELMARIT 45/F2.8 |
Lens Info | 45mm f/2.8 |
Lens Manual Distortion Amount | 0 |
Lens Model | LEICA DG MACRO-ELMARIT 45/F2.8 |
Lens Profile Enable | 1 |
Lens Profile Setup | LensDefaults |
Light Source | Unknown |
Light Value | 8.2 |
Luminance Adjustment Aqua | 0 |
Luminance Adjustment Blue | 0 |
Luminance Adjustment Green | 0 |
Luminance Adjustment Magenta | 0 |
Luminance Adjustment Orange | 0 |
Luminance Adjustment Purple | 0 |
Luminance Adjustment Red | 0 |
Luminance Adjustment Yellow | 0 |
Luminance Smoothing | 0 |
Metering Mode | Multi-segment |
Override Look Vignette | False |
Parametric Darks | -16 |
Parametric Highlight Split | 75 |
Parametric Highlights | +32 |
Parametric Lights | +16 |
Parametric Midtone Split | 50 |
Parametric Shadow Split | 25 |
Parametric Shadows | -32 |
Perspective Aspect | 0 |
Perspective Horizontal | 0 |
Perspective Rotate | 0.0 |
Perspective Scale | 100 |
Perspective Upright | 1 |
Perspective Vertical | 0 |
Perspective X | 0.00 |
Perspective Y | 0.00 |
Photometric Interpretation | RGB |
Pick | 0 |
Planar Configuration | Chunky |
Point Colors | 2.802400, 0.052149, 0.533577, 0.110000, 0.000000, 0.000000, 0.500000, 0.000000, 0.330000, 0.670000, 1.000000, 0.000000, 0.000000, 0.230000, 0.780000, 0.030000, 0.580000, 0.940000, 1.000000, 4.057450, 0.490894, 0.600514, -0.170000, -0.800000, 0.000000, 0.500000, 0.000000, 0.330000, 0.670000, 1.000000, 0.000000, 0.310000, 0.670000, 1.000000, 0.070000, 0.620000, 0.980000, 1.000000 |
Post Crop Vignette Amount | -5 |
Post Crop Vignette Feather | 50 |
Post Crop Vignette Highlight Contrast | 0 |
Post Crop Vignette Midpoint | 50 |
Post Crop Vignette Roundness | 0 |
Post Crop Vignette Style | 1 |
Preserved File Name | _OM50019.JPG |
Process Version | 15.4 |
Rating | 0 |
Rating Percent | 0 |
Raw File Name | _OM50036-Bearbeitet.tif |
Red Hue | 0 |
Red Saturation | 0 |
Rights | Manfred Hofmann |
Rows Per Strip | 2645 |
Samples Per Pixel | 3 |
Saturation | Normal |
Saturation Adjustment Aqua | 0 |
Saturation Adjustment Blue | 0 |
Saturation Adjustment Green | 0 |
Saturation Adjustment Magenta | 0 |
Saturation Adjustment Orange | 0 |
Saturation Adjustment Purple | 0 |
Saturation Adjustment Red | 0 |
Saturation Adjustment Yellow | 0 |
Scale Factor To 35 mm Equivalent | 2.0 |
Scene Capture Type | Standard |
Sensitivity Type | Standard Output Sensitivity |
Shadow Tint | 0 |
Shadows 2012 | +40 |
Sharpen Detail | 25 |
Sharpen Edge Masking | 0 |
Sharpen Radius | +0.8 |
Sharpness | Normal |
Split Toning Balance | 0 |
Split Toning Highlight Hue | 0 |
Split Toning Highlight Saturation | 0 |
Split Toning Shadow Hue | 0 |
Split Toning Shadow Saturation | 0 |
State | Pfalz |
Strip Byte Counts | 41976150 |
Strip Offsets | 28784 |
Subfile Type | Full-resolution Image |
Subject | 06 Garten und Tiere, BRD, Bild, Farbe, Ipernity, Kurpfalz, ORTE, PROJEKTE, flickr, Öffentlich, Farblos |
Texture | +5 |
Title | Schraube ... cadavre exquis |
Tone Curve Name 2012 | Linear |
Tone Curve PV2012 | 0, 0, 255, 255 |
Tone Curve PV2012 Blue | 0, 0, 255, 255 |
Tone Curve PV2012 Green | 0, 0, 255, 255 |
Tone Curve PV2012 Red | 0, 0, 255, 255 |
Transformation | Perspective |
Version | 17.0 |
Vibrance | 0 |
Vignette Amount | 0 |
Virtual Focal Length | 2.333033 |
Virtual Image X Center | 0.485509 |
Virtual Image Y Center | 0.377138 |
Weighted Flat Subject | Farbe, Bild, Kurpfalz, BRD, ORTE, flickr, Öffentlich, Ipernity, 06 Garten und Tiere, PROJEKTE |
White Balance | As Shot |
Whites 2012 | 0 |