Shooting information for this photo
Camera: | FUJIFILM X100T |
Exposure: | 0.01667 sec. (1/60) |
Aperture: | f/5.6 |
Focal Length: | 23.0 mm (35 mm equivalent: 35.2 mm) |
Flash: | Off, Did not fire |
Exposure mode: | Aperture-priority AE |
Max Aperture: | 2.0 |
Resolution: | 300 x 300 dpi |
Original Date: | 2024:06:24 11:47:44 |
Created on: | 2024:06:24 11:47:44 |
Modified on: | 2024:07:04 12:04:03 |
Software: | Adobe Photoshop Lightroom Classic 13.4 (Windows) |
Copyright: | Manfred Hofmann |
Already Applied | True |
Artist | Lumaho |
Auto Lateral CA | 1 |
Blacks 2012 | 0 |
Blue Hue | 0 |
Blue Saturation | 0 |
Brightness Value | 5.37 |
Camera Profile | Adobe Standard |
Circle Of Confusion | 0.020 mm |
Clarity 2012 | +10 |
Color Grade Blending | 50 |
Color Grade Global Hue | 43 |
Color Grade Global Lum | 0 |
Color Grade Global Sat | 13 |
Color Grade Highlight Lum | 0 |
Color Grade Midtone Hue | 0 |
Color Grade Midtone Lum | 0 |
Color Grade Midtone Sat | 0 |
Color Grade Shadow Lum | 0 |
Color Noise Reduction | 25 |
Color Noise Reduction Detail | 50 |
Color Noise Reduction Smoothness | 50 |
Color Space | Uncalibrated |
Color Temperature | 2100 |
Compatible Version | 234881024 |
Contrast 2012 | +50 |
Country | BRD |
Creator | Lumaho |
Crop Angle | 0 |
Crop Bottom | 1 |
Crop Constrain To Warp | 0 |
Crop Left | 0 |
Crop Right | 1 |
Crop Top | 0 |
Custom Rendered | Normal |
Date Created | 2024:06:24 11:47:44 |
Dehaze | +11 |
Distortion Correction Already Applied | True |
Exposure 2012 | -0.80 |
Exposure Compensation | 0 |
Exposure Mode | Auto |
Field Of View | 54.1 deg |
Format | image/jpeg |
Fuji Rating Already Applied | True |
Grain Amount | 0 |
Gray Mixer Aqua | -19 |
Gray Mixer Blue | +11 |
Gray Mixer Green | -28 |
Gray Mixer Magenta | +7 |
Gray Mixer Orange | -20 |
Gray Mixer Purple | +19 |
Gray Mixer Red | -9 |
Gray Mixer Yellow | -25 |
Green Hue | 0 |
Green Saturation | 0 |
HDR Edit Mode | 0 |
Has Crop | False |
Has Settings | True |
Highlights 2012 | 0 |
Hyperfocal Distance | 4.82 m |
ISO | 250 |
Image Size | 4896x3264 |
Label | Grün |
Lateral Chromatic Aberration Correction Already Applied | True |
Lens Manual Distortion Amount | 0 |
Lens Profile Distortion Scale | 100 |
Lens Profile Enable | 1 |
Lens Profile Filename | Fujifilm X100T.lcp |
Lens Profile Is Embedded | False |
Lens Profile Name | Adobe (Fujifilm X100T) |
Lens Profile Setup | LensDefaults |
Lens Profile Vignetting Scale | 100 |
Light Source | Unknown |
Light Value | 9.6 |
Look Amount | 1 |
Look Group | Profiles |
Look Name | Adobe Monochrome |
Look Parameters Camera Profile | Adobe Standard |
Look Parameters Clarity 2012 | +8 |
Look Parameters Convert To Grayscale | True |
Look Parameters Look Table | 73ED6C18DDE909DD7EA2D771F5AC28 2D |
Look Parameters Process Version | 15.4 |
Look Parameters Tone Curve PV2012 | 0, 0, 64, 56, 128, 128, 192, 197, 255, 255 |
Look Parameters Tone Curve PV2012 Blue | 0, 0, 255, 255 |
Look Parameters Tone Curve PV2012 Green | 0, 0, 255, 255 |
Look Parameters Tone Curve PV2012 Red | 0, 0, 255, 255 |
Look Parameters Version | 16.4 |
Look Supports Amount | false |
Look Supports Monochrome | false |
Look Supports Output Referred | false |
Luminance Smoothing | 0 |
Metering Mode | Multi-segment |
Override Look Vignette | False |
Parametric Darks | -9 |
Parametric Highlight Split | 75 |
Parametric Highlights | +18 |
Parametric Lights | +9 |
Parametric Midtone Split | 50 |
Parametric Shadow Split | 25 |
Parametric Shadows | -18 |
Perspective Aspect | 0 |
Perspective Horizontal | 0 |
Perspective Rotate | 0.0 |
Perspective Scale | 100 |
Perspective Upright | 1 |
Perspective Vertical | 0 |
Perspective X | 0.00 |
Perspective Y | 0.00 |
Pick | 0 |
Point Colors | -1.000000, -1.000000, -1.000000, -1.000000, -1.000000, -1.000000, -1.000000, -1.000000, -1.000000, -1.000000, -1.000000, -1.000000, -1.000000, -1.000000, -1.000000, -1.000000, -1.000000, -1.000000, -1.000000 |
Post Crop Vignette Amount | -4 |
Post Crop Vignette Feather | 50 |
Post Crop Vignette Highlight Contrast | 0 |
Post Crop Vignette Midpoint | 50 |
Post Crop Vignette Roundness | 0 |
Post Crop Vignette Style | 1 |
Preserved File Name | _IRO2854.RAF |
Process Version | 15.4 |
Range Mask Map Info Range Mask Map Info Lab Max | 0.999863 0.632746 0.547036 |
Range Mask Map Info Range Mask Map Info Lab Min | 0.001923 0.484230 0.476249 |
Range Mask Map Info Range Mask Map Info RGB Max | 0.467430 0.257847 0.244648 |
Range Mask Map Info Range Mask Map Info RGB Min | 0.011398 0.004257 0.004303 |
Raw File Name | _IRO2854.RAF |
Red Hue | 0 |
Red Saturation | 0 |
Rights | Manfred Hofmann |
Scale Factor To 35 mm Equivalent | 1.5 |
Scene Capture Type | Standard |
Scene Type | Directly photographed |
Sensing Method | One-chip color area |
Sensitivity Type | Standard Output Sensitivity |
Shadow Tint | 0 |
Shadows 2012 | 0 |
Sharpen Detail | 25 |
Sharpen Edge Masking | 0 |
Sharpen Radius | +0.8 |
Sharpness | Normal |
Split Toning Balance | 0 |
Split Toning Highlight Hue | 0 |
Split Toning Highlight Saturation | 0 |
Split Toning Shadow Hue | 0 |
Split Toning Shadow Saturation | 0 |
State | Kurpfalz |
Subject | 01 Landschaft, Alle Landschaftsaufnahmen ab 01 / 2024, BRD, Bild, Infrarot, Ipernity, Kurpfalz, ORTE, PROJEKTE, Schwarzweiß, flickr, Öffentlich |
Subject Distance Range | Unknown |
Texture | +6 |
Tint | -57 |
Title | Sommer ... |
Tone Curve Name 2012 | Linear |
Tone Curve PV2012 | 0, 0, 255, 255 |
Tone Curve PV2012 Blue | 0, 0, 255, 255 |
Tone Curve PV2012 Green | 0, 0, 255, 255 |
Tone Curve PV2012 Red | 0, 0, 255, 255 |
Version | 16.4 |
Vignette Amount | 0 |
Vignette Correction Already Applied | True |
Weighted Flat Subject | Infrarot, Bild, Schwarzweiß, flickr, Öffentlich, Ipernity, Kurpfalz, BRD, ORTE, 01 Landschaft, Alle Landschaftsaufnahmen ab 01 / 2024, PROJEKTE |
White Balance | Manual |
Whites 2012 | 0 |