Shooting information for this photo
Camera: | OM Digital Solutions OM-5 |
Exposure: | 0.00156 sec. (1/640) |
Aperture: | f/8.0 |
Focal Length: | 15.0 mm (35 mm equivalent: 30.0 mm) |
Flash: | On, Did not fire |
Exposure mode: | Aperture-priority AE |
Max Aperture: | 1.7 |
Resolution: | 300 x 300 dpi |
Original Date: | 2024:06:18 20:25:12 |
Created on: | 2024:06:18 20:25:12 |
Modified on: | 2024:06:25 11:32:32 |
Software: | Adobe Photoshop Lightroom Classic 13.3.1 (Windows) |
Copyright: | LUMAHO |
Already Applied | True |
Artist | LUMAHO |
Auto Lateral CA | 1 |
Blacks 2012 | 0 |
Blue Hue | 0 |
Blue Saturation | 0 |
CFA Pattern | [Red,Green][Green,Blue] |
Camera Profile | Adobe Standard |
Camera Profiles Aperture Value | 6 |
Camera Profiles Author | Adobe |
Camera Profiles Auto Scale | False |
Camera Profiles Camera Pretty Name | OM Digital Solutions OM-5 |
Camera Profiles Camera Raw Profile | True |
Camera Profiles Focal Length | 15 |
Camera Profiles Focus Distance | 10000 |
Camera Profiles Lens | LEICA DG SUMMILUX 15/F1.7 |
Camera Profiles Lens Pretty Name | LEICA DG SUMMILUX 15/F1.7 |
Camera Profiles Make | OM Digital Solutions |
Camera Profiles Model | OM-5 |
Camera Profiles Perspective Model Image X Center | 0.496947 |
Camera Profiles Perspective Model Image Y Center | 0.5 |
Camera Profiles Perspective Model Radial Distort Param 1 | -0.19738 |
Camera Profiles Perspective Model Radial Distort Param 2 | 0.079717 |
Camera Profiles Perspective Model Radial Distort Param 3 | 0.008571 |
Camera Profiles Perspective Model Scale Factor | 1 |
Camera Profiles Perspective Model Version | 2 |
Camera Profiles Profile Name | Camera Settings |
Camera Profiles Sensor Format Factor | 1.993092 |
Camera Profiles Unique Camera Model | OM Digital Solutions OM-5 |
Circle Of Confusion | 0.015 mm |
City | bei Monsheim |
Clarity 2012 | +22 |
Color Grade Blending | 50 |
Color Grade Global Hue | 43 |
Color Grade Global Lum | 0 |
Color Grade Global Sat | 13 |
Color Grade Highlight Lum | 0 |
Color Grade Midtone Hue | 0 |
Color Grade Midtone Lum | 0 |
Color Grade Midtone Sat | 0 |
Color Grade Shadow Lum | 0 |
Color Noise Reduction | 25 |
Color Noise Reduction Detail | 50 |
Color Noise Reduction Smoothness | 50 |
Color Space | Uncalibrated |
Color Temperature | 5800 |
Compatible Version | 268632064 |
Contrast | Normal |
Contrast 2012 | +14 |
Country | BRD |
Creator | LUMAHO |
Crop Angle | 0 |
Crop Bottom | 1 |
Crop Constrain To Warp | 1 |
Crop Left | 0 |
Crop Right | 1 |
Crop Top | 0 |
Custom Rendered | Normal |
Date Created | 2024:06:18 20:25:12+09:00 |
Dehaze | +12 |
Digital Zoom Ratio | 1 |
Distortion Correction Already Applied | True |
Exposure 2012 | +0.50 |
Exposure Compensation | 0 |
Exposure Mode | Auto |
Field Of View | 61.9 deg |
Flash Compensation | 0 |
Focal Length In 35mm Format | 30 mm |
Format | image/jpeg |
Gain Control | Low gain up |
Grain Amount | 0 |
Gray Mixer Aqua | -18 |
Gray Mixer Blue | +9 |
Gray Mixer Green | -27 |
Gray Mixer Magenta | +4 |
Gray Mixer Orange | -19 |
Gray Mixer Purple | +16 |
Gray Mixer Red | -10 |
Gray Mixer Yellow | -23 |
Green Hue | 0 |
Green Saturation | 0 |
HDR Edit Mode | 0 |
Has Crop | True |
Has Settings | True |
Highlights 2012 | +8 |
Hyperfocal Distance | 1.87 m |
ISO | 250 |
Image Size | 5184x3888 |
Label | Grün |
Lateral Chromatic Aberration Correction Already Applied | True |
Lens | LEICA DG SUMMILUX 15/F1.7 |
Lens Info | 15mm f/1.7 |
Lens Manual Distortion Amount | 0 |
Lens Model | LEICA DG SUMMILUX 15/F1.7 |
Lens Profile Distortion Scale | 100 |
Lens Profile Enable | 1 |
Lens Profile Is Embedded | True |
Lens Profile Name | Camera Settings |
Lens Profile Setup | LensDefaults |
Lens Profile Vignetting Scale | 100 |
Light Source | Unknown |
Light Value | 14.0 |
Look Amount | 1 |
Look Group | Profiles |
Look Name | Adobe Monochrome |
Look Parameters Camera Profile | Adobe Standard |
Look Parameters Clarity 2012 | +8 |
Look Parameters Convert To Grayscale | True |
Look Parameters Look Table | 73ED6C18DDE909DD7EA2D771F5AC28 2D |
Look Parameters Process Version | 15.4 |
Look Parameters Tone Curve PV2012 | 0, 0, 64, 56, 128, 128, 192, 197, 255, 255 |
Look Parameters Tone Curve PV2012 Blue | 0, 0, 255, 255 |
Look Parameters Tone Curve PV2012 Green | 0, 0, 255, 255 |
Look Parameters Tone Curve PV2012 Red | 0, 0, 255, 255 |
Look Parameters Version | 16.3.1 |
Look Supports Amount | false |
Look Supports Monochrome | false |
Look Supports Output Referred | false |
Luminance Smoothing | 0 |
Metering Mode | Multi-segment |
Override Look Vignette | False |
Parametric Darks | -16 |
Parametric Highlight Split | 75 |
Parametric Highlights | +34 |
Parametric Lights | +16 |
Parametric Midtone Split | 50 |
Parametric Shadow Split | 25 |
Parametric Shadows | -34 |
Perspective Aspect | 0 |
Perspective Horizontal | 0 |
Perspective Rotate | 0.0 |
Perspective Scale | 100 |
Perspective Upright | 1 |
Perspective Vertical | 0 |
Perspective X | 0.00 |
Perspective Y | 0.00 |
Pick | 0 |
Point Colors | -1.000000, -1.000000, -1.000000, -1.000000, -1.000000, -1.000000, -1.000000, -1.000000, -1.000000, -1.000000, -1.000000, -1.000000, -1.000000, -1.000000, -1.000000, -1.000000, -1.000000, -1.000000, -1.000000 |
Post Crop Vignette Amount | -5 |
Post Crop Vignette Feather | 50 |
Post Crop Vignette Highlight Contrast | 0 |
Post Crop Vignette Midpoint | 50 |
Post Crop Vignette Roundness | 0 |
Post Crop Vignette Style | 1 |
Preserved File Name | _OM50026.ORF |
Process Version | 15.4 |
Range Mask Map Info Range Mask Map Info Lab Max | 0.999985 0.593683 0.555962 |
Range Mask Map Info Range Mask Map Info Lab Min | 0.003571 0.429709 0.461387 |
Range Mask Map Info Range Mask Map Info RGB Max | 0.371588 0.382773 0.409186 |
Range Mask Map Info Range Mask Map Info RGB Min | 0.004959 0.003449 0.002228 |
Raw File Name | _OM50026.ORF |
Red Hue | 0 |
Red Saturation | 0 |
Remove Areas Fill method | firefly |
Remove Areas Masks Gesture Center Weight | 0 |
Remove Areas Masks Gesture Flow | 1 |
Remove Areas Masks Gesture Mask Active | true |
Remove Areas Masks Gesture Mask Blend Mode | 0 |
Remove Areas Masks Gesture Mask Inverted | false |
Remove Areas Masks Gesture Mask Sync ID | EDB4B7F6F5E87243AD228351BE82D1 34 |
Remove Areas Masks Gesture Mask Value | 1 |
Remove Areas Masks Gesture Radius | 0 |
Remove Areas Masks Gesture What | Mask/Paint |
Remove Areas Masks Mask Active | true |
Remove Areas Masks Mask Blend Mode | 0 |
Remove Areas Masks Mask Inverted | false |
Remove Areas Masks Mask Sub Type | 0 |
Remove Areas Masks Mask Sync ID | 6F05A5C828BBF64E8B4FF7E92BFD89 17 |
Remove Areas Masks Mask Value | 1 |
Remove Areas Masks Mask Version | 1 |
Remove Areas Masks Model Version | 234881976 |
Remove Areas Masks Origin | 1372,504 |
Remove Areas Masks Reference Point | 0.600174 0.355955 |
Remove Areas Masks What | Mask/Image |
Remove Areas Masks Whole Image Area | 0/1,0/1,1920/1,2560/1 |
Remove Areas Opacity | 1 |
Remove Areas Pm black level | 4194 |
Remove Areas Pm clio model version | 1.0.5-beta.1-1.2_1.2-8c2cea4-0 .1.27.1r16.2 |
Remove Areas Pm current variation index | 2 |
Remove Areas Pm gamma type | 1 |
Remove Areas Pm mask remap info | 0.000000000,1.000000000,0.0000 00000,1.000000000 |
Remove Areas Pm patch | FBDA11CD05136BCA85764C265F55C8 83 |
Remove Areas Pm patch mask | 66F74A17ABDDE3935A1C4EAE4230DA 41 |
Remove Areas Pm patch variations Pm patch variation | 265556BF180F0F2688B0C9212A76A9 70 |
Remove Areas Pm remap info 0 | 0.114305332,0.323094517,0.0000 00000,1.000000000 |
Remove Areas Pm remap info 1 | 0.107896544,0.597131312,0.0000 00000,1.000000000 |
Remove Areas Pm remap info 2 | 0.102449074,0.337315947,0.0000 00000,1.000000000 |
Remove Areas Pm remap info variation 0 0 | 0.120622568,0.323094517,0.0000 00000,1.000000000 |
Remove Areas Pm remap info variation 0 1 | 0.138750285,0.587075591,0.0000 00000,1.000000000 |
Remove Areas Pm remap info variation 0 2 | 0.120378427,0.343053341,0.0000 00000,1.000000000 |
Remove Areas Pm remap info variation 1 0 | 0.115068287,0.335713744,0.0000 00000,1.000000000 |
Remove Areas Pm remap info variation 1 1 | 0.128282592,0.628427565,0.0000 00000,1.000000000 |
Remove Areas Pm remap info variation 1 2 | 0.114595257,0.359441519,0.0000 00000,1.000000000 |
Remove Areas Pm search bottom | 2077 |
Remove Areas Pm search left | 2513 |
Remove Areas Pm search right | 3834 |
Remove Areas Pm search top | 756 |
Remove Areas Pm source type | full |
Remove Areas Pm target bottom | 1812 |
Remove Areas Pm target left | 2778 |
Remove Areas Pm target right | 3446 |
Remove Areas Pm target top | 1021 |
Remove Areas Pm version | 327680 |
Remove Areas Pm whole image bottom | 3900 |
Remove Areas Pm whole image left | 12 |
Remove Areas Pm whole image right | 5196 |
Remove Areas Pm whole image top | 12 |
Remove Areas Seed | 2 |
Remove Areas Source State | sourceAutoComputed |
Remove Areas Spot Type | heal_patchmatch |
Rights | LUMAHO |
Saturation | Normal |
Scale Factor To 35 mm Equivalent | 2.0 |
Scene Capture Type | Standard |
Sensitivity Type | Standard Output Sensitivity |
Shadow Tint | 0 |
Shadows 2012 | +10 |
Sharpen Detail | 25 |
Sharpen Edge Masking | 0 |
Sharpen Radius | +0.8 |
Sharpness | Normal |
Split Toning Balance | 0 |
Split Toning Highlight Hue | 0 |
Split Toning Highlight Saturation | 0 |
Split Toning Shadow Hue | 0 |
Split Toning Shadow Saturation | 0 |
State | Rheinhessen |
Subject | 01 Landschaft, Alle Landschaftsaufnahmen ab 01 / 2024, BRD, Bild, Ipernity, ORTE, PROJEKTE, Rheinland-Pfalz, Schwarzweiß, flickr, Öffentlich |
Texture | +6 |
Tint | +13 |
Title | Auf der Suche nach Trulli |
Tone Curve Name 2012 | Linear |
Tone Curve PV2012 | 0, 0, 255, 255 |
Tone Curve PV2012 Blue | 0, 0, 255, 255 |
Tone Curve PV2012 Green | 0, 0, 255, 255 |
Tone Curve PV2012 Red | 0, 0, 255, 255 |
Version | 16.3.1 |
Vignette Amount | 0 |
Weighted Flat Subject | flickr, Öffentlich, Ipernity, 01 Landschaft, Alle Landschaftsaufnahmen ab 01 / 2024, PROJEKTE, Rheinland-Pfalz, BRD, ORTE, Schwarzweiß, Bild |
White Balance | Auto |
Whites 2012 | 0 |