Shooting information for this photo
Camera: | FUJIFILM X-T5 |
Exposure: | 0.00625 sec. (1/160) |
Aperture: | f/8.0 |
Focal Length: | 73.8 mm (35 mm equivalent: 111.0 mm) |
Flash: | No Flash |
Exposure mode: | Aperture-priority AE |
Max Aperture: | 4.0 |
Resolution: | 240 x 240 dpi |
Original Date: | 2025:04:06 12:36:47 |
Created on: | 2025:04:06 12:36:47 |
Modified on: | 2025:04:06 14:25:27 |
Software: | Adobe Lightroom 8.2 (Macintosh) |
Already Applied | True |
Artist | (c) Ralf Kneemeyer |
Auto Lateral CA | 1 |
Blacks 2012 | 0 |
Blue Hue | 0 |
Blue Saturation | 0 |
Brightness Value | 7.25 |
Camera Profile | Camera REALA ACE v2 |
Camera Profiles Aperture Value | 6 |
Camera Profiles Author | Adobe |
Camera Profiles Auto Scale | False |
Camera Profiles Camera Pretty Name | Fujifilm X-T5 |
Camera Profiles Camera Raw Profile | True |
Camera Profiles Focal Length | 73.8 |
Camera Profiles Focus Distance | 10000 |
Camera Profiles Lens | XF18-120mmF4 LM PZ WR |
Camera Profiles Lens Pretty Name | XF18-120mmF4 LM PZ WR |
Camera Profiles Make | FUJIFILM |
Camera Profiles Model | X-T5 |
Camera Profiles Perspective Model Image X Center | 0.485248 |
Camera Profiles Perspective Model Image Y Center | 0.545807 |
Camera Profiles Perspective Model Radial Distort Param 1 | 1.924748 |
Camera Profiles Perspective Model Radial Distort Param 2 | 2.385576 |
Camera Profiles Perspective Model Radial Distort Param 3 | 8.839026 |
Camera Profiles Perspective Model Scale Factor | 0.931625 |
Camera Profiles Perspective Model Version | 2 |
Camera Profiles Perspective Model Vignette Model Image X Center | 0.492624 |
Camera Profiles Perspective Model Vignette Model Image Y Center | 0.522904 |
Camera Profiles Perspective Model Vignette Model Vignette Model Param 1 | 1 |
Camera Profiles Perspective Model Vignette Model Vignette Model Piecewise Param | 0.000000, 1.000000, 0.067319, 0.980840, 0.095212, 0.965127, 0.116668, 0.949023, 0.134638, 0.933452, 0.150596, 0.921689, 0.164945, 0.909814, 0.178086, 0.898242, 0.190424, 0.866694, 0.201957, 0.866694 |
Camera Profiles Profile Name | Camera Settings |
Camera Profiles Sensor Format Factor | 1.539063 |
Camera Profiles Unique Camera Model | Fujifilm X-T5 |
Circle Of Confusion | 0.020 mm |
City | Ibbenbüren |
Clarity 2012 | +19 |
Color Grade Blending | 50 |
Color Grade Global Hue | 0 |
Color Grade Global Lum | 0 |
Color Grade Global Sat | 0 |
Color Grade Highlight Lum | 0 |
Color Grade Midtone Hue | 0 |
Color Grade Midtone Lum | 0 |
Color Grade Midtone Sat | 0 |
Color Grade Shadow Lum | 0 |
Color Noise Reduction | 25 |
Color Noise Reduction Detail | 50 |
Color Noise Reduction Smoothness | 50 |
Color Space | sRGB |
Color Temperature | 5094 |
Contrast 2012 | 0 |
Convert To Grayscale | False |
Country | Deutschland |
Creator | (c) Ralf Kneemeyer |
Crop Angle | 0 |
Crop Bottom | 1 |
Crop Constrain To Warp | 0 |
Crop Left | 0 |
Crop Right | 1 |
Crop Top | 0 |
Custom Rendered | Normal |
Date Created | 2025:04:06 12:36:47+02:00 |
Defringe Green Amount | 0 |
Defringe Green Hue Hi | 60 |
Defringe Green Hue Lo | 40 |
Defringe Purple Amount | 0 |
Defringe Purple Hue Hi | 70 |
Defringe Purple Hue Lo | 30 |
Dehaze | +21 |
Distortion Correction Already Applied | True |
Exposure 2012 | +0.80 |
Exposure Compensation | -0.33 |
Exposure Mode | Auto |
Field Of View | 18.4 deg |
Focal Length In 35mm Format | 111 mm |
Format | image/jpeg |
Fuji Rating Already Applied | True |
Good | True |
Grain Amount | 0 |
Green Hue | 0 |
Green Saturation | 0 |
HDR Edit Mode | 0 |
Has Crop | False |
Has Settings | True |
Highlights 2012 | 0 |
Hue Adjustment Aqua | 0 |
Hue Adjustment Blue | 0 |
Hue Adjustment Green | 0 |
Hue Adjustment Magenta | 0 |
Hue Adjustment Orange | 0 |
Hue Adjustment Purple | 0 |
Hue Adjustment Red | 0 |
Hue Adjustment Yellow | 0 |
Hyperfocal Distance | 34.08 m |
ISO | 200 |
Image Size | 7728x5152 |
Lateral Chromatic Aberration Correction Already Applied | True |
Lens | XF18-120mmF4 LM PZ WR |
Lens Info | 18-120mm f/4 |
Lens Make | FUJIFILM |
Lens Manual Distortion Amount | 0 |
Lens Model | XF18-120mmF4 LM PZ WR |
Lens Profile Distortion Scale | 100 |
Lens Profile Enable | 1 |
Lens Profile Is Embedded | True |
Lens Profile Name | Camera Settings |
Lens Profile Setup | LensDefaults |
Lens Profile Vignetting Scale | 100 |
Light Source | Unknown |
Light Value | 12.3 |
Luminance Adjustment Aqua | 0 |
Luminance Adjustment Blue | 0 |
Luminance Adjustment Green | 0 |
Luminance Adjustment Magenta | 0 |
Luminance Adjustment Orange | 0 |
Luminance Adjustment Purple | 0 |
Luminance Adjustment Red | 0 |
Luminance Adjustment Yellow | 0 |
Luminance Smoothing | 0 |
Metering Mode | Multi-segment |
Override Look Vignette | False |
Parametric Darks | 0 |
Parametric Highlight Split | 75 |
Parametric Highlights | 0 |
Parametric Lights | 0 |
Parametric Midtone Split | 50 |
Parametric Shadow Split | 25 |
Parametric Shadows | 0 |
Perspective Aspect | 0 |
Perspective Horizontal | 0 |
Perspective Rotate | 0.0 |
Perspective Scale | 100 |
Perspective Upright | 0 |
Perspective Vertical | 0 |
Perspective X | 0.00 |
Perspective Y | 0.00 |
Point Colors | -1.000000, -1.000000, -1.000000, -1.000000, -1.000000, -1.000000, -1.000000, -1.000000, -1.000000, -1.000000, -1.000000, -1.000000, -1.000000, -1.000000, -1.000000, -1.000000, -1.000000, -1.000000, -1.000000 |
Post Crop Vignette Amount | -35 |
Post Crop Vignette Feather | 50 |
Post Crop Vignette Highlight Contrast | 0 |
Post Crop Vignette Midpoint | 50 |
Post Crop Vignette Roundness | 0 |
Post Crop Vignette Style | 1 |
Process Version | 15.4 |
Provenance | https://cai-manifests.adobe.co m/manifests/adobe-urn-uuid-145 262eb-292e-4686-a4e7-60b20fd23 bf9 |
Rating | 4 |
Raw File Name | DSCF7067.RAF |
Red Hue | 0 |
Red Saturation | 0 |
Saturation | +23 |
Saturation Adjustment Aqua | 0 |
Saturation Adjustment Blue | 0 |
Saturation Adjustment Green | 0 |
Saturation Adjustment Magenta | 0 |
Saturation Adjustment Orange | 0 |
Saturation Adjustment Purple | 0 |
Saturation Adjustment Red | 0 |
Saturation Adjustment Yellow | 0 |
Scale Factor To 35 mm Equivalent | 1.5 |
Scene Capture Type | Standard |
Scene Type | Directly photographed |
Sensing Method | One-chip color area |
Sensitivity Type | Standard Output Sensitivity |
Shadow Tint | 0 |
Shadows 2012 | 0 |
Sharpen Detail | 25 |
Sharpen Edge Masking | 0 |
Sharpen Radius | +1.0 |
Sharpness | Normal |
Split Toning Balance | 0 |
Split Toning Highlight Hue | 0 |
Split Toning Highlight Saturation | 0 |
Split Toning Shadow Hue | 0 |
Split Toning Shadow Saturation | 0 |
State | Nordrhein-Westfalen |
Subject Distance Range | Unknown |
Texture | +18 |
Tint | +7 |
Tone Curve Name 2012 | Linear |
Tone Curve PV2012 | 0, 0, 255, 255 |
Tone Curve PV2012 Blue | 0, 0, 255, 255 |
Tone Curve PV2012 Green | 0, 0, 255, 255 |
Tone Curve PV2012 Red | 0, 0, 255, 255 |
Version | 17.2 |
Vibrance | +20 |
Vignette Amount | 0 |
Vignette Correction Already Applied | True |
White Balance | Auto |
Whites 2012 | 0 |
GPS Information |
GPS Altitude | 157 m |
GPS Date Stamp | 2025:04:06 |
GPS Date/Time | 2025:04:06 09:12:06Z |
GPS Latitude | 52 deg 17' 39.37" N |
GPS Latitude Ref | North |
GPS Longitude | 7 deg 45' 13.14" E |
GPS Longitude Ref | East |
GPS Map Datum | WGS-84 |
GPS Position | 52 deg 17' 39.37" N, 7 deg 45' 13.14" E |
GPS Speed | 360 |
GPS Speed Ref | km/h |
GPS Time Stamp | 09:12:06 |
GPS Version ID | 2.2.0.0 |