Shooting information for this photo
Camera: | FUJIFILM X-T5 |
Exposure: | 0.00031 sec. (1/3200) |
Aperture: | f/9.0 |
Focal Length: | 183.1 mm (35 mm equivalent: 275.0 mm) |
Flash: | No Flash |
Exposure mode: | Aperture-priority AE |
Max Aperture: | 4.4 |
Resolution: | 240 x 240 dpi |
Original Date: | 2025:04:01 17:44:20 |
Created on: | 2025:04:01 17:44:20 |
Modified on: | 2025:04:06 14:24:49 |
Software: | Adobe Lightroom 8.2 (Macintosh) |
Already Applied | True |
Artist | (c) Ralf Kneemeyer |
Auto Lateral CA | 1 |
Blacks 2012 | 0 |
Blue Hue | 0 |
Blue Saturation | 0 |
Brightness Value | 9.97 |
Camera Profile | Camera REALA ACE v2 |
Camera Profiles Aperture Value | 6.33985 |
Camera Profiles Author | Adobe |
Camera Profiles Auto Scale | False |
Camera Profiles Camera Pretty Name | Fujifilm X-T5 |
Camera Profiles Camera Raw Profile | True |
Camera Profiles Focal Length | 183.1 |
Camera Profiles Focus Distance | 10000 |
Camera Profiles Lens | XF100-400mmF4.5-5.6 R LM OIS WR |
Camera Profiles Lens Pretty Name | XF100-400mmF4.5-5.6 R LM OIS WR |
Camera Profiles Make | FUJIFILM |
Camera Profiles Model | X-T5 |
Camera Profiles Perspective Model Image X Center | 0.498188 |
Camera Profiles Perspective Model Image Y Center | 0.502329 |
Camera Profiles Perspective Model Radial Distort Param 1 | 5.166322 |
Camera Profiles Perspective Model Radial Distort Param 2 | 90.01151 |
Camera Profiles Perspective Model Radial Distort Param 3 | -2348.44351 |
Camera Profiles Perspective Model Scale Factor | 0.96794 |
Camera Profiles Perspective Model Version | 2 |
Camera Profiles Perspective Model Vignette Model Image X Center | 0.499094 |
Camera Profiles Perspective Model Vignette Model Image Y Center | 0.501165 |
Camera Profiles Perspective Model Vignette Model Vignette Model Param 1 | 1 |
Camera Profiles Perspective Model Vignette Model Vignette Model Piecewise Param | 0.000000, 1.000000, 0.027133, 0.996108, 0.038376, 0.996108, 0.047024, 0.992246, 0.054267, 0.992246, 0.060699, 0.988892, 0.066482, 0.988413, 0.071779, 0.984614, 0.076752, 0.980840, 0.081400, 0.980840 |
Camera Profiles Profile Name | Camera Settings |
Camera Profiles Sensor Format Factor | 1.539063 |
Camera Profiles Unique Camera Model | Fujifilm X-T5 |
Circle Of Confusion | 0.020 mm |
Clarity 2012 | +21 |
Color Grade Blending | 50 |
Color Grade Global Hue | 0 |
Color Grade Global Lum | 0 |
Color Grade Global Sat | 0 |
Color Grade Highlight Lum | 0 |
Color Grade Midtone Hue | 0 |
Color Grade Midtone Lum | 0 |
Color Grade Midtone Sat | 0 |
Color Grade Shadow Lum | 0 |
Color Noise Reduction | 25 |
Color Noise Reduction Detail | 50 |
Color Noise Reduction Smoothness | 50 |
Color Space | sRGB |
Color Temperature | 6704 |
Compatible Version | 251854848 |
Contrast 2012 | 0 |
Convert To Grayscale | False |
Creator | (c) Ralf Kneemeyer |
Crop Angle | -1.24 |
Crop Bottom | 0.918154 |
Crop Constrain To Warp | 0 |
Crop Left | 0 |
Crop Right | 0.905726 |
Crop Top | 0.054301 |
Custom Rendered | Normal |
Date Created | 2025:04:01 17:44:20+01:00 |
Defringe Green Amount | 0 |
Defringe Green Hue Hi | 60 |
Defringe Green Hue Lo | 40 |
Defringe Purple Amount | 0 |
Defringe Purple Hue Hi | 70 |
Defringe Purple Hue Lo | 30 |
Dehaze | +17 |
Distortion Correction Already Applied | True |
Exposure 2012 | +1.26 |
Exposure Compensation | -0.67 |
Exposure Mode | Auto |
Field Of View | 7.5 deg |
Focal Length In 35mm Format | 275 mm |
Format | image/jpeg |
Fuji Rating Already Applied | True |
Good | True |
Grain Amount | 0 |
Green Hue | 0 |
Green Saturation | 0 |
HDR Edit Mode | 0 |
Has Crop | True |
Has Settings | True |
Highlights 2012 | 0 |
Hue Adjustment Aqua | 0 |
Hue Adjustment Blue | 0 |
Hue Adjustment Green | 0 |
Hue Adjustment Magenta | 0 |
Hue Adjustment Orange | 0 |
Hue Adjustment Purple | 0 |
Hue Adjustment Red | 0 |
Hue Adjustment Yellow | 0 |
Hyperfocal Distance | 186.20 m |
ISO | 500 |
Image Size | 6901x4601 |
Lateral Chromatic Aberration Correction Already Applied | True |
Lens | XF100-400mmF4.5-5.6 R LM OIS WR |
Lens Info | 100-400mm f/4.5-5.6 |
Lens Make | FUJIFILM |
Lens Manual Distortion Amount | 0 |
Lens Model | XF100-400mmF4.5-5.6 R LM OIS WR |
Lens Profile Distortion Scale | 100 |
Lens Profile Enable | 1 |
Lens Profile Is Embedded | True |
Lens Profile Name | Camera Settings |
Lens Profile Setup | LensDefaults |
Lens Profile Vignetting Scale | 100 |
Light Source | Unknown |
Light Value | 15.7 |
Luminance Adjustment Aqua | 0 |
Luminance Adjustment Blue | 0 |
Luminance Adjustment Green | 0 |
Luminance Adjustment Magenta | 0 |
Luminance Adjustment Orange | 0 |
Luminance Adjustment Purple | 0 |
Luminance Adjustment Red | 0 |
Luminance Adjustment Yellow | 0 |
Luminance Smoothing | 0 |
Metering Mode | Spot |
Override Look Vignette | False |
Parametric Darks | 0 |
Parametric Highlight Split | 75 |
Parametric Highlights | 0 |
Parametric Lights | 0 |
Parametric Midtone Split | 50 |
Parametric Shadow Split | 25 |
Parametric Shadows | 0 |
Perspective Aspect | 0 |
Perspective Horizontal | 0 |
Perspective Rotate | 0.0 |
Perspective Scale | 100 |
Perspective Upright | 0 |
Perspective Vertical | 0 |
Perspective X | 0.00 |
Perspective Y | 0.00 |
Point Colors | -1.000000, -1.000000, -1.000000, -1.000000, -1.000000, -1.000000, -1.000000, -1.000000, -1.000000, -1.000000, -1.000000, -1.000000, -1.000000, -1.000000, -1.000000, -1.000000, -1.000000, -1.000000, -1.000000 |
Post Crop Vignette Amount | 0 |
Process Version | 15.4 |
Provenance | https://cai-manifests.adobe.co m/manifests/adobe-urn-uuid-5ab b8af5-f6bb-4479-aee1-2afa6e7cc ebe |
Rating | 4 |
Raw File Name | DSCF6893.RAF |
Red Hue | 0 |
Red Saturation | 0 |
Saturation | +19 |
Saturation Adjustment Aqua | 0 |
Saturation Adjustment Blue | 0 |
Saturation Adjustment Green | 0 |
Saturation Adjustment Magenta | 0 |
Saturation Adjustment Orange | 0 |
Saturation Adjustment Purple | 0 |
Saturation Adjustment Red | 0 |
Saturation Adjustment Yellow | 0 |
Scale Factor To 35 mm Equivalent | 1.5 |
Scene Capture Type | Standard |
Scene Type | Directly photographed |
Sensing Method | One-chip color area |
Sensitivity Type | Standard Output Sensitivity |
Shadow Tint | 0 |
Shadows 2012 | 0 |
Sharpen Detail | 25 |
Sharpen Edge Masking | 0 |
Sharpen Radius | +1.0 |
Sharpness | Normal |
Split Toning Balance | 0 |
Split Toning Highlight Hue | 0 |
Split Toning Highlight Saturation | 0 |
Split Toning Shadow Hue | 0 |
Split Toning Shadow Saturation | 0 |
Subject Distance Range | Unknown |
Texture | +10 |
Tint | +7 |
Tone Curve Name 2012 | Linear |
Tone Curve PV2012 | 0, 0, 255, 255 |
Tone Curve PV2012 Blue | 0, 0, 255, 255 |
Tone Curve PV2012 Green | 0, 0, 255, 255 |
Tone Curve PV2012 Red | 0, 0, 255, 255 |
Version | 17.2 |
Vibrance | 0 |
Vignette Amount | 0 |
Vignette Correction Already Applied | True |
White Balance | Auto |
Whites 2012 | 0 |