Shooting information for this photo
Camera: | Canon EOS 5D Mark III |
Created on: | 2023:04:06 18:44:24.40 |
Modified on: | 2023:10:27 22:22:43 |
Software: | Adobe Photoshop Camera Raw 16.0 (Windows) |
Already Applied | False |
Analog Balance | 1 1 1 |
Approximate Focus Distance | 10.8 |
As Shot Neutral | 0.432615 1 0.696125 |
Auto Lateral CA | 0 |
Baseline Exposure | 1.25 |
Baseline Noise | 0.8 |
Baseline Sharpness | 1.2 |
Blacks 2012 | 0 |
Blue Hue | 0 |
Blue Saturation | 0 |
Calibration Illuminant 1 | Standard Light A |
Calibration Illuminant 2 | D65 |
Camera Calibration 1 | 0.9767 0 0 0 1 0 0 0 0.9873 |
Camera Calibration 2 | 0.9767 0 0 0 1 0 0 0 0.9873 |
Camera Profile | Adobe Standard |
Camera Serial Number | 053023003595 |
Clarity 2012 | +23 |
Color Grade Blending | 50 |
Color Grade Global Hue | 0 |
Color Grade Global Lum | 0 |
Color Grade Global Sat | 0 |
Color Grade Highlight Lum | 0 |
Color Grade Midtone Hue | 0 |
Color Grade Midtone Lum | 0 |
Color Grade Midtone Sat | 0 |
Color Grade Shadow Lum | 0 |
Color Matrix 1 | 0.7234 -0.1413 -0.06 -0.3631 1.115 0.285 -0.0382 0.1335 0.6437 |
Color Matrix 2 | 0.6722 -0.0635 -0.0963 -0.4287 1.246 0.2028 -0.0908 0.2162 0.5668 |
Color Noise Reduction | 0 |
Color Temperature | 6500 |
Compatible Version | 251854848 |
Contrast 2012 | 0 |
Crop Angle | 0 |
Crop Bottom | 0.87761 |
Crop Constrain To Warp | 0 |
Crop Left | 0.275378 |
Crop Right | 0.971202 |
Crop Top | 0.181786 |
DNG Backward Version | 1.1.0.0 |
DNG Lens Info | 70-300mm f/? |
DNG Version | 1.7.0.0 |
Date Created | 2023:04:06 18:44:24.40 |
Defringe Green Amount | 0 |
Defringe Green Hue Hi | 60 |
Defringe Green Hue Lo | 40 |
Defringe Purple Amount | 0 |
Defringe Purple Hue Hi | 70 |
Defringe Purple Hue Lo | 30 |
Dehaze | +13 |
Enhance Denoise Already Applied | True |
Enhance Denoise Luma Amount | 41 |
Enhance Denoise Version | 251658240 |
Enhance Details Already Applied | True |
Enhance Details Version | 218300416 |
Exposure 2012 | 0.00 |
Firmware | 1.3.3 |
Flash Compensation | 0 |
Format | image/dng |
Grain Amount | 0 |
Green Hue | 0 |
Green Saturation | 0 |
HDR Edit Mode | 0 |
Has Crop | True |
Has Settings | True |
Highlights 2012 | 0 |
Hue Adjustment Aqua | 0 |
Hue Adjustment Blue | 0 |
Hue Adjustment Green | 0 |
Hue Adjustment Magenta | 0 |
Hue Adjustment Orange | 0 |
Hue Adjustment Purple | 0 |
Hue Adjustment Red | 0 |
Hue Adjustment Yellow | 0 |
Image Number | 0 |
Image Size | 1024x683 |
Lens | EF70-300mm f/4-5.6 IS II USM |
Lens ID | Canon EF70-300mm f/4-5.6 IS II USM |
Lens Info | 70-300mm f/? |
Lens Manual Distortion Amount | 0 |
Lens Model | EF70-300mm f/4-5.6 IS II USM |
Lens Profile Enable | 0 |
Linear Response Limit | 1 |
Look Amount | 1 |
Look Copyright | © 2018 Adobe Systems, Inc. |
Look Group | Profiles |
Look Name | Adobe Color |
Look Parameters Camera Profile | Adobe Standard |
Look Parameters Convert To Grayscale | False |
Look Parameters Look Table | E1095149FDB39D7A057BAB208837E2 E1 |
Look Parameters Process Version | 15.4 |
Look Parameters Tone Curve PV2012 | 0, 0, 22, 16, 40, 35, 127, 127, 224, 230, 240, 246, 255, 255 |
Look Parameters Tone Curve PV2012 Blue | 0, 0, 255, 255 |
Look Parameters Tone Curve PV2012 Green | 0, 0, 255, 255 |
Look Parameters Tone Curve PV2012 Red | 0, 0, 255, 255 |
Look Parameters Version | 16.0 |
Look Supports Amount | false |
Look Supports Monochrome | false |
Look Supports Output Referred | false |
Luminance Adjustment Aqua | 0 |
Luminance Adjustment Blue | 0 |
Luminance Adjustment Green | 0 |
Luminance Adjustment Magenta | 0 |
Luminance Adjustment Orange | 0 |
Luminance Adjustment Purple | 0 |
Luminance Adjustment Red | 0 |
Luminance Adjustment Yellow | 0 |
Luminance Smoothing | 0 |
Override Look Vignette | False |
Parametric Darks | 0 |
Parametric Highlight Split | 75 |
Parametric Highlights | 0 |
Parametric Lights | 0 |
Parametric Midtone Split | 50 |
Parametric Shadow Split | 25 |
Parametric Shadows | 0 |
Perspective Aspect | 0 |
Perspective Horizontal | 0 |
Perspective Rotate | 0.0 |
Perspective Scale | 100 |
Perspective Upright | 0 |
Perspective Vertical | 0 |
Perspective X | 0.00 |
Perspective Y | 0.00 |
Photometric Interpretation | RGB |
Planar Configuration | Chunky |
Post Crop Vignette Amount | 0 |
Preview Color Space | 2 |
Process Version | 15.4 |
Profile Embed Policy | Allow Copying |
Red Hue | 0 |
Red Saturation | 0 |
Rows Per Strip | 171 |
Samples Per Pixel | 3 |
Saturation | 0 |
Saturation Adjustment Aqua | 0 |
Saturation Adjustment Blue | 0 |
Saturation Adjustment Green | 0 |
Saturation Adjustment Magenta | 0 |
Saturation Adjustment Orange | 0 |
Saturation Adjustment Purple | 0 |
Saturation Adjustment Red | 0 |
Saturation Adjustment Yellow | 0 |
Shadow Scale | 0.5 |
Shadow Tint | 0 |
Shadows 2012 | +31 |
Sharpen Detail | 25 |
Sharpen Edge Masking | 0 |
Sharpen Radius | +1.0 |
Sharpness | 40 |
Split Toning Balance | 0 |
Split Toning Highlight Hue | 0 |
Split Toning Highlight Saturation | 0 |
Split Toning Shadow Hue | 0 |
Split Toning Shadow Saturation | 0 |
Strip Byte Counts | 131328 |
Strip Offsets | 215670 |
Subfile Type | Reduced-resolution image |
Texture | +5 |
Tint | +10 |
Tone Curve Name 2012 | Linear |
Tone Curve PV2012 | 0, 0, 255, 255 |
Tone Curve PV2012 Blue | 0, 0, 255, 255 |
Tone Curve PV2012 Green | 0, 0, 255, 255 |
Tone Curve PV2012 Red | 0, 0, 255, 255 |
Unique Camera Model | Canon EOS 5D Mark III |
Version | 16.0 |
Vibrance | 0 |
Vignette Amount | 0 |
White Balance | As Shot |
Whites 2012 | 0 |