Shooting information for this photo
Camera: | Canon EOS 80D |
Exposure: | 0.0008 sec. (1/1250) |
Aperture: | f/9.0 |
Focal Length: | 18.0 mm (35 mm equivalent: 30.6 mm) |
Flash: | Off, Did not fire |
Exposure mode: | Aperture-priority AE |
Max Aperture: | 3.5 |
Resolution: | 72 x 72 dpi |
Original Date: | 2025:03:14 13:39:49.63 |
Created on: | 2025:03:14 13:39:49.63 |
Modified on: | 2025:03:23 15:41:17.63 |
Software: | Adobe Photoshop Lightroom Classic 14.1.1 (Windows) |
Already Applied | True |
Approximate Focus Distance | 120 |
Auto Lateral CA | 0 |
Blacks 2012 | 0 |
Blue Hue | 0 |
Blue Saturation | 0 |
Camera Profile | Embedded |
Circle Of Confusion | 0.018 mm |
City | Barnsley |
Clarity 2012 | +10 |
Color Grade Blending | 50 |
Color Grade Global Hue | 0 |
Color Grade Global Lum | 0 |
Color Grade Global Sat | 0 |
Color Grade Highlight Lum | 0 |
Color Grade Midtone Hue | 0 |
Color Grade Midtone Lum | 0 |
Color Grade Midtone Sat | 0 |
Color Grade Shadow Lum | 0 |
Color Noise Reduction | 0 |
Color Space | sRGB |
Compatible Version | 251854848 |
Contrast 2012 | 0 |
Country | United Kingdom |
Country Code | GB |
Crop Angle | 0 |
Crop Bottom | 1 |
Crop Constrain To Warp | 0 |
Crop Left | 0 |
Crop Right | 1 |
Crop Top | 0 |
Custom Rendered | Normal |
Date Created | 2025:03:14 13:39:49.063 |
Dehaze | 0 |
Distortion Correction Already Applied | True |
Exposure 2012 | 0.00 |
Exposure Compensation | -1/3 |
Exposure Mode | Auto |
Field Of View | 61.0 deg |
Firmware | 1.0.1 |
Flash Compensation | 0 |
Format | image/jpeg |
Good | true |
Grain Amount | 0 |
Gray Mixer Aqua | 0 |
Gray Mixer Blue | -20 |
Gray Mixer Green | +20 |
Gray Mixer Magenta | 0 |
Gray Mixer Orange | 0 |
Gray Mixer Purple | -11 |
Gray Mixer Red | 0 |
Gray Mixer Yellow | +10 |
Green Hue | 0 |
Green Saturation | 0 |
HDR Edit Mode | 0 |
Has Crop | False |
Has Settings | True |
Highlights 2012 | 0 |
Hyperfocal Distance | 2.03 m |
ISO | 400 |
Image Number | 0 |
Image Size | 5702x3801 |
Incremental Temperature | 0 |
Incremental Tint | 0 |
Lateral Chromatic Aberration Correction Already Applied | True |
Lens | 18-250mm |
Lens ID | Sigma 18-250mm f/3.5-6.3 DC OS HSM |
Lens Info | 18-250mm f/? |
Lens Manual Distortion Amount | 0 |
Lens Model | 18-250mm |
Lens Profile Enable | 0 |
Light Value | 14.6 |
Location | Stainborough |
Look Amount | 0.8 |
Look Cluster | Adobe |
Look Copyright | © 2018 Adobe Systems, Inc. |
Look Group | B&W |
Look Name | B&W 04 |
Look Parameters Clarity 2012 | +8 |
Look Parameters Contrast 2012 | +8 |
Look Parameters Convert To Grayscale | True |
Look Parameters Look Table | AC0E24EFC658D3BD29B430044AE2FB 7C |
Look Parameters Process Version | 15.4 |
Look Parameters Tone Curve PV2012 | 0, 0, 17, 10, 34, 24, 51, 41, 68, 63, 85, 89, 102, 116, 119, 143, 136, 169, 153, 193, 170, 212, 187, 228, 204, 239, 221, 246, 238, 251, 255, 255 |
Look Parameters Tone Curve PV2012 Blue | 0, 0, 255, 255 |
Look Parameters Tone Curve PV2012 Green | 0, 0, 255, 255 |
Look Parameters Tone Curve PV2012 Red | 0, 0, 255, 255 |
Look Parameters Version | 17.1 |
Look Sort Name | B&W 04 |
Look Supports Monochrome | false |
Luminance Smoothing | 0 |
Metering Mode | Multi-segment |
Override Look Vignette | False |
Parametric Darks | 0 |
Parametric Highlight Split | 75 |
Parametric Highlights | 0 |
Parametric Lights | 0 |
Parametric Midtone Split | 50 |
Parametric Shadow Split | 25 |
Parametric Shadows | 0 |
Perspective Aspect | 0 |
Perspective Horizontal | 0 |
Perspective Rotate | 0.0 |
Perspective Scale | 100 |
Perspective Upright | 0 |
Perspective Vertical | 0 |
Perspective X | 0.00 |
Perspective Y | 0.00 |
Pick | 1 |
Point Colors | -1.000000, -1.000000, -1.000000, -1.000000, -1.000000, -1.000000, -1.000000, -1.000000, -1.000000, -1.000000, -1.000000, -1.000000, -1.000000, -1.000000, -1.000000, -1.000000, -1.000000, -1.000000, -1.000000 |
Post Crop Vignette Amount | 0 |
Preserved File Name | IMG_3521.CR2 |
Process Version | 15.4 |
Rating | 3 |
Raw File Name | Wentworth Castle & Grounds-5.tif |
Recommended Exposure Index | 400 |
Red Hue | 0 |
Red Saturation | 0 |
Scale Factor To 35 mm Equivalent | 1.7 |
Scene Capture Type | Standard |
Sensitivity Type | Recommended Exposure Index |
Shadow Tint | 0 |
Shadows 2012 | 0 |
Sharpness | 0 |
Split Toning Balance | 0 |
Split Toning Highlight Hue | 0 |
Split Toning Highlight Saturation | 0 |
Split Toning Shadow Hue | 0 |
Split Toning Shadow Saturation | 0 |
State | England |
Subject | Barnsley, Canon, EOS80D, England, Landscape, National Trust, Nature, Parks & Gardens, Sky, South Yorkshire, Tree, Tree without leaves, Trees & plants, UK, Wentworth, Wentworth Castle Gardens, Yorkshire |
Texture | 0 |
Tone Curve Name 2012 | Linear |
Tone Curve PV2012 | 0, 0, 255, 255 |
Tone Curve PV2012 Blue | 0, 0, 255, 255 |
Tone Curve PV2012 Green | 0, 0, 255, 255 |
Tone Curve PV2012 Red | 0, 0, 255, 255 |
Version | 17.1 |
Vignette Amount | 0 |
Vignette Correction Already Applied | True |
Weighted Flat Subject | UK, England, Yorkshire, Canon, EOS80D, Barnsley, South Yorkshire, Wentworth, National Trust, Wentworth Castle Gardens, Landscape, Nature, Parks & Gardens, Sky, Trees & plants, Tree, Tree without leaves |
White Balance | Auto |
Whites 2012 | 0 |
GPS Information |
GPS Latitude | 53 deg 31' 26.67" N |
GPS Latitude Ref | North |
GPS Longitude | 1 deg 31' 8.55" W |
GPS Longitude Ref | West |
GPS Position | 53 deg 31' 26.67" N, 1 deg 31' 8.55" W |
GPS Version ID | 2.2.0.0 |