Shooting information for this photo
Camera: | FUJIFILM X-H2S |
Exposure: | 0.001 sec. (1/1000) |
Aperture: | f/2.8 |
Focal Length: | 55.0 mm (35 mm equivalent: 83.0 mm) |
Flash: | No Flash |
Exposure mode: | Manual |
Max Aperture: | 2.8 |
Resolution: | 240 x 240 dpi |
Original Date: | 2024:09:29 11:21:08 |
Created on: | 2024:09:29 11:21:08 |
Modified on: | 2024:10:07 12:56:00 |
Software: | Adobe Photoshop Lightroom Classic 13.5.1 (Macintosh) |
Copyright: | Rainer Culetto |
Already Applied | True |
Artist | Rainer Culetto |
Auto Lateral CA | 1 |
Blacks 2012 | -16 |
Blue Hue | 0 |
Blue Saturation | 0 |
Brightness Value | 2.92 |
Camera Profile | Adobe Standard |
Camera Profiles Aperture Value | 2.970854 |
Camera Profiles Author | Adobe |
Camera Profiles Auto Scale | False |
Camera Profiles Camera Pretty Name | Fujifilm X-H2S |
Camera Profiles Camera Raw Profile | True |
Camera Profiles Focal Length | 55 |
Camera Profiles Focus Distance | 10000 |
Camera Profiles Lens | XF16-55mmF2.8 R LM WR |
Camera Profiles Lens Pretty Name | XF16-55mmF2.8 R LM WR |
Camera Profiles Make | FUJIFILM |
Camera Profiles Model | X-H2S |
Camera Profiles Perspective Model Image X Center | 0.495833 |
Camera Profiles Perspective Model Image Y Center | 0.554327 |
Camera Profiles Perspective Model Radial Distort Param 1 | -0.096278 |
Camera Profiles Perspective Model Radial Distort Param 2 | 21.09337 |
Camera Profiles Perspective Model Radial Distort Param 3 | -176.882902 |
Camera Profiles Perspective Model Scale Factor | 0.966495 |
Camera Profiles Perspective Model Version | 2 |
Camera Profiles Perspective Model Vignette Model Image X Center | 0.497917 |
Camera Profiles Perspective Model Vignette Model Image Y Center | 0.527163 |
Camera Profiles Perspective Model Vignette Model Vignette Model Param 1 | 1 |
Camera Profiles Perspective Model Vignette Model Vignette Model Piecewise Param | 0.000000, 1.000000, 0.090750, 0.972920, 0.128352, 0.952998, 0.157276, 0.921689, 0.181500, 0.890435, 0.203013, 0.839341, 0.222356, 0.776636, 0.240072, 0.713833, 0.256704, 0.619663, 0.272251, 0.619663 |
Camera Profiles Profile Name | Camera Settings |
Camera Profiles Sensor Format Factor | 1.531929 |
Camera Profiles Unique Camera Model | Fujifilm X-H2S |
Circle Of Confusion | 0.020 mm |
Clarity 2012 | 0 |
Color Grade Blending | 50 |
Color Grade Global Hue | 0 |
Color Grade Global Lum | 0 |
Color Grade Global Sat | 0 |
Color Grade Highlight Lum | 0 |
Color Grade Midtone Hue | 0 |
Color Grade Midtone Lum | 0 |
Color Grade Midtone Sat | 0 |
Color Grade Shadow Lum | 0 |
Color Noise Reduction | 0 |
Color Space | Uncalibrated |
Color Temperature | 4700 |
Compatible Version | 251854848 |
Contrast 2012 | +6 |
Creator | Rainer Culetto |
Crop Angle | 0 |
Crop Bottom | 0.862606 |
Crop Constrain To Warp | 0 |
Crop Left | 0.232403 |
Crop Right | 0.916667 |
Crop Top | 0.041489 |
Custom Rendered | Normal |
Date Created | 2024:09:29 11:21:08+01:00 |
Defringe Green Amount | 0 |
Defringe Green Hue Hi | 60 |
Defringe Green Hue Lo | 40 |
Defringe Purple Amount | 0 |
Defringe Purple Hue Hi | 70 |
Defringe Purple Hue Lo | 30 |
Dehaze | 0 |
Distortion Correction Already Applied | True |
Enhance Denoise Already Applied | True |
Enhance Denoise Luma Amount | 50 |
Enhance Denoise Version | 251658240 |
Enhance Details Already Applied | True |
Enhance Details Version | 218300416 |
Exposure 2012 | +0.50 |
Exposure Compensation | -0.67 |
Exposure Mode | Manual |
Field Of View | 24.5 deg |
Focal Length In 35mm Format | 83 mm |
Format | image/jpeg |
Fuji Rating Already Applied | True |
Grain Amount | 0 |
Green Hue | 0 |
Green Saturation | 0 |
HDR Edit Mode | 0 |
Has Crop | True |
Has Settings | True |
Highlights 2012 | -59 |
Hue Adjustment Aqua | 0 |
Hue Adjustment Blue | 0 |
Hue Adjustment Green | 0 |
Hue Adjustment Magenta | 0 |
Hue Adjustment Orange | 0 |
Hue Adjustment Purple | 0 |
Hue Adjustment Red | 0 |
Hue Adjustment Yellow | 0 |
Hyperfocal Distance | 54.26 m |
ISO | 2000 |
Image Size | 3416x4270 |
Lateral Chromatic Aberration Correction Already Applied | True |
Lens | XF16-55mmF2.8 R LM WR |
Lens Info | 16-55mm f/2.8 |
Lens Make | FUJIFILM |
Lens Manual Distortion Amount | 0 |
Lens Model | XF16-55mmF2.8 R LM WR |
Lens Profile Distortion Scale | 100 |
Lens Profile Enable | 1 |
Lens Profile Is Embedded | True |
Lens Profile Name | Camera Settings |
Lens Profile Setup | LensDefaults |
Lens Profile Vignetting Scale | 100 |
Light Source | Unknown |
Light Value | 8.6 |
Look Amount | 1 |
Look Group | Profiles |
Look Name | Adobe Color |
Look Parameters Camera Profile | Adobe Standard |
Look Parameters Convert To Grayscale | False |
Look Parameters Look Table | E1095149FDB39D7A057BAB208837E2 E1 |
Look Parameters Process Version | 15.4 |
Look Parameters Tone Curve PV2012 | 0, 0, 22, 16, 40, 35, 127, 127, 224, 230, 240, 246, 255, 255 |
Look Parameters Tone Curve PV2012 Blue | 0, 0, 255, 255 |
Look Parameters Tone Curve PV2012 Green | 0, 0, 255, 255 |
Look Parameters Tone Curve PV2012 Red | 0, 0, 255, 255 |
Look Parameters Version | 16.5 |
Look Supports Amount | false |
Look Supports Monochrome | false |
Look Supports Output Referred | false |
Luminance Adjustment Aqua | 0 |
Luminance Adjustment Blue | 0 |
Luminance Adjustment Green | 0 |
Luminance Adjustment Magenta | 0 |
Luminance Adjustment Orange | 0 |
Luminance Adjustment Purple | 0 |
Luminance Adjustment Red | 0 |
Luminance Adjustment Yellow | 0 |
Luminance Smoothing | 0 |
Metering Mode | Center-weighted average |
Override Look Vignette | False |
Parametric Darks | 0 |
Parametric Highlight Split | 75 |
Parametric Highlights | 0 |
Parametric Lights | 0 |
Parametric Midtone Split | 50 |
Parametric Shadow Split | 25 |
Parametric Shadows | 0 |
Perspective Aspect | 0 |
Perspective Horizontal | 0 |
Perspective Rotate | 0.0 |
Perspective Scale | 100 |
Perspective Upright | 0 |
Perspective Vertical | 0 |
Perspective X | 0.00 |
Perspective Y | 0.00 |
Pick | 0 |
Point Colors | -1.000000, -1.000000, -1.000000, -1.000000, -1.000000, -1.000000, -1.000000, -1.000000, -1.000000, -1.000000, -1.000000, -1.000000, -1.000000, -1.000000, -1.000000, -1.000000, -1.000000, -1.000000, -1.000000 |
Post Crop Vignette Amount | 0 |
Preserved File Name | _DSF2285.RAF |
Process Version | 15.4 |
Rating | 4 |
Raw File Name | 20240929112108-2285-Verbessert -RR.dng |
Red Hue | 0 |
Red Saturation | 0 |
Rights | Rainer Culetto |
Saturation | -1 |
Saturation Adjustment Aqua | 0 |
Saturation Adjustment Blue | 0 |
Saturation Adjustment Green | 0 |
Saturation Adjustment Magenta | 0 |
Saturation Adjustment Orange | 0 |
Saturation Adjustment Purple | 0 |
Saturation Adjustment Red | 0 |
Saturation Adjustment Yellow | 0 |
Scale Factor To 35 mm Equivalent | 1.5 |
Scene Capture Type | Standard |
Scene Type | Directly photographed |
Sensing Method | One-chip color area |
Sensitivity Type | Standard Output Sensitivity |
Shadow Tint | 0 |
Shadows 2012 | +55 |
Sharpen Detail | 25 |
Sharpen Edge Masking | 0 |
Sharpen Radius | +1.0 |
Sharpness | Normal |
Split Toning Balance | 0 |
Split Toning Highlight Hue | 0 |
Split Toning Highlight Saturation | 0 |
Split Toning Shadow Hue | 0 |
Split Toning Shadow Saturation | 0 |
Subject | Leven Valley 2 Day Trial, Trial |
Subject Distance Range | Unknown |
Texture | 0 |
Tint | +41 |
Tone Curve Name 2012 | Linear |
Tone Curve PV2012 | 0, 0, 255, 255 |
Tone Curve PV2012 Blue | 0, 0, 255, 255 |
Tone Curve PV2012 Green | 0, 0, 255, 255 |
Tone Curve PV2012 Red | 0, 0, 255, 255 |
Version | 16.5 |
Vibrance | +13 |
Vignette Amount | 0 |
Vignette Correction Already Applied | True |
Weighted Flat Subject | Leven Valley 2 Day Trial, Trial |
White Balance | Auto |
Whites 2012 | +36 |