Shooting information for this photo
Camera: | Google Pixel 8 |
Exposure: | 0.01 sec. (1/100) |
Aperture: | f/1.7 |
Focal Length: | 6.9 mm (35 mm equivalent: 24.0 mm) |
Flash: | Off, Did not fire |
Exposure mode: | Program AE |
Max Aperture: | 1.7 |
Resolution: | 240 x 240 dpi |
Original Date: | 2024:11:22 18:28:54.572 |
Created on: | 2024:11:22 18:28:54.572 |
Modified on: | 2024:11:26 20:40:17 |
Software: | Adobe Lightroom 8.0 (Windows) |
Already Applied | True |
Approximate Focus Distance | 4294967295 |
Auto Lateral CA | 0 |
Blacks 2012 | -32 |
Blue Hue | 0 |
Blue Saturation | 0 |
Brightness | +50 |
Brightness Value | 2.2 |
Camera Profile | Embedded |
Circle Of Confusion | 0.009 mm |
City | London |
Clarity 2012 | 0 |
Color Grade Blending | 50 |
Color Grade Global Hue | 0 |
Color Grade Global Lum | 0 |
Color Grade Global Sat | 0 |
Color Grade Highlight Lum | 0 |
Color Grade Midtone Hue | 0 |
Color Grade Midtone Lum | 0 |
Color Grade Midtone Sat | 0 |
Color Grade Shadow Lum | 0 |
Color Noise Reduction | 0 |
Color Space | sRGB |
Contrast | Normal |
Contrast 2012 | +7 |
Convert To Grayscale | True |
Country | United Kingdom |
Crop Angle | 0 |
Crop Bottom | 1 |
Crop Constrain To Warp | 0 |
Crop Left | 0 |
Crop Right | 1 |
Crop Top | 0 |
Custom Rendered | Custom |
Date Created | 2024:11:22 18:28:54.572+00:00 |
Dehaze | 0 |
Depth Of Field | inf (3.24 m - inf) |
Digital Zoom Ratio | 0 |
Exposure 2012 | 0.00 |
Exposure Compensation | 0 |
Exposure Mode | Auto |
Field Of View | 73.7 deg |
Focal Length In 35mm Format | 24 mm |
Format | image/jpeg |
Grain Amount | 0 |
Gray Mixer Aqua | 0 |
Gray Mixer Blue | 0 |
Gray Mixer Green | 0 |
Gray Mixer Magenta | 0 |
Gray Mixer Orange | 0 |
Gray Mixer Purple | 0 |
Gray Mixer Red | 0 |
Gray Mixer Yellow | 0 |
Green Hue | 0 |
Green Saturation | 0 |
HDR Edit Mode | 0 |
Has Crop | False |
Has Extended XMP | C5355D654AC63BECC4122261EEC7F9 A6 |
Has Settings | True |
Highlights 2012 | 0 |
Hyperfocal Distance | 3.24 m |
ISO | 192 |
Image Size | 2048x1542 |
Incremental Temperature | 0 |
Incremental Tint | 0 |
Lens | Pixel 8 back camera 6.9mm f/1.68 |
Lens Make | |
Lens Manual Distortion Amount | 0 |
Lens Model | Pixel 8 back camera 6.9mm f/1.68 |
Lens Profile Enable | 0 |
Light Value | 7.2 |
Luminance Smoothing | 0 |
Metering Mode | Center-weighted average |
Override Look Vignette | False |
Parametric Darks | 0 |
Parametric Highlight Split | 75 |
Parametric Highlights | 0 |
Parametric Lights | 0 |
Parametric Midtone Split | 50 |
Parametric Shadow Split | 25 |
Parametric Shadows | 0 |
Perspective Aspect | 0 |
Perspective Horizontal | 0 |
Perspective Rotate | 0.0 |
Perspective Scale | 100 |
Perspective Upright | 0 |
Perspective Vertical | 0 |
Perspective X | 0.00 |
Perspective Y | 0.00 |
Point Colors | -1.000000, -1.000000, -1.000000, -1.000000, -1.000000, -1.000000, -1.000000, -1.000000, -1.000000, -1.000000, -1.000000, -1.000000, -1.000000, -1.000000, -1.000000, -1.000000, -1.000000, -1.000000, -1.000000 |
Post Crop Vignette Amount | -18 |
Post Crop Vignette Feather | 50 |
Post Crop Vignette Highlight Contrast | 0 |
Post Crop Vignette Midpoint | 50 |
Post Crop Vignette Roundness | 0 |
Post Crop Vignette Style | 1 |
Process Version | 15.4 |
Raw File Name | PXL_20241122_182854572.jpg |
Red Hue | 0 |
Red Saturation | 0 |
Saturation | Normal |
Scale Factor To 35 mm Equivalent | 3.5 |
Scene Capture Type | Standard |
Scene Type | Directly photographed |
Sensing Method | One-chip color area |
Shadow Tint | 0 |
Shadows | 5 |
Shadows 2012 | 0 |
Sharpness | Normal |
Split Toning Balance | 0 |
Split Toning Highlight Hue | 0 |
Split Toning Highlight Saturation | 0 |
Split Toning Shadow Hue | 0 |
Split Toning Shadow Saturation | 0 |
State | England |
Subject Distance | 4294967295 m |
Subject Distance Range | Distant |
Texture | 0 |
Tone Curve Name 2012 | Linear |
Tone Curve PV2012 | 0, 0, 255, 255 |
Tone Curve PV2012 Blue | 0, 0, 255, 255 |
Tone Curve PV2012 Green | 0, 0, 255, 255 |
Tone Curve PV2012 Red | 0, 0, 255, 255 |
Version | 17.0 |
Vignette Amount | 0 |
White Balance | Auto |
Whites 2012 | -27 |
GPS Information |
GPS Altitude | 70 m |
GPS Date Stamp | 2024:11:22 |
GPS Date/Time | 2024:11:22 18:28:47Z |
GPS Latitude | 51 deg 30' 36.46" N |
GPS Latitude Ref | North |
GPS Longitude | 0 deg 7' 20.32" W |
GPS Longitude Ref | West |
GPS Position | 51 deg 30' 36.46" N, 0 deg 7' 20.32" W |
GPS Time Stamp | 18:28:47 |
GPS Version ID | 2.2.0.0 |