Shooting information for this photo
Camera: | FUJIFILM X100T |
Exposure: | 0.0125 sec. (1/80) |
Aperture: | f/10.0 |
Focal Length: | 23.0 mm (35 mm equivalent: 84.2 mm) |
Flash: | Off, Did not fire |
Exposure mode: | Aperture-priority AE |
Max Aperture: | 2.0 |
Resolution: | 240 x 240 dpi |
Original Date: | 2024:06:07 06:26:05 |
Created on: | 2024:06:07 06:26:05 |
Modified on: | 2024:09:11 21:42:07 |
Software: | Adobe Lightroom 7.5 (Windows) |
Already Applied | True |
Auto Lateral CA | 1 |
Blacks 2012 | +6 |
Blue Hue | 0 |
Blue Saturation | 0 |
Brightness Value | 6.36 |
Camera Profile | Adobe Standard |
Circle Of Confusion | 0.008 mm |
Clarity 2012 | -10 |
Color Grade Blending | 50 |
Color Grade Global Hue | 0 |
Color Grade Global Lum | 0 |
Color Grade Global Sat | 0 |
Color Grade Highlight Lum | -3 |
Color Grade Midtone Hue | 0 |
Color Grade Midtone Lum | -26 |
Color Grade Midtone Sat | 0 |
Color Grade Shadow Lum | -3 |
Color Noise Reduction | 25 |
Color Noise Reduction Detail | 50 |
Color Noise Reduction Smoothness | 50 |
Color Space | sRGB |
Color Temperature | 4900 |
Compatible Version | 268435456 |
Contrast 2012 | +28 |
Crop Angle | -1.68 |
Crop Bottom | 0.957859 |
Crop Constrain To Warp | 0 |
Crop Left | 0.011706 |
Crop Right | 0.988294 |
Crop Top | 0.042141 |
Custom Rendered | Normal |
Date Created | 2024:06:07 06:26:05 |
Defringe Green Amount | 0 |
Defringe Green Hue Hi | 60 |
Defringe Green Hue Lo | 40 |
Defringe Purple Amount | 0 |
Defringe Purple Hue Hi | 70 |
Defringe Purple Hue Lo | 30 |
Dehaze | +21 |
Depth Map Info Base Highlight Guide Table | 6DCD9E96C77BBC6B308F6E66DD5C21 34 |
Depth Map Info Base Highlight Guide Version | 1 |
Depth Map Info Base Raw Depth Table | 8B70AF030191936A4A9428880F268A 31 |
Depth Map Info Base Raw Depth Version | 12 |
Depth Map Info Depth Source | 2 |
Exposure 2012 | +0.37 |
Exposure Compensation | -0.33 |
Exposure Mode | Auto |
Field Of View | 24.1 deg |
Format | image/jpeg |
Fuji Rating Already Applied | True |
Grain Amount | 0 |
Gray Mixer Aqua | -24 |
Gray Mixer Blue | +40 |
Gray Mixer Green | -15 |
Gray Mixer Magenta | 0 |
Gray Mixer Orange | -11 |
Gray Mixer Purple | 0 |
Gray Mixer Red | -11 |
Gray Mixer Yellow | +5 |
Green Hue | 0 |
Green Saturation | 0 |
HDR Edit Mode | 0 |
Has Crop | True |
Has Settings | True |
Highlights 2012 | -51 |
Hue Adjustment Aqua | 0 |
Hue Adjustment Blue | 0 |
Hue Adjustment Green | 0 |
Hue Adjustment Magenta | 0 |
Hue Adjustment Orange | 0 |
Hue Adjustment Purple | 0 |
Hue Adjustment Red | 0 |
Hue Adjustment Yellow | 0 |
Hyperfocal Distance | 6.45 m |
ISO | 400 |
Image Size | 2048x1365 |
Lateral Chromatic Aberration Correction Already Applied | True |
Lens Blur Active | true |
Lens Blur Blur Amount | 50 |
Lens Blur Bokeh Aspect | 0 |
Lens Blur Bokeh Rotation | 0 |
Lens Blur Bokeh Shape | 0 |
Lens Blur Bokeh Shape Detail | 0 |
Lens Blur Cat Eye Amount | 0 |
Lens Blur Cat Eye Scale | 100 |
Lens Blur Focal Range | -80 0 28 108 |
Lens Blur Focal Range Source | 3 |
Lens Blur Highlights Boost | 50 |
Lens Blur Highlights Threshold | 50 |
Lens Blur Sampled Area | -0.133786 -0.705880 1.866214 1.294120 |
Lens Blur Sampled Range | 0 29 |
Lens Blur Spherical Aberration | 0 |
Lens Blur Subject Range | 0 29 |
Lens Blur Version | 1 |
Lens Manual Distortion Amount | 0 |
Lens Profile Enable | 0 |
Light Source | Unknown |
Light Value | 11.0 |
Look Amount | 1 |
Look Group | Profiles |
Look Name | Adobe Monochrome |
Look Parameters Camera Profile | Adobe Standard |
Look Parameters Clarity 2012 | +8 |
Look Parameters Convert To Grayscale | True |
Look Parameters Look Table | 73ED6C18DDE909DD7EA2D771F5AC28 2D |
Look Parameters Process Version | 15.4 |
Look Parameters Tone Curve PV2012 | 0, 0, 64, 56, 128, 128, 192, 197, 255, 255 |
Look Parameters Tone Curve PV2012 Blue | 0, 0, 255, 255 |
Look Parameters Tone Curve PV2012 Green | 0, 0, 255, 255 |
Look Parameters Tone Curve PV2012 Red | 0, 0, 255, 255 |
Look Parameters Version | 16.5 |
Look Supports Amount | false |
Look Supports Monochrome | false |
Look Supports Output Referred | false |
Luminance Adjustment Aqua | 0 |
Luminance Adjustment Blue | 0 |
Luminance Adjustment Green | 0 |
Luminance Adjustment Magenta | 0 |
Luminance Adjustment Orange | 0 |
Luminance Adjustment Purple | 0 |
Luminance Adjustment Red | 0 |
Luminance Adjustment Yellow | 0 |
Luminance Smoothing | 0 |
Metering Mode | Multi-segment |
Override Look Vignette | False |
Parametric Darks | 0 |
Parametric Highlight Split | 75 |
Parametric Highlights | 0 |
Parametric Lights | 0 |
Parametric Midtone Split | 50 |
Parametric Shadow Split | 25 |
Parametric Shadows | 0 |
Perspective Aspect | 0 |
Perspective Horizontal | 0 |
Perspective Rotate | 0.0 |
Perspective Scale | 100 |
Perspective Upright | 0 |
Perspective Vertical | 0 |
Perspective X | 0.00 |
Perspective Y | 0.00 |
Point Colors | -1.000000, -1.000000, -1.000000, -1.000000, -1.000000, -1.000000, -1.000000, -1.000000, -1.000000, -1.000000, -1.000000, -1.000000, -1.000000, -1.000000, -1.000000, -1.000000, -1.000000, -1.000000, -1.000000 |
Post Crop Vignette Amount | +13 |
Post Crop Vignette Feather | 50 |
Post Crop Vignette Midpoint | 50 |
Post Crop Vignette Roundness | 0 |
Post Crop Vignette Style | 1 |
Process Version | 15.4 |
Raw File Name | DSCF2146.RAF |
Red Hue | 0 |
Red Saturation | 0 |
Saturation | 0 |
Saturation Adjustment Aqua | 0 |
Saturation Adjustment Blue | 0 |
Saturation Adjustment Green | 0 |
Saturation Adjustment Magenta | 0 |
Saturation Adjustment Orange | 0 |
Saturation Adjustment Purple | 0 |
Saturation Adjustment Red | 0 |
Saturation Adjustment Yellow | 0 |
Scale Factor To 35 mm Equivalent | 3.7 |
Scene Capture Type | Standard |
Scene Type | Directly photographed |
Sensing Method | One-chip color area |
Sensitivity Type | Standard Output Sensitivity |
Shadow Tint | 0 |
Shadows 2012 | -46 |
Sharpen Detail | 25 |
Sharpen Edge Masking | 0 |
Sharpen Radius | +1.0 |
Sharpness | Normal |
Split Toning Balance | 0 |
Split Toning Highlight Hue | 0 |
Split Toning Highlight Saturation | 0 |
Split Toning Shadow Hue | 0 |
Split Toning Shadow Saturation | 0 |
Subject Distance Range | Unknown |
Texture | 0 |
Tint | +11 |
Tone Curve Name 2012 | Linear |
Tone Curve PV2012 | 0, 0, 255, 255 |
Tone Curve PV2012 Blue | 0, 0, 255, 255 |
Tone Curve PV2012 Green | 0, 0, 255, 255 |
Tone Curve PV2012 Red | 0, 0, 255, 255 |
Version | 16.5 |
Vibrance | 0 |
Vignette Amount | 0 |
Vignette Correction Already Applied | True |
White Balance | Auto |
Whites 2012 | +7 |