Shooting information for this photo
Camera: | NIKON CORPORATION NIKON D70s |
Exposure: | 0.005 sec. (1/200) |
Aperture: | f/7.1 |
Focal Length: | 18.0 mm (35 mm equivalent: 27.0 mm) |
Flash: | No Flash |
Exposure mode: | Program AE |
Max Aperture: | 3.5 |
Resolution: | 93 x 93 dpi |
Original Date: | 2010:05:29 20:20:36.00 |
Created on: | 2010:05:29 20:20:36.00 |
Modified on: | 2023:07:17 22:21:36 |
Software: | Adobe Photoshop Lightroom 6.14 (Windows) |
Already Applied | True |
Approximate Focus Distance | 2.37 |
Auto Lateral CA | 0 |
Auto White Version | 134348800 |
Blacks 2012 | +26 |
Blue Hue | 0 |
Blue Saturation | 0 |
CFA Pattern | [Blue,Green][Green,Red] |
Camera Profile | Embedded |
Circle Of Confusion | 0.020 mm |
Clarity 2012 | +25 |
Color Noise Reduction | 0 |
Color Space | Uncalibrated |
Contrast | Low |
Contrast 2012 | +26 |
Convert To Grayscale | False |
Crop Angle | 0 |
Crop Bottom | 0.812766 |
Crop Constrain To Warp | 0 |
Crop Left | 0 |
Crop Right | 1 |
Crop Top | 0 |
Custom Rendered | Normal |
Date Created | 2010:05:29 20:20:36.00 |
Defringe Green Amount | 0 |
Defringe Green Hue Hi | 60 |
Defringe Green Hue Lo | 40 |
Defringe Purple Amount | 0 |
Defringe Purple Hue Hi | 70 |
Defringe Purple Hue Lo | 30 |
Dehaze | 0 |
Digital Zoom Ratio | 1 |
Exposure 2012 | +0.60 |
Exposure Compensation | -2 |
Exposure Mode | Auto |
Field Of View | 67.4 deg |
Focal Length In 35mm Format | 27 mm |
Format | image/jpeg |
Gain Control | None |
Grain Amount | 0 |
Green Hue | 0 |
Green Saturation | 0 |
Has Crop | True |
Has Settings | True |
Highlights 2012 | -30 |
Hue Adjustment Aqua | 0 |
Hue Adjustment Blue | 0 |
Hue Adjustment Green | 0 |
Hue Adjustment Magenta | 0 |
Hue Adjustment Orange | 0 |
Hue Adjustment Purple | 0 |
Hue Adjustment Red | 0 |
Hue Adjustment Yellow | 0 |
Hyperfocal Distance | 2.28 m |
ISO | 250 |
Image Number | 7670 |
Image Size | 3008x1626 |
Incremental Temperature | 0 |
Incremental Tint | 0 |
Lens | 18.0-70.0 mm f/3.5-4.5 |
Lens ID | AF-S DX Zoom-Nikkor 18-70mm f/3.5-4.5G IF-ED |
Lens Info | 18-70mm f/3.5-4.5 |
Lens Manual Distortion Amount | 0 |
Lens Model | 18.0-70.0 mm f/3.5-4.5 |
Lens Profile Chromatic Aberration Scale | 100 |
Lens Profile Distortion Scale | 100 |
Lens Profile Enable | 0 |
Lens Profile Filename | NIKON D3X (Nikon FX 14-24mm f2.8 G ED).lcp |
Lens Profile Name | Adobe (Nikon AF-S NIKKOR 14-24mm f/2.8G ED) |
Lens Profile Setup | Custom |
Lens Profile Vignetting Scale | 100 |
Light Source | Unknown |
Light Value | 12.0 |
Luminance Adjustment Aqua | 0 |
Luminance Adjustment Blue | 0 |
Luminance Adjustment Green | 0 |
Luminance Adjustment Magenta | 0 |
Luminance Adjustment Orange | 0 |
Luminance Adjustment Purple | 0 |
Luminance Adjustment Red | 0 |
Luminance Adjustment Yellow | 0 |
Luminance Noise Reduction Contrast | 0 |
Luminance Noise Reduction Detail | 50 |
Luminance Smoothing | 26 |
Metering Mode | Multi-segment |
Parametric Darks | 0 |
Parametric Highlight Split | 75 |
Parametric Highlights | 0 |
Parametric Lights | 0 |
Parametric Midtone Split | 50 |
Parametric Shadow Split | 25 |
Parametric Shadows | 0 |
Perspective Aspect | 0 |
Perspective Horizontal | 0 |
Perspective Rotate | 0.0 |
Perspective Scale | 100 |
Perspective Upright | 0 |
Perspective Vertical | 0 |
Perspective X | 0.00 |
Perspective Y | 0.00 |
Post Crop Vignette Amount | 0 |
Process Version | 6.7 |
Red Hue | 0 |
Red Saturation | 0 |
Saturation | Normal |
Saturation Adjustment Aqua | 0 |
Saturation Adjustment Blue | 0 |
Saturation Adjustment Green | 0 |
Saturation Adjustment Magenta | 0 |
Saturation Adjustment Orange | 0 |
Saturation Adjustment Purple | 0 |
Saturation Adjustment Red | 0 |
Saturation Adjustment Yellow | 0 |
Scale Factor To 35 mm Equivalent | 1.5 |
Scene Capture Type | Standard |
Scene Type | Directly photographed |
Sensing Method | One-chip color area |
Shadow Tint | 0 |
Shadows 2012 | +31 |
Sharpen Detail | 25 |
Sharpen Edge Masking | 0 |
Sharpen Radius | +1.0 |
Sharpness | Hard |
Split Toning Balance | 0 |
Split Toning Highlight Hue | 0 |
Split Toning Highlight Saturation | 0 |
Split Toning Shadow Hue | 0 |
Split Toning Shadow Saturation | 0 |
Subject Distance Range | Unknown |
Tone Curve | 0, 0, 255, 255 |
Tone Curve Blue | 0, 0, 255, 255 |
Tone Curve Green | 0, 0, 255, 255 |
Tone Curve Name | Linear |
Tone Curve Name 2012 | Linear |
Tone Curve PV2012 | 0, 0, 255, 255 |
Tone Curve PV2012 Blue | 0, 0, 255, 255 |
Tone Curve PV2012 Green | 0, 0, 255, 255 |
Tone Curve PV2012 Red | 0, 0, 255, 255 |
Tone Curve Red | 0, 0, 255, 255 |
Tone Map Strength | 0 |
Version | 10.1 |
Vibrance | 0 |
Vignette Amount | 0 |
White Balance | Auto |
Whites 2012 | -21 |