Shooting information for this photo
Camera: | Canon EOS 6D Mark II |
Exposure: | 0.01 sec. (1/100) |
Aperture: | f/5.6 |
Focal Length: | 24.0 mm (35 mm equivalent: 36.5 mm) |
Flash: | Off, Did not fire |
Exposure mode: | Manual |
Max Aperture: | 4.0 |
Resolution: | 240 x 240 dpi |
Original Date: | 2019:01:23 09:08:47.39 |
Created on: | 2019:01:23 09:08:47.39 |
Modified on: | 2019:01:26 15:42:46 |
Software: | Adobe Photoshop Lightroom 3.6 (Windows) |
Already Applied | True |
Approximate Focus Distance | 1.25 |
Artist | @.L.GYSEL. |
Blue Hue | 0 |
Blue Saturation | 0 |
Brightness | 0 |
Camera Profile | Embedded |
Chromatic Aberration B | 0 |
Chromatic Aberration R | 0 |
Circle Of Confusion | 0.020 mm |
Clarity | +29 |
Color Noise Reduction | 0 |
Contrast | 0 |
Convert To Grayscale | False |
Creator | @.L.GYSEL. |
Custom Rendered | Normal |
Date Created | 2019:01:23 09:08:47.39 |
Defringe | 0 |
Depth Of Field | 0.62 m (1.01 - 1.64) |
Exposure | 0.00 |
Exposure Compensation | -5/3 |
Exposure Mode | Manual |
Field Of View | 52.6 deg |
Fill Light | 0 |
Firmware | 1.0.2 |
Flash Compensation | 0 |
Format | image/jpeg |
Grain Amount | 0 |
Green Hue | 0 |
Green Saturation | 0 |
Has Crop | False |
Has Settings | True |
Hierarchical Subject | Sneeuw te Bredene |
Highlight Recovery | 0 |
Hue Adjustment Aqua | 0 |
Hue Adjustment Blue | 0 |
Hue Adjustment Green | 0 |
Hue Adjustment Magenta | 0 |
Hue Adjustment Orange | 0 |
Hue Adjustment Purple | 0 |
Hue Adjustment Red | 0 |
Hue Adjustment Yellow | 0 |
Hyperfocal Distance | 5.20 m |
ISO | 100 |
Image Number | 0 |
Image Size | 6240x4160 |
Incremental Temperature | 0 |
Incremental Tint | 0 |
Lens | EF24-70mm f/4L IS USM |
Lens ID | Canon EF 24-70mm f/4L IS USM |
Lens Info | 24-70mm f/? |
Lens Manual Distortion Amount | 0 |
Lens Model | EF24-70mm f/4L IS USM |
Lens Profile Chromatic Aberration Scale | 100 |
Lens Profile Distortion Scale | 100 |
Lens Profile Enable | 1 |
Lens Profile Filename | Canon EOS-1Ds Mark III (Canon EF 24-70mm f2.8 L USM).lcp |
Lens Profile Name | Adobe (Canon EF 24-70mm f/2.8 L USM) |
Lens Profile Setup | Custom |
Lens Profile Vignetting Scale | 100 |
Light Value | 11.6 |
Luminance Adjustment Aqua | 0 |
Luminance Adjustment Blue | 0 |
Luminance Adjustment Green | 0 |
Luminance Adjustment Magenta | 0 |
Luminance Adjustment Orange | 0 |
Luminance Adjustment Purple | 0 |
Luminance Adjustment Red | 0 |
Luminance Adjustment Yellow | 0 |
Luminance Smoothing | 0 |
Metering Mode | Multi-segment |
Parametric Darks | +63 |
Parametric Highlight Split | 75 |
Parametric Highlights | -54 |
Parametric Lights | +98 |
Parametric Midtone Split | 50 |
Parametric Shadow Split | 25 |
Parametric Shadows | +30 |
Perspective Horizontal | 0 |
Perspective Rotate | 0.0 |
Perspective Scale | 100 |
Perspective Vertical | 0 |
Post Crop Vignette Amount | 0 |
Process Version | 5.7 |
Recommended Exposure Index | 100 |
Red Hue | 0 |
Red Saturation | 0 |
Saturation | 0 |
Saturation Adjustment Aqua | 0 |
Saturation Adjustment Blue | 0 |
Saturation Adjustment Green | 0 |
Saturation Adjustment Magenta | 0 |
Saturation Adjustment Orange | 0 |
Saturation Adjustment Purple | 0 |
Saturation Adjustment Red | 0 |
Saturation Adjustment Yellow | 0 |
Scale Factor To 35 mm Equivalent | 1.5 |
Scene Capture Type | Standard |
Sensitivity Type | Recommended Exposure Index |
Shadow Tint | 0 |
Shadows | 0 |
Sharpen Detail | 15 |
Sharpen Edge Masking | 60 |
Sharpen Radius | +1.4 |
Sharpness | 35 |
Split Toning Balance | 0 |
Split Toning Highlight Hue | 0 |
Split Toning Highlight Saturation | 0 |
Split Toning Shadow Hue | 0 |
Split Toning Shadow Saturation | 0 |
Subject | Sneeuw te Bredene |
Subject Distance | 1.25 m |
Tone Curve | 0, 0, 255, 255 |
Tone Curve Name | Linear |
Version | 6.6 |
Vibrance | 0 |
Vignette Amount | 0 |
White Balance | Auto |
GPS Information |
GPS Map Datum | WGS-84 |
GPS Satellites | 0 |
GPS Status | Measurement Void |