Shooting information for this photo
Camera: | Canon EOS 6D Mark II |
Exposure: | 0.0025 sec. (1/400) |
Aperture: | f/3.5 |
Focal Length: | 200.0 mm (35 mm equivalent: 303.8 mm) |
Flash: | Off, Did not fire |
Exposure mode: | Program AE |
Max Aperture: | 2.8 |
Resolution: | 240 x 240 dpi |
Original Date: | 2017:09:16 12:12:27.00 |
Created on: | 2017:09:16 12:12:27.00 |
Modified on: | 2017:09:16 22:14:12 |
Software: | PaintShop Pro 19,00 |
Already Applied | True |
Approximate Focus Distance | 20.6 |
Artist | @.L.GYSEL. |
Auto Lateral CA | 0 |
Auto White Version | 134348800 |
Blacks 2012 | 0 |
Blue Hue | 0 |
Blue Saturation | 0 |
Camera Profile | Embedded |
Circle Of Confusion | 0.020 mm |
Clarity 2012 | +30 |
Color Noise Reduction | 0 |
Color Space | sRGB |
Contrast 2012 | 0 |
Convert To Grayscale | False |
Creator | @.L.GYSEL. |
Crop Angle | 1.21434 |
Crop Bottom | 0.896042 |
Crop Constrain To Warp | 0 |
Crop Left | 0.282539 |
Crop Right | 0.648307 |
Crop Top | 0.180432 |
Custom Rendered | Normal |
Date Created | 2017:09:16 12:12:27.00 |
Defringe Green Amount | 0 |
Defringe Green Hue Hi | 60 |
Defringe Green Hue Lo | 40 |
Defringe Purple Amount | 0 |
Defringe Purple Hue Hi | 70 |
Defringe Purple Hue Lo | 30 |
Dehaze | 0 |
Exposure 2012 | 0.00 |
Exposure Compensation | 0 |
Exposure Mode | Auto |
Field Of View | 6.8 deg |
Firmware | 1.0.2 |
Flash Compensation | 0 |
Flash Fired | False |
Flash Function | False |
Flash Mode | Off |
Flash Red Eye Mode | False |
Flash Return | No return detection |
Format | image/jpeg |
Grain Amount | 0 |
Green Hue | 0 |
Green Saturation | 0 |
Has Crop | True |
Has Settings | True |
Hierarchical Subject | 2017_09_16 Zoo Planckendael II |
Highlights 2012 | -57 |
Hue Adjustment Aqua | 0 |
Hue Adjustment Blue | 0 |
Hue Adjustment Green | 0 |
Hue Adjustment Magenta | 0 |
Hue Adjustment Orange | 0 |
Hue Adjustment Purple | 0 |
Hue Adjustment Red | 0 |
Hue Adjustment Yellow | 0 |
Hyperfocal Distance | 577.81 m |
ISO | 100 |
Image Number | 0 |
Image Size | 1222x1570 |
Incremental Temperature | 0 |
Incremental Tint | 0 |
Lens | EF70-200mm f/2.8L IS USM |
Lens ID | Canon EF 70-200mm f/2.8L IS |
Lens Info | 70-200mm f/? |
Lens Manual Distortion Amount | 0 |
Lens Model | EF70-200mm f/2.8L IS USM |
Lens Profile Enable | 0 |
Lens Profile Setup | LensDefaults |
Lens Specification | 70, 200, undef, undef |
Light Value | 12.3 |
Luminance Adjustment Aqua | 0 |
Luminance Adjustment Blue | -1 |
Luminance Adjustment Green | 0 |
Luminance Adjustment Magenta | 0 |
Luminance Adjustment Orange | 0 |
Luminance Adjustment Purple | 0 |
Luminance Adjustment Red | +33 |
Luminance Adjustment Yellow | -33 |
Luminance Smoothing | 0 |
Metering Mode | Multi-segment |
Parametric Darks | 0 |
Parametric Highlight Split | 75 |
Parametric Highlights | 0 |
Parametric Lights | 0 |
Parametric Midtone Split | 50 |
Parametric Shadow Split | 25 |
Parametric Shadows | 0 |
Perspective Aspect | 0 |
Perspective Horizontal | 0 |
Perspective Rotate | 0.0 |
Perspective Scale | 100 |
Perspective Upright | 0 |
Perspective Vertical | 0 |
Perspective X | 0.00 |
Perspective Y | 0.00 |
Post Crop Vignette Amount | 0 |
Process Version | 6.7 |
Recommended Exposure Index | 100 |
Red Hue | 0 |
Red Saturation | 0 |
Saturation | 0 |
Saturation Adjustment Aqua | 0 |
Saturation Adjustment Blue | 0 |
Saturation Adjustment Green | 0 |
Saturation Adjustment Magenta | 0 |
Saturation Adjustment Orange | 0 |
Saturation Adjustment Purple | 0 |
Saturation Adjustment Red | 0 |
Saturation Adjustment Yellow | 0 |
Scale Factor To 35 mm Equivalent | 1.5 |
Scene Capture Type | Standard |
Sensitivity Type | Recommended Exposure Index |
Shadow Tint | 0 |
Shadows 2012 | 0 |
Sharpen Detail | 15 |
Sharpen Edge Masking | 60 |
Sharpen Radius | +1.4 |
Sharpness | 35 |
Split Toning Balance | 0 |
Split Toning Highlight Hue | 0 |
Split Toning Highlight Saturation | 0 |
Split Toning Shadow Hue | 0 |
Split Toning Shadow Saturation | 0 |
Subject | 2017_09_16 Zoo Planckendael II |
Tone Curve | 0, 0, 255, 255 |
Tone Curve Blue | 0, 0, 255, 255 |
Tone Curve Green | 0, 0, 255, 255 |
Tone Curve Name | Linear |
Tone Curve Name 2012 | Linear |
Tone Curve PV2012 | 0, 0, 255, 255 |
Tone Curve PV2012 Blue | 0, 0, 255, 255 |
Tone Curve PV2012 Green | 0, 0, 255, 255 |
Tone Curve PV2012 Red | 0, 0, 255, 255 |
Tone Curve Red | 0, 0, 255, 255 |
Tone Map Strength | 0 |
Version | 9.8 |
Vibrance | +25 |
Vignette Amount | 0 |
White Balance | Auto |
Whites 2012 | 0 |