Shooting information for this photo
Camera: | Canon EOS 6D Mark II |
Exposure: | 0.004 sec. (1/250) |
Aperture: | f/7.1 |
Focal Length: | 145.0 mm (35 mm equivalent: 220.3 mm) |
Flash: | Off, Did not fire |
Exposure mode: | Program AE |
Max Aperture: | 5.0 |
Resolution: | 240 x 240 dpi |
Original Date: | 2017:10:17 17:08:27.58 |
Created on: | 2017:10:17 17:08:27.58 |
Modified on: | 2017:10:23 15:37:19 |
Software: | PaintShop Pro 19,00 |
Already Applied | True |
Approximate Focus Distance | 4294967295 |
Artist | @.L.GYSEL. |
Blue Hue | 0 |
Blue Saturation | 0 |
Brightness | 0 |
Camera Profile | Embedded |
Chromatic Aberration B | 0 |
Chromatic Aberration R | 0 |
Circle Of Confusion | 0.020 mm |
Clarity | +16 |
Color Noise Reduction | 0 |
Contrast | -50 |
Convert To Grayscale | False |
Creator | @.L.GYSEL. |
Crop Angle | 0 |
Crop Bottom | 0.625632 |
Crop Constrain To Warp | 0 |
Crop Height | 1522 |
Crop Left | 0.310112 |
Crop Right | 0.804494 |
Crop Top | 0.259696 |
Crop Unit | pixels |
Crop Width | 3085 |
Custom Rendered | Normal |
Date Created | 2017:10:17 17:08:27.58 |
Defringe | 0 |
Depth Of Field | inf (149.72 m - inf) |
Exposure | +0.86 |
Exposure Compensation | 0 |
Exposure Mode | Auto |
Field Of View | 9.3 deg |
Fill Light | 0 |
Firmware | 1.0.2 |
Flash Compensation | 0 |
Flash Fired | False |
Flash Function | False |
Flash Mode | Off |
Flash Red Eye Mode | False |
Flash Return | No return detection |
Format | image/jpeg |
Grain Amount | 0 |
Green Hue | 0 |
Green Saturation | 0 |
Has Crop | True |
Has Settings | True |
Highlight Recovery | 0 |
Hue Adjustment Aqua | 0 |
Hue Adjustment Blue | 0 |
Hue Adjustment Green | 0 |
Hue Adjustment Magenta | 0 |
Hue Adjustment Orange | 0 |
Hue Adjustment Purple | 0 |
Hue Adjustment Red | 0 |
Hue Adjustment Yellow | 0 |
Hyperfocal Distance | 149.72 m |
ISO | 100 |
Image Number | 0 |
Image Size | 1222x664 |
Incremental Temperature | 0 |
Incremental Tint | 0 |
Lens | EF90-300mm f/4.5-5.6 |
Lens ID | Canon EF 90-300mm f/4.5-5.6 |
Lens Info | 90-300mm f/? |
Lens Manual Distortion Amount | 0 |
Lens Model | EF90-300mm f/4.5-5.6 |
Lens Profile Chromatic Aberration Scale | 100 |
Lens Profile Distortion Scale | 100 |
Lens Profile Enable | 1 |
Lens Profile Filename | Canon EOS 5D Mark II (Canon EF 15mm f2.8).lcp |
Lens Profile Name | Canon EOS 5D Mark II (Canon EF 15mm f/2.8) |
Lens Profile Setup | Custom |
Lens Profile Vignetting Scale | 100 |
Lens Specification | 90, 300, undef, undef |
Light Value | 13.6 |
Luminance Adjustment Aqua | 0 |
Luminance Adjustment Blue | 0 |
Luminance Adjustment Green | 0 |
Luminance Adjustment Magenta | 0 |
Luminance Adjustment Orange | 0 |
Luminance Adjustment Purple | 0 |
Luminance Adjustment Red | 0 |
Luminance Adjustment Yellow | 0 |
Luminance Smoothing | 0 |
Metering Mode | Multi-segment |
Parametric Darks | -1 |
Parametric Highlight Split | 75 |
Parametric Highlights | -36 |
Parametric Lights | +98 |
Parametric Midtone Split | 50 |
Parametric Shadow Split | 25 |
Parametric Shadows | +100 |
Perspective Horizontal | 0 |
Perspective Rotate | 0.0 |
Perspective Scale | 100 |
Perspective Vertical | 0 |
Post Crop Vignette Amount | 0 |
Process Version | 5.7 |
Recommended Exposure Index | 100 |
Red Hue | 0 |
Red Saturation | 0 |
Saturation | 0 |
Saturation Adjustment Aqua | 0 |
Saturation Adjustment Blue | 0 |
Saturation Adjustment Green | 0 |
Saturation Adjustment Magenta | 0 |
Saturation Adjustment Orange | 0 |
Saturation Adjustment Purple | 0 |
Saturation Adjustment Red | 0 |
Saturation Adjustment Yellow | 0 |
Scale Factor To 35 mm Equivalent | 1.5 |
Scene Capture Type | Standard |
Sensitivity Type | Recommended Exposure Index |
Shadow Tint | 0 |
Shadows | 0 |
Sharpen Detail | 25 |
Sharpen Edge Masking | 0 |
Sharpen Radius | +1.0 |
Sharpness | 0 |
Split Toning Balance | 0 |
Split Toning Highlight Hue | 0 |
Split Toning Highlight Saturation | 0 |
Split Toning Shadow Hue | 0 |
Split Toning Shadow Saturation | 0 |
Subject Distance | 4294967295 m |
Tone Curve | 0, 0, 255, 255 |
Tone Curve Name | Linear |
Version | 6.6 |
Vibrance | 0 |
Vignette Amount | 0 |
White Balance | Auto |
GPS Information |
GPS Altitude | 75.7 m Above Sea Level |
GPS Altitude Ref | Above Sea Level |
GPS Date Stamp | 2017:10:17 |
GPS Date/Time | 2017:10:17 11:56:12.238Z |
GPS Dilution Of Precision | 4 |
GPS Latitude | 51 deg 15' 17.79" N |
GPS Latitude Ref | North |
GPS Longitude | 2 deg 59' 25.53" E |
GPS Longitude Ref | East |
GPS Map Datum | WGS-84 |
GPS Measure Mode | 3-Dimensional Measurement |
GPS Position | 51 deg 15' 17.79" N, 2 deg 59' 25.53" E |
GPS Satellites | 4 |
GPS Status | Measurement Void |
GPS Time Stamp | 11:56:12.238 |
GPS Version ID | 2.3.0.0 |