Shooting information for this photo
Camera: | Canon EOS 60D |
Exposure: | 0.00156 sec. (1/640) |
Aperture: | f/5.6 |
Focal Length: | 100.0 mm (35 mm equivalent: 157.3 mm) |
Flash: | Off, Did not fire |
Exposure mode: | Program AE |
Max Aperture: | 2.8 |
Resolution: | 240 x 240 dpi |
Original Date: | 2017:07:06 16:55:00.27 |
Created on: | 2017:07:06 16:55:00.27 |
Modified on: | 2017:07:07 06:52:22 |
Software: | Adobe Photoshop Lightroom 6.8 (Windows) |
Copyright: | @Luc-Gysel. |
Already Applied | True |
Approximate Focus Distance | 4.91 |
Artist | Luc-Gysel. |
Auto Lateral CA | 1 |
Auto White Version | 134348800 |
Blacks 2012 | 0 |
Blue Hue | 0 |
Blue Saturation | 0 |
Camera Profile | Adobe Standard |
Circle Of Confusion | 0.019 mm |
Clarity 2012 | +87 |
Color Noise Reduction | 25 |
Color Noise Reduction Detail | 50 |
Color Noise Reduction Smoothness | 50 |
Color Space | sRGB |
Color Temperature | 4850 |
Contrast 2012 | 0 |
Convert To Grayscale | False |
Creator | Luc-Gysel. |
Crop Angle | 0 |
Crop Bottom | 0.824841 |
Crop Constrain To Warp | 0 |
Crop Left | 0.284501 |
Crop Right | 1 |
Crop Top | 0.226115 |
Custom Rendered | Normal |
Date Created | 2017:07:06 16:55:00.27 |
Defringe Green Amount | 0 |
Defringe Green Hue Hi | 60 |
Defringe Green Hue Lo | 40 |
Defringe Purple Amount | 0 |
Defringe Purple Hue Hi | 70 |
Defringe Purple Hue Lo | 30 |
Dehaze | 0 |
Exposure 2012 | 0.00 |
Exposure Compensation | -1 |
Exposure Mode | Auto |
Field Of View | 13.1 deg |
Firmware | 1.0.5 |
Flash Compensation | 0 |
Format | image/jpeg |
Grain Amount | 0 |
Green Hue | 0 |
Green Saturation | 0 |
Has Crop | True |
Has Settings | True |
Hierarchical Subject | 2017_07_06 Etendje met de madammen |
Highlights 2012 | 0 |
Hue Adjustment Aqua | 0 |
Hue Adjustment Blue | 0 |
Hue Adjustment Green | 0 |
Hue Adjustment Magenta | 0 |
Hue Adjustment Orange | 0 |
Hue Adjustment Purple | 0 |
Hue Adjustment Red | 0 |
Hue Adjustment Yellow | 0 |
Hyperfocal Distance | 93.47 m |
ISO | 100 |
Image Number | 0 |
Image Size | 3709x2069 |
Lens | EF100mm f/2.8L Macro IS USM |
Lens ID | Canon EF 100mm f/2.8L Macro IS USM |
Lens Info | 100mm f/? |
Lens Manual Distortion Amount | 0 |
Lens Model | EF100mm f/2.8L Macro IS USM |
Lens Profile Chromatic Aberration Scale | 100 |
Lens Profile Distortion Scale | 100 |
Lens Profile Enable | 1 |
Lens Profile Filename | Canon EOS 5D Mark II (Canon EF 100mm f2.8 L Macro IS USM) - RAW.lcp |
Lens Profile Name | Adobe (Canon EF 100mm f2.8 L Macro IS USM) |
Lens Profile Setup | LensDefaults |
Lens Profile Vignetting Scale | 100 |
Light Value | 14.3 |
Luminance Adjustment Aqua | 0 |
Luminance Adjustment Blue | 0 |
Luminance Adjustment Green | 0 |
Luminance Adjustment Magenta | 0 |
Luminance Adjustment Orange | 0 |
Luminance Adjustment Purple | 0 |
Luminance Adjustment Red | 0 |
Luminance Adjustment Yellow | 0 |
Luminance Smoothing | 0 |
Metering Mode | Multi-segment |
Parametric Darks | 0 |
Parametric Highlight Split | 75 |
Parametric Highlights | 0 |
Parametric Lights | +35 |
Parametric Midtone Split | 50 |
Parametric Shadow Split | 25 |
Parametric Shadows | -50 |
Perspective Aspect | 0 |
Perspective Horizontal | 0 |
Perspective Rotate | 0.0 |
Perspective Scale | 100 |
Perspective Upright | 0 |
Perspective Vertical | 0 |
Perspective X | 0.00 |
Perspective Y | 0.00 |
Post Crop Vignette Amount | 0 |
Process Version | 6.7 |
Recommended Exposure Index | 100 |
Red Hue | 0 |
Red Saturation | 0 |
Rights | @Luc-Gysel. |
Saturation | 0 |
Saturation Adjustment Aqua | 0 |
Saturation Adjustment Blue | 0 |
Saturation Adjustment Green | 0 |
Saturation Adjustment Magenta | 0 |
Saturation Adjustment Orange | 0 |
Saturation Adjustment Purple | 0 |
Saturation Adjustment Red | 0 |
Saturation Adjustment Yellow | 0 |
Scale Factor To 35 mm Equivalent | 1.6 |
Scene Capture Type | Standard |
Sensitivity Type | Recommended Exposure Index |
Shadow Tint | 0 |
Shadows 2012 | 0 |
Sharpen Detail | 15 |
Sharpen Edge Masking | 60 |
Sharpen Radius | +1.4 |
Sharpness | 35 |
Split Toning Balance | 0 |
Split Toning Highlight Hue | 0 |
Split Toning Highlight Saturation | 0 |
Split Toning Shadow Hue | 0 |
Split Toning Shadow Saturation | 0 |
Subject | 2017_07_06 Etendje met de madammen |
Tint | +16 |
Tone Curve | 0, 0, 255, 255 |
Tone Curve Blue | 0, 0, 255, 255 |
Tone Curve Green | 0, 0, 255, 255 |
Tone Curve Name | Linear |
Tone Curve Name 2012 | Linear |
Tone Curve PV2012 | 0, 0, 255, 255 |
Tone Curve PV2012 Blue | 0, 0, 255, 255 |
Tone Curve PV2012 Green | 0, 0, 255, 255 |
Tone Curve PV2012 Red | 0, 0, 255, 255 |
Tone Curve Red | 0, 0, 255, 255 |
Tone Map Strength | 0 |
Version | 9.8 |
Vibrance | +25 |
Vignette Amount | 0 |
White Balance | Auto |
Whites 2012 | 0 |