Shooting information for this photo
Camera: | Panasonic DMC-LF1 |
Exposure: | 0.00125 sec. (1/800) |
Aperture: | f/4.5 |
Focal Length: | 17.0 mm (35 mm equivalent: 83.0 mm) |
Flash: | Off, Did not fire |
Exposure mode: | Program AE |
Max Aperture: | 4.5 |
Resolution: | 300 x 300 dpi |
Dimension: | 2672 x 4000 pixels |
Original Date: | 2022:03:05 06:44:56 |
Created on: | 2022:03:05 06:44:56 |
Modified on: | 2022:03:06 18:40:58 |
Software: | Adobe Photoshop 22.5 (Windows) |
Already Applied | True |
Auto Lateral CA | 0 |
Blacks 2012 | 0 |
Blue Hue | 0 |
Blue Saturation | 0 |
Camera Profile | Adobe Standard |
Circle Of Confusion | 0.006 mm |
Clarity 2012 | +9 |
Color Grade Blending | 50 |
Color Grade Global Hue | 0 |
Color Grade Global Lum | 0 |
Color Grade Global Sat | 0 |
Color Grade Highlight Lum | 0 |
Color Grade Midtone Hue | 0 |
Color Grade Midtone Lum | 0 |
Color Grade Midtone Sat | 0 |
Color Grade Shadow Lum | 0 |
Color Mode | Grayscale |
Color Noise Reduction | 25 |
Color Noise Reduction Detail | 50 |
Color Noise Reduction Smoothness | 50 |
Color Space | Uncalibrated |
Color Temperature | 5650 |
Contrast | Normal |
Contrast 2012 | 0 |
Custom Rendered | Custom |
Date Created | 2022:03:05 06:44:56 |
Dehaze | +8 |
Digital Zoom Ratio | 0 |
Distortion Correction Already Applied | True |
Exposure 2012 | 0.00 |
Exposure Compensation | 0 |
Exposure Mode | Auto |
Field Of View | 24.5 deg |
Focal Length In 35mm Format | 83 mm |
Format | image/jpeg |
Gain Control | High gain up |
Grain Amount | 0 |
Gray Mixer Aqua | 0 |
Gray Mixer Blue | -71 |
Gray Mixer Green | +33 |
Gray Mixer Magenta | +3 |
Gray Mixer Orange | -2 |
Gray Mixer Purple | 0 |
Gray Mixer Red | +20 |
Gray Mixer Yellow | 0 |
Green Hue | 0 |
Green Saturation | 0 |
Has Crop | False |
Has Settings | True |
Highlights 2012 | +34 |
Hyperfocal Distance | 10.44 m |
ICC Profile Name | Gray Gamma 2.2 |
ISO | 400 |
Image Size | 2672x4000 |
Lateral Chromatic Aberration Correction Already Applied | True |
Lens Manual Distortion Amount | 0 |
Lens Profile Enable | 0 |
Light Source | Unknown |
Light Value | 12.0 |
Look Amount | 1 |
Look Copyright | © 2018 Adobe Systems, Inc. |
Look Group | Profiles |
Look Name | Adobe Monochrome |
Look Parameters Camera Profile | Adobe Standard |
Look Parameters Clarity 2012 | +8 |
Look Parameters Convert To Grayscale | True |
Look Parameters Look Table | 73ED6C18DDE909DD7EA2D771F5AC28 2D |
Look Parameters Process Version | 11.0 |
Look Parameters Tone Curve PV2012 | 0, 0, 64, 56, 128, 128, 192, 197, 255, 255 |
Look Parameters Tone Curve PV2012 Blue | 0, 0, 255, 255 |
Look Parameters Tone Curve PV2012 Green | 0, 0, 255, 255 |
Look Parameters Tone Curve PV2012 Red | 0, 0, 255, 255 |
Look Parameters Version | 14.2 |
Look Supports Amount | false |
Look Supports Monochrome | false |
Look Supports Output Referred | false |
Luminance Smoothing | 0 |
Metering Mode | Spot |
Override Look Vignette | False |
Parametric Darks | 0 |
Parametric Highlight Split | 75 |
Parametric Highlights | 0 |
Parametric Lights | 0 |
Parametric Midtone Split | 50 |
Parametric Shadow Split | 25 |
Parametric Shadows | 0 |
Perspective Aspect | 0 |
Perspective Horizontal | 0 |
Perspective Rotate | 0.0 |
Perspective Scale | 100 |
Perspective Upright | 0 |
Perspective Vertical | 0 |
Perspective X | 0.00 |
Perspective Y | 0.00 |
Post Crop Vignette Amount | 0 |
Process Version | 11.0 |
Red Hue | 0 |
Red Saturation | 0 |
Saturation | Normal |
Scale Factor To 35 mm Equivalent | 4.9 |
Scene Capture Type | Standard |
Scene Type | Directly photographed |
Sensing Method | One-chip color area |
Shadow Tint | 0 |
Shadows 2012 | -7 |
Sharpen Detail | 25 |
Sharpen Edge Masking | 0 |
Sharpen Radius | +1.0 |
Sharpness | Normal |
Split Toning Balance | 0 |
Split Toning Highlight Hue | 0 |
Split Toning Highlight Saturation | 0 |
Split Toning Shadow Hue | 0 |
Split Toning Shadow Saturation | 0 |
Texture | +11 |
Tint | +9 |
Tone Curve Name 2012 | Linear |
Tone Curve PV2012 | 0, 0, 255, 255 |
Tone Curve PV2012 Blue | 0, 0, 255, 255 |
Tone Curve PV2012 Green | 0, 0, 255, 255 |
Tone Curve PV2012 Red | 0, 0, 255, 255 |
Version | 14.2 |
Vignette Amount | 0 |
White Balance | Auto |
Whites 2012 | +26 |