Shooting information for this photo
Camera: | EPSON Perfection V700/V750 |
Resolution: | 300 x 300 dpi |
Dimension: | 676 x 1038 pixels |
Original Date: | 2018:06:02 00:00:00 |
Created on: | 2018:06:02 00:00:00 |
Modified on: | 2018:06:19 16:20:01 |
Software: | Adobe Photoshop CC 2018 (Macintosh) |
Already Applied | True |
Auto Lateral CA | 0 |
Bits Per Sample | 16 16 16 |
Blacks 2012 | +22 |
Blue Hue | 0 |
Blue Saturation | 0 |
Camera Profile | Embedded |
Clarity 2012 | +20 |
Color Mode | RGB |
Color Noise Reduction | 0 |
Color Space | Uncalibrated |
Contrast 2012 | -15 |
Convert To Grayscale | False |
Defringe Green Amount | 0 |
Defringe Green Hue Hi | 60 |
Defringe Green Hue Lo | 40 |
Defringe Purple Amount | 0 |
Defringe Purple Hue Hi | 70 |
Defringe Purple Hue Lo | 30 |
Dehaze | +20 |
Exposure 2012 | -0.10 |
Format | image/tiff |
Grain Amount | 0 |
Green Hue | 0 |
Green Saturation | 0 |
Has Crop | False |
Has Settings | True |
Highlights 2012 | +29 |
Hue Adjustment Aqua | 0 |
Hue Adjustment Blue | 0 |
Hue Adjustment Green | 0 |
Hue Adjustment Magenta | 0 |
Hue Adjustment Orange | 0 |
Hue Adjustment Purple | 0 |
Hue Adjustment Red | 0 |
Hue Adjustment Yellow | 0 |
ICC Profile Name | ProPhoto RGB |
Image Height | 1038 |
Image Size | 676x1038 |
Image Width | 676 |
Incremental Temperature | 0 |
Incremental Tint | 0 |
Lens Manual Distortion Amount | 0 |
Lens Profile Enable | 0 |
Lens Profile Setup | LensDefaults |
Luminance Adjustment Aqua | 0 |
Luminance Adjustment Blue | 0 |
Luminance Adjustment Green | 0 |
Luminance Adjustment Magenta | 0 |
Luminance Adjustment Orange | 0 |
Luminance Adjustment Purple | 0 |
Luminance Adjustment Red | 0 |
Luminance Adjustment Yellow | 0 |
Luminance Smoothing | 0 |
Override Look Vignette | False |
Parametric Darks | 0 |
Parametric Highlight Split | 75 |
Parametric Highlights | 0 |
Parametric Lights | 0 |
Parametric Midtone Split | 50 |
Parametric Shadow Split | 25 |
Parametric Shadows | 0 |
Perspective Aspect | 0 |
Perspective Horizontal | 0 |
Perspective Rotate | 0.0 |
Perspective Scale | 100 |
Perspective Upright | 0 |
Perspective Vertical | 0 |
Perspective X | 0.00 |
Perspective Y | 0.00 |
Photometric Interpretation | RGB |
Planar Configuration | Chunky |
Post Crop Vignette Amount | -16 |
Post Crop Vignette Feather | 50 |
Post Crop Vignette Highlight Contrast | 0 |
Post Crop Vignette Midpoint | 50 |
Post Crop Vignette Roundness | 0 |
Post Crop Vignette Style | 1 |
Process Version | 10.0 |
Red Hue | 0 |
Red Saturation | 0 |
Rows Per Strip | 1038 |
Samples Per Pixel | 3 |
Saturation | 0 |
Saturation Adjustment Aqua | 0 |
Saturation Adjustment Blue | 0 |
Saturation Adjustment Green | 0 |
Saturation Adjustment Magenta | 0 |
Saturation Adjustment Orange | 0 |
Saturation Adjustment Purple | 0 |
Saturation Adjustment Red | 0 |
Saturation Adjustment Yellow | 0 |
Shadow Tint | 0 |
Shadows 2012 | +15 |
Sharpen Detail | 25 |
Sharpen Edge Masking | 0 |
Sharpen Radius | +1.0 |
Sharpness | 53 |
Split Toning Balance | 0 |
Split Toning Highlight Hue | 0 |
Split Toning Highlight Saturation | 0 |
Split Toning Shadow Hue | 0 |
Split Toning Shadow Saturation | 0 |
Strip Byte Counts | 4210128 |
Strip Offsets | 34932 |
Subfile Type | Full-resolution Image |
Tone Curve | 0, 0, 255, 255 |
Tone Curve Blue | 0, 0, 255, 255 |
Tone Curve Green | 0, 0, 255, 255 |
Tone Curve Name | Linear |
Tone Curve Name 2012 | Linear |
Tone Curve PV2012 | 0, 0, 255, 255 |
Tone Curve PV2012 Blue | 0, 0, 255, 255 |
Tone Curve PV2012 Green | 0, 0, 255, 255 |
Tone Curve PV2012 Red | 0, 0, 255, 255 |
Tone Curve Red | 0, 0, 255, 255 |
Tone Map Strength | 0 |
Version | 10.3 |
Vibrance | 0 |
Vignette Amount | 0 |
White Balance | As Shot |
Whites 2012 | -21 |