Shooting information for this photo
Camera: | NIKON CORPORATION NIKON D7000 |
Exposure: | 0.002 sec. (1/500) |
Aperture: | f/13.0 |
Focal Length: | 210.0 mm (35 mm equivalent: 315.0 mm) |
Flash: | Off, Did not fire |
Exposure mode: | Manual |
Max Aperture: | 5.3 |
Resolution: | 240 x 240 dpi |
Original Date: | 2013:11:26 12:12:06.30 |
Created on: | 2013:11:26 12:12:06.30 |
Modified on: | 2013:11:27 00:14:22 |
Software: | Adobe Photoshop Lightroom 3.6 (Windows) |
Copyright: | Jean Morin |
Already Applied | True |
Artist | Jean Morin |
Blue Hue | 0 |
Blue Saturation | 0 |
Brightness | 0 |
CFA Pattern | [Red,Green][Green,Blue] |
Camera Profile | Embedded |
Chromatic Aberration B | 0 |
Chromatic Aberration R | 0 |
Circle Of Confusion | 0.020 mm |
Clarity | +100 |
Color Noise Reduction | 0 |
Contrast | Normal |
Convert To Grayscale | False |
Creator | Jean Morin |
Crop Angle | 0 |
Crop Bottom | 0.919694 |
Crop Constrain To Warp | 0 |
Crop Height | 919 |
Crop Left | 0 |
Crop Right | 1 |
Crop Top | 0.225621 |
Crop Unit | pixels |
Crop Width | 2000 |
Custom Rendered | Normal |
Date Created | 2013:11:26 12:12:06.30 |
Defringe | 0 |
Digital Zoom Ratio | 1 |
Exposure | 0.00 |
Exposure Compensation | 0 |
Exposure Mode | Manual |
Field Of View | 6.5 deg |
Fill Light | 0 |
Focal Length In 35mm Format | 315 mm |
Format | image/jpeg |
Gain Control | None |
Grain Amount | 0 |
Green Hue | 0 |
Green Saturation | 0 |
Has Crop | True |
Has Settings | True |
Highlight Recovery | 100 |
Hue Adjustment Aqua | 0 |
Hue Adjustment Blue | 0 |
Hue Adjustment Green | 0 |
Hue Adjustment Magenta | 0 |
Hue Adjustment Orange | 0 |
Hue Adjustment Purple | 0 |
Hue Adjustment Red | 0 |
Hue Adjustment Yellow | 0 |
Hyperfocal Distance | 169.35 m |
ISO | 160 |
Image Number | 11790 |
Image Size | 2000x919 |
Incremental Temperature | +4 |
Incremental Tint | 0 |
Lens | 200.0-500.0 mm f/5.0-6.0 |
Lens Info | 200-500mm f/5-6 |
Lens Manual Distortion Amount | 0 |
Lens Model | 200.0-500.0 mm f/5.0-6.0 |
Lens Profile Enable | 0 |
Lens Profile Setup | LensDefaults |
Light Source | Unknown |
Light Value | 15.7 |
Luminance Adjustment Aqua | 0 |
Luminance Adjustment Blue | 0 |
Luminance Adjustment Green | 0 |
Luminance Adjustment Magenta | 0 |
Luminance Adjustment Orange | 0 |
Luminance Adjustment Purple | 0 |
Luminance Adjustment Red | 0 |
Luminance Adjustment Yellow | 0 |
Luminance Smoothing | 0 |
Metering Mode | Spot |
Parametric Darks | -24 |
Parametric Highlight Split | 75 |
Parametric Highlights | -8 |
Parametric Lights | +5 |
Parametric Midtone Split | 50 |
Parametric Shadow Split | 25 |
Parametric Shadows | -31 |
Perspective Horizontal | 0 |
Perspective Rotate | 0.0 |
Perspective Scale | 100 |
Perspective Vertical | 0 |
Post Crop Vignette Amount | 0 |
Process Version | 5.7 |
Red Hue | 0 |
Red Saturation | 0 |
Rights | Jean Morin |
Saturation | Normal |
Saturation Adjustment Aqua | 0 |
Saturation Adjustment Blue | -3 |
Saturation Adjustment Green | 0 |
Saturation Adjustment Magenta | 0 |
Saturation Adjustment Orange | +11 |
Saturation Adjustment Purple | 0 |
Saturation Adjustment Red | +11 |
Saturation Adjustment Yellow | 0 |
Scale Factor To 35 mm Equivalent | 1.5 |
Scene Capture Type | Standard |
Scene Type | Directly photographed |
Sensing Method | One-chip color area |
Sensitivity Type | Recommended Exposure Index |
Shadow Tint | 0 |
Shadows | 6 |
Sharpen Detail | 25 |
Sharpen Edge Masking | 0 |
Sharpen Radius | +1.0 |
Sharpness | Normal |
Split Toning Balance | 0 |
Split Toning Highlight Hue | 0 |
Split Toning Highlight Saturation | 0 |
Split Toning Shadow Hue | 0 |
Split Toning Shadow Saturation | 0 |
Subject Distance Range | Unknown |
Tone Curve | 0, 0, 255, 255 |
Tone Curve Name | Linear |
User Comment | JEAN |
Version | 6.6 |
Vibrance | +14 |
Vignette Amount | 0 |
White Balance | Auto |