Shooting information for this photo
Camera: | FUJIFILM X10 |
Exposure: | 0.00417 sec. (1/240) |
Aperture: | f/2.5 |
Focal Length: | 14.2 mm (35 mm equivalent: 111.9 mm) |
Flash: | Off, Did not fire |
Exposure mode: | Program AE |
Max Aperture: | 2.0 |
Resolution: | 300 x 300 dpi |
Original Date: | 2015:06:29 23:38:46 |
Created on: | 2015:06:29 23:38:46 |
Modified on: | 2015:06:30 15:52:41 |
Software: | Adobe Photoshop Lightroom 4.4 (Windows) |
Already Applied | True |
Auto Lateral CA | 0 |
Blacks 2012 | -50 |
Blue Hue | 0 |
Blue Saturation | +100 |
Brightness Value | 5.3 |
Camera Profile | Adobe Standard |
Circle Of Confusion | 0.004 mm |
Clarity 2012 | +20 |
Color Noise Reduction | 25 |
Color Noise Reduction Detail | 50 |
Contrast 2012 | +100 |
Convert To Grayscale | True |
Custom Rendered | Custom |
Date Created | 2015:06:29 23:38:46 |
Exposure 2012 | +1.10 |
Exposure Compensation | -0.33 |
Exposure Mode | Auto |
Field Of View | 18.3 deg |
Format | image/jpeg |
Grain Amount | 0 |
Gray Mixer Aqua | +25 |
Gray Mixer Blue | 0 |
Gray Mixer Green | -5 |
Gray Mixer Magenta | -40 |
Gray Mixer Orange | +38 |
Gray Mixer Purple | -30 |
Gray Mixer Red | +50 |
Gray Mixer Yellow | +36 |
Green Hue | +55 |
Green Saturation | +100 |
Has Crop | False |
Has Settings | True |
Highlights 2012 | -56 |
Hyperfocal Distance | 21.16 m |
ISO | 100 |
Image Size | 1500x2000 |
Incremental Temperature | -25 |
Incremental Tint | 0 |
Lens Manual Distortion Amount | 0 |
Lens Profile Chromatic Aberration Scale | 100 |
Lens Profile Distortion Scale | 100 |
Lens Profile Enable | 0 |
Lens Profile Filename | Canon EOS-1Ds Mark III (Sigma DG 12-24mm f4.5-5.6 EX HSM).lcp |
Lens Profile Name | Adobe (Sigma DG 12-24mm f/4.5-5.6 EX HSM) |
Lens Profile Setup | Custom |
Lens Profile Vignetting Scale | 100 |
Light Source | Unknown |
Light Value | 10.6 |
Luminance Smoothing | 0 |
Metering Mode | Multi-segment |
Parametric Darks | -20 |
Parametric Highlight Split | 75 |
Parametric Highlights | +55 |
Parametric Lights | 0 |
Parametric Midtone Split | 50 |
Parametric Shadow Split | 25 |
Parametric Shadows | 0 |
Perspective Horizontal | 0 |
Perspective Rotate | 0.0 |
Perspective Scale | 100 |
Perspective Vertical | 0 |
Post Crop Vignette Amount | 0 |
Process Version | 6.7 |
Red Hue | -40 |
Red Saturation | +100 |
Scale Factor To 35 mm Equivalent | 7.9 |
Scene Capture Type | Standard |
Scene Type | Directly photographed |
Sensing Method | One-chip color area |
Sensitivity Type | Standard Output Sensitivity |
Shadow Tint | +60 |
Shadows 2012 | +95 |
Sharpen Detail | 65 |
Sharpen Edge Masking | 0 |
Sharpen Radius | +2.0 |
Sharpness | Normal |
Split Toning Balance | 0 |
Split Toning Highlight Hue | 0 |
Split Toning Highlight Saturation | 0 |
Split Toning Shadow Hue | 0 |
Split Toning Shadow Saturation | 0 |
Subject Distance Range | Unknown |
Tone Curve Name 2012 | Linear |
Tone Curve PV2012 | 0, 0, 255, 255 |
Tone Curve PV2012 Blue | 0, 0, 255, 255 |
Tone Curve PV2012 Green | 0, 0, 255, 255 |
Tone Curve PV2012 Red | 0, 0, 255, 255 |
Version | 7.4 |
Vignette Amount | 0 |
White Balance | Manual |
Whites 2012 | -65 |