Shooting information for this photo
Original Date: | 2011:09:02 13:57:04 |
Created on: | 2011:09:02 13:57:04 |
Modified on: | 2011:09:02 20:10:52+02:00 |
Already Applied | True |
Approximate Focus Distance | 16.2 |
Blue Hue | 0 |
Blue Saturation | 0 |
Brightness | +53 |
Camera Profile | Adobe Standard |
Chromatic Aberration B | 0 |
Chromatic Aberration R | 0 |
Clarity | +77 |
Color Noise Reduction | 25 |
Color Noise Reduction Detail | 50 |
Color Temperature | 5550 |
Contrast | +47 |
Convert To Grayscale | True |
Date Created | 2011:09:02 13:57:04 |
Defringe | 0 |
Description | OLYMPUS DIGITAL CAMERA |
Exposure | 0.00 |
Fill Light | 26 |
Flash Compensation | -0.6640625 |
Grain Amount | 0 |
Gray Mixer Aqua | -10 |
Gray Mixer Blue | +20 |
Gray Mixer Green | -17 |
Gray Mixer Magenta | +32 |
Gray Mixer Orange | -100 |
Gray Mixer Purple | +25 |
Gray Mixer Red | +27 |
Gray Mixer Yellow | -9 |
Green Hue | 0 |
Green Saturation | 0 |
Has Crop | False |
Has Settings | True |
Highlight Recovery | 0 |
Image Size | 1024x683 |
Lens Manual Distortion Amount | 0 |
Lens Profile Enable | 0 |
Lens Profile Setup | LensDefaults |
Luminance Smoothing | 0 |
Parametric Darks | -47 |
Parametric Highlight Split | 75 |
Parametric Highlights | 0 |
Parametric Lights | -35 |
Parametric Midtone Split | 50 |
Parametric Shadow Split | 25 |
Parametric Shadows | -71 |
Perspective Horizontal | 0 |
Perspective Rotate | 0.0 |
Perspective Scale | 100 |
Perspective Vertical | 0 |
Post Crop Vignette Amount | 0 |
Process Version | 5.7 |
Red Hue | 0 |
Red Saturation | 0 |
Shadow Tint | 0 |
Shadows | 2 |
Sharpen Detail | 44 |
Sharpen Edge Masking | 0 |
Sharpen Radius | +1.2 |
Sharpness | 31 |
Split Toning Balance | 0 |
Split Toning Highlight Hue | 51 |
Split Toning Highlight Saturation | 0 |
Split Toning Shadow Hue | 37 |
Split Toning Shadow Saturation | 0 |
Tint | -4 |
Tone Curve | 0, 0, 32, 22, 64, 56, 128, 128, 192, 196, 255, 255 |
Tone Curve Name | Medium Contrast |
Version | 6.4.1 |
Vignette Amount | 0 |
White Balance | Custom |