Shooting information for this photo
Original Date: | 2011:09:22 10:42:28 |
Created on: | 2011:09:22 10:42:28.00 |
Modified on: | 2011:09:22 19:03:03+02:00 |
Already Applied | True |
Approximate Focus Distance | 4294967295 |
Blue Hue | +11 |
Blue Saturation | -70 |
Brightness | +29 |
Camera Profile | Adobe Standard |
Chromatic Aberration B | 0 |
Chromatic Aberration R | 0 |
Clarity | +70 |
Color Noise Reduction | 25 |
Color Noise Reduction Detail | 50 |
Color Temperature | 12500 |
Contrast | +60 |
Convert To Grayscale | False |
Date Created | 2011:09:22 10:42:28.00 |
Defringe | 0 |
Exposure | +0.05 |
Fill Light | 25 |
Grain Amount | 0 |
Green Hue | +11 |
Green Saturation | +25 |
Has Crop | False |
Has Settings | True |
Highlight Recovery | 0 |
Hue Adjustment Aqua | 0 |
Hue Adjustment Blue | 0 |
Hue Adjustment Green | 0 |
Hue Adjustment Magenta | 0 |
Hue Adjustment Orange | 0 |
Hue Adjustment Purple | 0 |
Hue Adjustment Red | 0 |
Hue Adjustment Yellow | 0 |
Image Number | 28638 |
Image Size | 1024x680 |
Lens | 55.0-200.0 mm f/4.0-5.6 |
Lens ID | 144 |
Lens Info | 55-200mm f/4-5.6 |
Lens Manual Distortion Amount | 0 |
Lens Profile Enable | 0 |
Lens Profile Setup | LensDefaults |
Luminance Adjustment Aqua | 0 |
Luminance Adjustment Blue | 0 |
Luminance Adjustment Green | 0 |
Luminance Adjustment Magenta | 0 |
Luminance Adjustment Orange | 0 |
Luminance Adjustment Purple | 0 |
Luminance Adjustment Red | 0 |
Luminance Adjustment Yellow | 0 |
Luminance Smoothing | 0 |
Parametric Darks | +71 |
Parametric Highlight Split | 75 |
Parametric Highlights | +56 |
Parametric Lights | +64 |
Parametric Midtone Split | 50 |
Parametric Shadow Split | 25 |
Parametric Shadows | -37 |
Perspective Horizontal | 0 |
Perspective Rotate | 0.0 |
Perspective Scale | 100 |
Perspective Vertical | 0 |
Post Crop Vignette Amount | 0 |
Process Version | 5.7 |
Red Hue | +96 |
Red Saturation | +3 |
Saturation | -100 |
Saturation Adjustment Aqua | 0 |
Saturation Adjustment Blue | 0 |
Saturation Adjustment Green | 0 |
Saturation Adjustment Magenta | 0 |
Saturation Adjustment Orange | 0 |
Saturation Adjustment Purple | 0 |
Saturation Adjustment Red | 0 |
Saturation Adjustment Yellow | 0 |
Shadow Tint | +8 |
Shadows | 11 |
Sharpen Detail | 47 |
Sharpen Edge Masking | 0 |
Sharpen Radius | +1.4 |
Sharpness | 50 |
Split Toning Balance | 0 |
Split Toning Highlight Hue | 51 |
Split Toning Highlight Saturation | 25 |
Split Toning Shadow Hue | 0 |
Split Toning Shadow Saturation | 0 |
Tint | +35 |
Tone Curve | 0, 0, 255, 255 |
Tone Curve Name | Linear |
Version | 6.4.1 |
Vibrance | 0 |
Vignette Amount | 0 |
White Balance | Custom |