Shooting information for this photo
Camera: | NIKON CORPORATION NIKON D90 |
Exposure: | 0.03333 sec. (1/30) |
Aperture: | f/4.0 |
Focal Length: | 55.0 mm (35 mm equivalent: 82.0 mm) |
Flash: | On, Return detected |
Exposure mode: | Program AE |
Max Aperture: | 4.0 |
Dimension: | 800 x 522 pixels |
Original Date: | 2011:10:05 15:53:22+02:00 |
Digitized Date: | 2011:10:05 15:53:22+02:00 |
Created on: | 2011:10:05 21:58:54+02:00 |
Already Applied | True |
Approximate Focus Distance | 1.41 |
Blue Hue | +15 |
Blue Saturation | -70 |
Brightness | +16 |
Camera Profile | Embedded |
Chromatic Aberration B | 0 |
Chromatic Aberration R | +8 |
Circle Of Confusion | 0.020 mm |
Clarity | +38 |
Color Mode | RGB |
Color Noise Reduction | 25 |
Color Noise Reduction Detail | 50 |
Color Space | Unknown (-1) |
Contrast | +20 |
Convert To Grayscale | False |
Crop Angle | 0 |
Crop Bottom | 1 |
Crop Constrain To Warp | 0 |
Crop Height | 2797 |
Crop Left | 0 |
Crop Right | 1 |
Crop Top | 0.017789 |
Crop Unit | pixels |
Crop Width | 4288 |
Custom Rendered | Custom |
Date Created | 2011:10:05 |
Defringe | 0 |
Depth Of Field | 0.10 m (1.36 - 1.46) |
Digital Zoom Ratio | 1 |
Exposure | +0.23 |
Exposure Compensation | -1 |
Exposure Mode | Auto |
Field Of View | 24.8 deg |
Fill Light | 9 |
Flash Fired | True |
Flash Function | False |
Flash Mode | On |
Flash Red Eye Mode | False |
Flash Return | Return detected |
Focal Length In 35mm Format | 82 mm |
Format | image/jpeg |
Gain Control | None |
Grain Amount | 0 |
Green Hue | +11 |
Green Saturation | +25 |
Has Crop | True |
Has Settings | True |
Highlight Recovery | 21 |
Hue Adjustment Aqua | 0 |
Hue Adjustment Blue | 0 |
Hue Adjustment Green | 0 |
Hue Adjustment Magenta | 0 |
Hue Adjustment Orange | 0 |
Hue Adjustment Purple | 0 |
Hue Adjustment Red | 0 |
Hue Adjustment Yellow | 0 |
Hyperfocal Distance | 37.53 m |
ICC Profile Name | Adobe RGB (1998) |
ISO | 200 |
Image Number | 29606 |
Image Size | 800x522 |
Incremental Temperature | -13 |
Incremental Tint | -59 |
Lens | 55.0-200.0 mm f/4.0-5.6 |
Lens ID | AF-S DX VR Zoom-Nikkor 55-200mm f/4-5.6G IF-ED |
Lens Info | 55-200mm f/4-5.6 |
Lens Manual Distortion Amount | 0 |
Lens Profile Enable | 0 |
Lens Profile Setup | LensDefaults |
Light Source | Unknown |
Light Value | 7.9 |
Luminance Adjustment Aqua | 0 |
Luminance Adjustment Blue | 0 |
Luminance Adjustment Green | 0 |
Luminance Adjustment Magenta | 0 |
Luminance Adjustment Orange | 0 |
Luminance Adjustment Purple | 0 |
Luminance Adjustment Red | 0 |
Luminance Adjustment Yellow | 0 |
Luminance Smoothing | 0 |
Metering Mode | Multi-segment |
Parametric Darks | -20 |
Parametric Highlight Split | 75 |
Parametric Highlights | -49 |
Parametric Lights | -28 |
Parametric Midtone Split | 50 |
Parametric Shadow Split | 25 |
Parametric Shadows | -45 |
Perspective Horizontal | 0 |
Perspective Rotate | 0.0 |
Perspective Scale | 100 |
Perspective Vertical | 0 |
Post Crop Vignette Amount | 0 |
Process Version | 5.7 |
Red Hue | +89 |
Red Saturation | +29 |
Saturation | -100 |
Saturation Adjustment Aqua | -60 |
Saturation Adjustment Blue | -40 |
Saturation Adjustment Green | -70 |
Saturation Adjustment Magenta | -20 |
Saturation Adjustment Orange | -55 |
Saturation Adjustment Purple | -55 |
Saturation Adjustment Red | -60 |
Saturation Adjustment Yellow | -50 |
Scale Factor To 35 mm Equivalent | 1.5 |
Scene Capture Type | Standard |
Scene Type | Directly photographed |
Sensing Method | One-chip color area |
Shadow Tint | +8 |
Shadows | 3 |
Sharpen Detail | 87 |
Sharpen Edge Masking | 0 |
Sharpen Radius | +2.7 |
Sharpness | 25 |
Split Toning Balance | 0 |
Split Toning Highlight Hue | 46 |
Split Toning Highlight Saturation | 9 |
Split Toning Shadow Hue | 149 |
Split Toning Shadow Saturation | 0 |
Subject Distance | 1.41 m |
Subject Distance Range | Unknown |
Tone Curve | 0, 0, 32, 22, 64, 56, 128, 128, 192, 196, 255, 255 |
Tone Curve Name | Medium Contrast |
Version | 6.4.1 |
Vibrance | -8 |
Vignette Amount | -42 |
Vignette Midpoint | 30 |
White Balance | Custom |