Shooting information for this photo
Camera: | Panasonic DMC-GM5 |
Exposure: | 0.01667 sec. (1/60) |
Aperture: | f/1.7 |
Focal Length: | 20.0 mm (35 mm equivalent: 40.0 mm) |
Flash: | Off, Did not fire |
Exposure mode: | Program AE |
Max Aperture: | 1.7 |
Resolution: | 240 x 240 dpi |
Dimension: | 4592 x 3448 pixels |
Original Date: | 2018:01:05 05:00:17.041 |
Created on: | 2018:01:05 05:00:17.041 |
Modified on: | 2018:01:09 00:21:42 |
Software: | Adobe Photoshop Lightroom 5.7.1 (Macintosh) |
Already Applied | True |
Auto Lateral CA | 0 |
Auto White Version | 134348800 |
Blacks 2012 | +20 |
Blue Hue | -12 |
Blue Saturation | -5 |
Camera Profile | Adobe Standard |
Circle Of Confusion | 0.015 mm |
Clarity 2012 | +25 |
Color Noise Reduction | 25 |
Color Noise Reduction Detail | 50 |
Color Noise Reduction Smoothness | 50 |
Color Space | sRGB |
Color Temperature | 4300 |
Contrast | High |
Contrast 2012 | 0 |
Convert To Grayscale | False |
Custom Rendered | Custom |
Defringe Green Amount | 0 |
Defringe Green Hue Hi | 60 |
Defringe Green Hue Lo | 40 |
Defringe Purple Amount | 0 |
Defringe Purple Hue Hi | 70 |
Defringe Purple Hue Lo | 30 |
Digital Zoom Ratio | 0 |
Exposure 2012 | 0.00 |
Exposure Compensation | 0 |
Exposure Mode | Auto |
Field Of View | 48.5 deg |
Focal Length In 35mm Format | 40 mm |
Format | image/jpeg |
Gain Control | High gain up |
Grain Amount | 20 |
Grain Frequency | 60 |
Grain Size | 20 |
Green Hue | +55 |
Green Saturation | -18 |
Has Crop | False |
Has Settings | True |
Highlights 2012 | -30 |
Hue Adjustment Aqua | 0 |
Hue Adjustment Blue | -5 |
Hue Adjustment Green | +20 |
Hue Adjustment Magenta | 0 |
Hue Adjustment Orange | +10 |
Hue Adjustment Purple | 0 |
Hue Adjustment Red | -5 |
Hue Adjustment Yellow | +15 |
Hyperfocal Distance | 15.66 m |
ISO | 500 |
Image Size | 4592x3448 |
Lens | LUMIX G 20/F1.7 |
Lens Manual Distortion Amount | 0 |
Lens Model | LUMIX G 20/F1.7 |
Lens Profile Enable | 0 |
Lens Profile Setup | LensDefaults |
Light Source | Unknown |
Light Value | 5.1 |
Luminance Adjustment Aqua | 0 |
Luminance Adjustment Blue | -15 |
Luminance Adjustment Green | -10 |
Luminance Adjustment Magenta | 0 |
Luminance Adjustment Orange | -10 |
Luminance Adjustment Purple | 0 |
Luminance Adjustment Red | -10 |
Luminance Adjustment Yellow | -14 |
Luminance Smoothing | 0 |
Metering Mode | Multi-segment |
Parametric Darks | -6 |
Parametric Highlight Split | 75 |
Parametric Highlights | 0 |
Parametric Lights | 0 |
Parametric Midtone Split | 46 |
Parametric Shadow Split | 30 |
Parametric Shadows | -15 |
Perspective Aspect | 0 |
Perspective Horizontal | 0 |
Perspective Rotate | 0.0 |
Perspective Scale | 100 |
Perspective Upright | 0 |
Perspective Vertical | 0 |
Post Crop Vignette Amount | 0 |
Process Version | 6.7 |
Red Hue | +40 |
Red Saturation | +10 |
Saturation | Low |
Saturation Adjustment Aqua | -5 |
Saturation Adjustment Blue | -10 |
Saturation Adjustment Green | -10 |
Saturation Adjustment Magenta | 0 |
Saturation Adjustment Orange | -2 |
Saturation Adjustment Purple | 0 |
Saturation Adjustment Red | -15 |
Saturation Adjustment Yellow | 0 |
Scale Factor To 35 mm Equivalent | 2.0 |
Scene Capture Type | Standard |
Scene Type | Directly photographed |
Sensing Method | One-chip color area |
Shadow Tint | 0 |
Shadows 2012 | +80 |
Sharpen Detail | 25 |
Sharpen Edge Masking | 27 |
Sharpen Radius | +1.0 |
Sharpness | Normal |
Split Toning Balance | 0 |
Split Toning Highlight Hue | 0 |
Split Toning Highlight Saturation | 0 |
Split Toning Shadow Hue | 0 |
Split Toning Shadow Saturation | 0 |
Tint | +13 |
Tone Curve | 0, 0, 255, 255 |
Tone Curve Blue | 0, 0, 255, 255 |
Tone Curve Green | 0, 0, 255, 255 |
Tone Curve Name | Linear |
Tone Curve Name 2012 | Portra 400+1 Vibrant |
Tone Curve PV2012 | 0, 13, 42, 51, 107, 116, 171, 180, 255, 255 |
Tone Curve PV2012 Blue | 0, 0, 39, 13, 87, 65, 123, 124, 183, 199, 255, 255 |
Tone Curve PV2012 Green | 0, 0, 40, 14, 83, 59, 123, 126, 170, 187, 255, 255 |
Tone Curve PV2012 Red | 0, 0, 40, 11, 84, 58, 123, 125, 182, 200, 255, 255 |
Tone Curve Red | 0, 0, 255, 255 |
Version | 8.7.1 |
Vibrance | 0 |
Vignette Amount | 0 |
White Balance | Auto |
Whites 2012 | -25 |