Shooting information for this photo
Camera: | Canon EOS 7D |
Exposure: | 0.05 sec. (1/20) |
Aperture: | f/10.0 |
Focal Length: | 15.0 mm (35 mm equivalent: 23.6 mm) |
Flash: | Off, Did not fire |
Exposure mode: | Aperture-priority AE |
Max Aperture: | 3.5 |
Resolution: | 72 x 72 dpi |
Dimension: | 1024 x 1024 pixels |
Original Date: | 2013:04:08 06:26:36.00 |
Digitized Date: | 2013:04:08 06:26:36+02:00 |
Created on: | 2013:04:08 06:26:36.00 |
Modified on: | 2013:04:30 02:22:37 |
Software: | Adobe Photoshop CS Macintosh |
Already Applied | True |
Approximate Focus Distance | 2.03 |
Artist | Didier LAMY |
Blue Hue | 0 |
Blue Saturation | 0 |
Brightness | 0 |
Camera Profile | Adobe Standard |
Chromatic Aberration B | -100 |
Chromatic Aberration R | -68 |
Circle Of Confusion | 0.019 mm |
Clarity | +100 |
Color Noise Reduction | 25 |
Color Noise Reduction Detail | 50 |
Color Space | sRGB |
Color Temperature | 7450 |
Contrast | +95 |
Convert To Grayscale | False |
Creator | Didier LAMY |
Crop Angle | 0 |
Crop Bottom | 0.998305 |
Crop Constrain To Warp | 0 |
Crop Height | 3257 |
Crop Left | 0.10339 |
Crop Right | 0.731638 |
Crop Top | 0.055932 |
Crop Unit | pixels |
Crop Width | 3257 |
Custom Rendered | Normal |
Date Created | 2013:04:08 |
Defringe | 2 |
Depth Of Field | inf (0.75 m - inf) |
Exposure | +1.90 |
Exposure Compensation | 0 |
Exposure Mode | Auto |
Field Of View | 74.8 deg |
Fill Light | 0 |
Firmware | 2.0.3 |
Flash Compensation | 0 |
Flash Fired | False |
Flash Function | False |
Flash Mode | Off |
Flash Red Eye Mode | False |
Flash Return | No return detection |
Format | image/jpeg |
Grain Amount | 0 |
Green Hue | 0 |
Green Saturation | 0 |
Has Crop | True |
Has Settings | True |
Highlight Recovery | 100 |
Hue Adjustment Aqua | 0 |
Hue Adjustment Blue | 0 |
Hue Adjustment Green | 0 |
Hue Adjustment Magenta | 0 |
Hue Adjustment Orange | 0 |
Hue Adjustment Purple | 0 |
Hue Adjustment Red | 0 |
Hue Adjustment Yellow | 0 |
Hyperfocal Distance | 1.18 m |
ISO | 5000 |
Image Number | 0 |
Image Size | 1024x1024 |
Lens | EF-S15-85mm f/3.5-5.6 IS USM |
Lens ID | Canon EF-S 15-85mm f/3.5-5.6 IS USM |
Lens Info | 15-85mm f/? |
Lens Manual Distortion Amount | 0 |
Lens Model | EF-S15-85mm f/3.5-5.6 IS USM |
Lens Profile Chromatic Aberration Scale | 100 |
Lens Profile Distortion Scale | 100 |
Lens Profile Enable | 1 |
Lens Profile Filename | Canon EOS REBEL T1i (Canon EF 15-85mm f3.5-5.6 IS USM) - RAW.lcp |
Lens Profile Name | Adobe (Canon EF 15-85mm f3.5-5.6 IS USM) |
Lens Profile Setup | LensDefaults |
Lens Profile Vignetting Scale | 100 |
Light Value | 5.3 |
Luminance Adjustment Aqua | 0 |
Luminance Adjustment Blue | 0 |
Luminance Adjustment Green | 0 |
Luminance Adjustment Magenta | 0 |
Luminance Adjustment Orange | 0 |
Luminance Adjustment Purple | 0 |
Luminance Adjustment Red | 0 |
Luminance Adjustment Yellow | 0 |
Luminance Noise Reduction Contrast | 0 |
Luminance Noise Reduction Detail | 50 |
Luminance Smoothing | 48 |
Metering Mode | Center-weighted average |
Parametric Darks | 0 |
Parametric Highlight Split | 75 |
Parametric Highlights | 0 |
Parametric Lights | 0 |
Parametric Midtone Split | 50 |
Parametric Shadow Split | 25 |
Parametric Shadows | 0 |
Perspective Horizontal | 0 |
Perspective Rotate | 0.0 |
Perspective Scale | 100 |
Perspective Vertical | 0 |
Post Crop Vignette Amount | -58 |
Post Crop Vignette Feather | 100 |
Post Crop Vignette Highlight Contrast | 0 |
Post Crop Vignette Midpoint | 32 |
Post Crop Vignette Roundness | +100 |
Post Crop Vignette Style | 2 |
Process Version | 5.7 |
Recommended Exposure Index | 5000 |
Red Hue | 0 |
Red Saturation | 0 |
Saturation | 0 |
Saturation Adjustment Aqua | 0 |
Saturation Adjustment Blue | -15 |
Saturation Adjustment Green | 0 |
Saturation Adjustment Magenta | 0 |
Saturation Adjustment Orange | 0 |
Saturation Adjustment Purple | 0 |
Saturation Adjustment Red | 0 |
Saturation Adjustment Yellow | 0 |
Scale Factor To 35 mm Equivalent | 1.6 |
Scene Capture Type | Standard |
Sensitivity Type | Recommended Exposure Index |
Shadow Tint | 0 |
Shadows | 14 |
Sharpen Detail | 52 |
Sharpen Edge Masking | 0 |
Sharpen Radius | +1.4 |
Sharpness | 85 |
Split Toning Balance | 0 |
Split Toning Highlight Hue | 0 |
Split Toning Highlight Saturation | 0 |
Split Toning Shadow Hue | 0 |
Split Toning Shadow Saturation | 0 |
Subject Distance | 2.03 m |
Tint | +5 |
Tone Curve | 0, 0, 32, 22, 64, 56, 128, 128, 192, 196, 255, 255 |
Tone Curve Name | Medium Contrast |
Version | 6.6 |
Vibrance | -13 |
Vignette Amount | 0 |
White Balance | Auto |