Shooting information for this photo
Camera: | Canon EOS 7D |
Exposure: | 0.008 sec. (1/125) |
Aperture: | f/4.0 |
Focal Length: | 10.0 mm (35 mm equivalent: 15.7 mm) |
Flash: | Off, Did not fire |
Exposure mode: | Shutter speed priority AE |
Max Aperture: | 3.5 |
Resolution: | 72 x 72 dpi |
Dimension: | 1024 x 820 pixels |
Original Date: | 2013:03:17 18:23:40.76 |
Digitized Date: | 2013:03:17 18:23:40+01:00 |
Created on: | 2013:03:17 18:23:40.76 |
Modified on: | 2013:03:19 15:14:16 |
Software: | Adobe Photoshop CS Macintosh |
Already Applied | True |
Approximate Focus Distance | 4294967295 |
Artist | Didier LAMY |
Blue Hue | 0 |
Blue Saturation | 0 |
Brightness | +62 |
Camera Profile | Adobe Standard |
Chromatic Aberration B | 0 |
Chromatic Aberration R | 0 |
Circle Of Confusion | 0.019 mm |
Clarity | +25 |
Color Noise Reduction | 25 |
Color Noise Reduction Detail | 50 |
Color Space | sRGB |
Color Temperature | 4950 |
Contrast | +45 |
Convert To Grayscale | False |
Creator | Didier LAMY |
Crop Angle | 0 |
Crop Bottom | 1 |
Crop Constrain To Warp | 0 |
Crop Height | 3456 |
Crop Left | 0.021186 |
Crop Right | 0.85452 |
Crop Top | 0 |
Crop Unit | pixels |
Crop Width | 4320 |
Custom Rendered | Normal |
Date Created | 2013:03:17 |
Defringe | 0 |
Depth Of Field | inf (1.31 m - inf) |
Exposure | -0.10 |
Exposure Compensation | 0 |
Exposure Mode | Auto |
Field Of View | 97.8 deg |
Fill Light | 21 |
Firmware | 2.0.3 |
Flash Compensation | 0 |
Flash Fired | False |
Flash Function | False |
Flash Mode | Off |
Flash Red Eye Mode | False |
Flash Return | No return detection |
Format | image/jpeg |
Grain Amount | 0 |
Green Hue | 0 |
Green Saturation | 0 |
Has Crop | True |
Has Settings | True |
Hierarchical Subject | "Arc-en-ciel", "Lumiére d'orage", Géode |
Highlight Recovery | 2 |
Hue Adjustment Aqua | 0 |
Hue Adjustment Blue | 0 |
Hue Adjustment Green | 0 |
Hue Adjustment Magenta | 0 |
Hue Adjustment Orange | 0 |
Hue Adjustment Purple | 0 |
Hue Adjustment Red | 0 |
Hue Adjustment Yellow | 0 |
Hyperfocal Distance | 1.31 m |
ISO | 125 |
Image Number | 0 |
Image Size | 1024x820 |
Lens | EF-S10-22mm f/3.5-4.5 USM |
Lens ID | Canon EF-S 10-22mm f/3.5-4.5 USM |
Lens Info | 10-22mm f/? |
Lens Manual Distortion Amount | 0 |
Lens Model | EF-S10-22mm f/3.5-4.5 USM |
Lens Profile Chromatic Aberration Scale | 100 |
Lens Profile Distortion Scale | 100 |
Lens Profile Enable | 1 |
Lens Profile Filename | Canon EOS 50D (Canon EF-S 10-22mm f3.5-4.5 USM) - RAW.lcp |
Lens Profile Name | Adobe (Canon EF-S 10-22mm f/3.5-4.5 USM) |
Lens Profile Setup | LensDefaults |
Lens Profile Vignetting Scale | 100 |
Light Value | 10.6 |
Luminance Adjustment Aqua | 0 |
Luminance Adjustment Blue | 0 |
Luminance Adjustment Green | 0 |
Luminance Adjustment Magenta | 0 |
Luminance Adjustment Orange | 0 |
Luminance Adjustment Purple | 0 |
Luminance Adjustment Red | 0 |
Luminance Adjustment Yellow | 0 |
Luminance Noise Reduction Contrast | 0 |
Luminance Noise Reduction Detail | 50 |
Luminance Smoothing | 9 |
Metering Mode | Multi-segment |
Parametric Darks | 0 |
Parametric Highlight Split | 75 |
Parametric Highlights | 0 |
Parametric Lights | 0 |
Parametric Midtone Split | 50 |
Parametric Shadow Split | 25 |
Parametric Shadows | 0 |
Perspective Horizontal | 0 |
Perspective Rotate | 0.0 |
Perspective Scale | 100 |
Perspective Vertical | 0 |
Post Crop Vignette Amount | 0 |
Process Version | 5.7 |
Recommended Exposure Index | 125 |
Red Hue | 0 |
Red Saturation | 0 |
Saturation | +9 |
Saturation Adjustment Aqua | 0 |
Saturation Adjustment Blue | 0 |
Saturation Adjustment Green | 0 |
Saturation Adjustment Magenta | 0 |
Saturation Adjustment Orange | 0 |
Saturation Adjustment Purple | 0 |
Saturation Adjustment Red | 0 |
Saturation Adjustment Yellow | 0 |
Scale Factor To 35 mm Equivalent | 1.6 |
Scene Capture Type | Standard |
Sensitivity Type | Recommended Exposure Index |
Shadow Tint | 0 |
Shadows | 0 |
Sharpen Detail | 41 |
Sharpen Edge Masking | 0 |
Sharpen Radius | +1.5 |
Sharpness | 48 |
Split Toning Balance | 0 |
Split Toning Highlight Hue | 0 |
Split Toning Highlight Saturation | 0 |
Split Toning Shadow Hue | 0 |
Split Toning Shadow Saturation | 0 |
Subject | "Arc-en-ciel", "Lumiére d'orage", Géode |
Subject Distance | 4294967295 m |
Tint | +3 |
Tone Curve | 0, 0, 32, 16, 64, 50, 128, 128, 192, 202, 255, 255 |
Tone Curve Name | Strong Contrast |
Version | 6.6 |
Vibrance | +52 |
Vignette Amount | 0 |
White Balance | Auto |