Shooting information for this photo
Camera: | Panasonic DMC-TZ6 |
Exposure: | 0.1 sec. (1/10) |
Aperture: | f/3.7 |
Focal Length: | 6.9 mm (35 mm equivalent: 42.0 mm) |
Flash: | Off, Did not fire |
Exposure mode: | Program AE |
Max Aperture: | 3.3 |
Resolution: | 72 x 72 dpi |
Dimension: | 1030 x 774 pixels |
Original Date: | 2010:06:15 08:41:50 |
Digitized Date: | 2010:06:15 08:41:50+01:00 |
Created on: | 2010:06:15 08:41:50 |
Modified on: | 2013:03:01 15:22:44 |
Software: | Adobe Photoshop CS Macintosh |
Already Applied | True |
Blue Hue | 0 |
Blue Saturation | 0 |
Brightness | +8 |
Camera Profile | Embedded |
Chromatic Aberration B | 0 |
Chromatic Aberration R | 0 |
Circle Of Confusion | 0.005 mm |
Clarity | 0 |
Color Noise Reduction | 0 |
Color Space | sRGB |
Contrast | +40 |
Convert To Grayscale | False |
Crop Angle | -0.933243 |
Crop Bottom | 0.871662 |
Crop Constrain To Warp | 0 |
Crop Height | 2375 |
Crop Left | 0.083644 |
Crop Right | 0.962226 |
Crop Top | 0.022537 |
Crop Unit | pixels |
Crop Width | 3166 |
Custom Rendered | Normal |
Date Created | 2010:06:15 |
Defringe | 0 |
Digital Zoom Ratio | 0 |
Exposure | -0.75 |
Exposure Compensation | 0 |
Exposure Mode | Auto |
Field Of View | 46.4 deg |
Fill Light | 23 |
Flash Fired | False |
Flash Function | False |
Flash Mode | Off |
Flash Red Eye Mode | False |
Flash Return | No return detection |
Focal Length In 35mm Format | 42 mm |
Format | image/jpeg |
Gain Control | High gain up |
Grain Amount | 70 |
Grain Frequency | 29 |
Grain Size | 53 |
Green Hue | 0 |
Green Saturation | 0 |
Has Crop | True |
Has Settings | True |
Hierarchical Subject | Bloc, Moussa, Noura |
Highlight Recovery | 100 |
Hue Adjustment Aqua | 0 |
Hue Adjustment Blue | 0 |
Hue Adjustment Green | 0 |
Hue Adjustment Magenta | 0 |
Hue Adjustment Orange | 0 |
Hue Adjustment Purple | 0 |
Hue Adjustment Red | 0 |
Hue Adjustment Yellow | 0 |
Hyperfocal Distance | 2.61 m |
ISO | 400 |
Image Size | 1030x774 |
Incremental Temperature | +17 |
Incremental Tint | +17 |
Lens Manual Distortion Amount | 0 |
Lens Profile Enable | 0 |
Lens Profile Setup | LensDefaults |
Light Source | Unknown |
Light Value | 5.1 |
Luminance Adjustment Aqua | 0 |
Luminance Adjustment Blue | 0 |
Luminance Adjustment Green | 0 |
Luminance Adjustment Magenta | 0 |
Luminance Adjustment Orange | 0 |
Luminance Adjustment Purple | 0 |
Luminance Adjustment Red | 0 |
Luminance Adjustment Yellow | 0 |
Luminance Noise Reduction Contrast | 0 |
Luminance Noise Reduction Detail | 50 |
Luminance Smoothing | 17 |
Metering Mode | Multi-segment |
Parametric Darks | +78 |
Parametric Highlight Split | 75 |
Parametric Highlights | +36 |
Parametric Lights | 0 |
Parametric Midtone Split | 50 |
Parametric Shadow Split | 14 |
Parametric Shadows | +22 |
Perspective Horizontal | 0 |
Perspective Rotate | 0.0 |
Perspective Scale | 100 |
Perspective Vertical | 0 |
Post Crop Vignette Amount | -78 |
Post Crop Vignette Feather | 100 |
Post Crop Vignette Highlight Contrast | 0 |
Post Crop Vignette Midpoint | 82 |
Post Crop Vignette Roundness | 0 |
Post Crop Vignette Style | 1 |
Process Version | 5.7 |
Red Hue | 0 |
Red Saturation | 0 |
Saturation | -48 |
Saturation Adjustment Aqua | 0 |
Saturation Adjustment Blue | 0 |
Saturation Adjustment Green | 0 |
Saturation Adjustment Magenta | 0 |
Saturation Adjustment Orange | 0 |
Saturation Adjustment Purple | 0 |
Saturation Adjustment Red | 0 |
Saturation Adjustment Yellow | 0 |
Scale Factor To 35 mm Equivalent | 6.1 |
Scene Capture Type | Standard |
Scene Type | Directly photographed |
Sensing Method | One-chip color area |
Shadow Tint | 0 |
Shadows | 25 |
Sharpen Detail | 33 |
Sharpen Edge Masking | 0 |
Sharpen Radius | +1.9 |
Sharpness | 73 |
Split Toning Balance | +53 |
Split Toning Highlight Hue | 55 |
Split Toning Highlight Saturation | 31 |
Split Toning Shadow Hue | 55 |
Split Toning Shadow Saturation | 0 |
Subject | Bloc, Moussa, Noura |
Tone Curve | 0, 0, 255, 255 |
Tone Curve Name | Linear |
Version | 6.6 |
Vibrance | +40 |
Vignette Amount | -100 |
Vignette Midpoint | 20 |
White Balance | Custom |