Shooting information for this photo
Camera: | PENTAX K200D |
Exposure: | 0.05 sec. (1/20) |
Aperture: | f/8.0 |
Focal Length: | 55.0 mm (35 mm equivalent: 82.0 mm) |
Flash: | Off, Did not fire |
Exposure mode: | Creative (Slow speed) |
Dimension: | 3872 x 2592 pixels |
Original Date: | 2009:01:26 12:41:17 |
Created on: | 2009:01:26 07:41:17 |
Software: | K200D Ver 1.00 |
AE Aperture | 8.0 |
AEB Xv | 0 |
AE Exposure Time | 1/20 |
AE ISO | 400 |
AE Lock | Off |
AE Max Aperture | 5.7 |
AE Max Aperture 2 | 5.7 |
AE Metering Mode | Center-weighted average |
AE Metering Segments | 7.0 8.4 8.2 8.6 7.6 9.2 7.8 6.6 8.1 7.0 7.9 7.5 7.0 6.6 6.2 6.8 |
AE Min Aperture | 38 |
AE Min Exposure Time | 1/3862 |
AE Program Mode | Macro |
AE Xv | 0 |
AF Adjustment | 0 |
AF Defocus | 5 |
AF Integration Time | 24 ms |
AF Point Mode | Select |
AF Point Selected | Center |
AF Point Selected 2 | Center |
AF Points In Focus | Center (horizontal) |
AF Predictor | 7 |
Already Applied | False |
Aperture Ring Use | Permitted |
Auto Aperture | On |
Auto Bracketing | 0 EV, No Extended Bracket |
Auto Lateral CA | 0 |
Black Point | 0 0 0 0 |
Blacks 2012 | 0 |
Blue Hue | 0 |
Blue Saturation | 0 |
Body Battery A/D Load | 133 |
Body Battery A/D No Load | 173 |
Body Battery State | Full |
Bracket Shot Number | n/a |
CPU Firmware Version | 1.00.00.03 |
Camera Profile | Adobe Standard |
Camera Temperature | 26 C |
Circle Of Confusion | 0.020 mm |
Clarity 2012 | +15 |
Color Noise Reduction | 25 |
Color Noise Reduction Detail | 50 |
Color Space | sRGB |
Contrast | Normal |
Contrast 2012 | 0 |
Convert To Grayscale | False |
Custom Rendered | Normal |
DSP Firmware Version | 1.00.00.03 |
Date Acquired | 2012:08:22 17:57:33 |
Defringe Green Amount | 0 |
Defringe Green Hue Hi | 60 |
Defringe Green Hue Lo | 40 |
Defringe Purple Amount | 0 |
Defringe Purple Hue Hi | 70 |
Defringe Purple Hue Lo | 30 |
Drive Mode | Single-frame; No Timer; Shutter Button; Single Exposure |
Drive Mode 2 | Single-frame |
Dynamic Range Expansion | Off |
E-Dial In Program | P Shift |
EV Steps | 1/3 EV Steps |
Effective LV | 8.4 |
Exposure 2012 | 0.00 |
Exposure Bracket Step Size | 0.3 |
Exposure Compensation | 0 |
Exposure Mode | Auto |
External Flash Bounce | n/a |
External Flash Exposure Comp | n/a |
External Flash Guide Number | n/a |
External Flash Mode | Off |
Field Of View | 24.8 deg |
Fine Sharpness | Off |
Flash Exposure Comp | 0 |
Flash Exposure Comp. Setting | 0 |
Flash Metering Segments | 0 0 0 0 0 0 0 0 0 0 0 0 0 0 0 0 |
Flash Mode | Off, Did not fire; Internal |
Flash Options | Normal |
Flash Status | Off |
Focal Length In 35mm Format | 82 mm |
Focus Mode | AF-S |
Focus Mode 2 | AF-S |
Format | image/jpeg |
Grain Amount | 29 |
Grain Frequency | 49 |
Grain Size | 28 |
Green Hue | 0 |
Green Saturation | 0 |
Has Settings | True |
Hierarchical Subject | HO train |
High ISO Noise Reduction | Weakest |
Highlights 2012 | -30 |
Hue | Normal |
Hue Adjustment Aqua | 0 |
Hue Adjustment Blue | +13 |
Hue Adjustment Green | +29 |
Hue Adjustment Magenta | 0 |
Hue Adjustment Orange | 0 |
Hue Adjustment Purple | 0 |
Hue Adjustment Red | 0 |
Hue Adjustment Yellow | -44 |
Hyperfocal Distance | 18.76 m |
ISO | 400 |
ISO Floor | 100 |
Image Edit Count | 0 |
Image Editing | None |
Image Size | 1024x685 |
Image Tone | Natural |
Incremental Temperature | 0 |
Incremental Tint | 0 |
Internal Flash Mode | Did not fire, Normal |
Internal Flash Strength | 32 |
Lens | smc PENTAX-DA 18-55mm F3.5-5.6 AL II |
Lens F Stops | 5 |
Lens ID | smc PENTAX-DA 18-55mm F3.5-5.6 AL II |
Lens Info | 18-55mm f/3.5-5.6 |
Lens Manual Distortion Amount | 0 |
Lens Model | smc PENTAX-DA 18-55mm F3.5-5.6 AL II |
Lens Profile Enable | 0 |
Lens Profile Setup | LensDefaults |
Lens Specification | 18, 55, 3.5, 5.6 |
Lens Type | smc PENTAX-DA 18-55mm F3.5-5.6 AL II |
Light Value | 8.3 |
Luminance Adjustment Aqua | 0 |
Luminance Adjustment Blue | 0 |
Luminance Adjustment Green | -10 |
Luminance Adjustment Magenta | 0 |
Luminance Adjustment Orange | +17 |
Luminance Adjustment Purple | 0 |
Luminance Adjustment Red | 0 |
Luminance Adjustment Yellow | -48 |
Luminance Smoothing | 0 |
Max Aperture | 5.7 |
Metering Mode | Center-weighted average |
Metering Mode 2 | Center-weighted average |
Min Aperture | 22 |
Monochrome Filter Effect | None |
Monochrome Toning | None |
Multiple Exposure Set | Off |
Noise Reduction | Off |
Nominal Max Aperture | 5.7 |
Nominal Min Aperture | 38 |
Offset Schema | 3818 |
Parametric Darks | +25 |
Parametric Highlight Split | 75 |
Parametric Highlights | +50 |
Parametric Lights | +30 |
Parametric Midtone Split | 50 |
Parametric Shadow Split | 25 |
Parametric Shadows | 0 |
Pentax Model ID | K200D |
Pentax Model Type | 0 |
Pentax Version | 4.1.2.0 |
Perspective Horizontal | 0 |
Perspective Rotate | 0.0 |
Perspective Scale | 100 |
Perspective Vertical | 0 |
Photographic Sensitivity | 400 |
Picture Mode | Macro; 1/3 EV steps |
Picture Mode 2 | Scene Mode |
Post Crop Vignette Amount | -100 |
Post Crop Vignette Feather | 0 |
Post Crop Vignette Highlight Contrast | 0 |
Post Crop Vignette Midpoint | 44 |
Post Crop Vignette Roundness | -100 |
Post Crop Vignette Style | 1 |
Power Source | Body Battery |
Process Version | 6.7 |
Production Code | 2.2 |
Program Line | MTF |
Quality | Best |
Raw Development Process | 1 (K10D,K200D,K2000,K-m) |
Raw File Name | Trains-0125.JPG |
Red Hue | 0 |
Red Saturation | 0 |
SR Focal Length | 54 mm |
SR Half Press Time | 1.35 s |
SR Result | Stabilized |
Saturation | Normal |
Saturation Adjustment Aqua | 0 |
Saturation Adjustment Blue | +31 |
Saturation Adjustment Green | +38 |
Saturation Adjustment Magenta | 0 |
Saturation Adjustment Orange | +46 |
Saturation Adjustment Purple | 0 |
Saturation Adjustment Red | 0 |
Saturation Adjustment Yellow | +2 |
Scale Factor To 35 mm Equivalent | 1.5 |
Scene Capture Type | Standard |
Scene Type | Directly photographed |
Sensing Method | One-chip color area |
Sensitivity Adjust | 0 |
Shadow Tint | 0 |
Shadows 2012 | 0 |
Shake Reduction | On (7) |
Sharpen Detail | 25 |
Sharpen Edge Masking | 0 |
Sharpen Radius | +1.0 |
Sharpness | Normal |
Shutter Count | 326 |
Slave Flash Metering Segments | 0 0 0 0 0 0 0 0 0 0 0 0 0 0 0 0 |
Split Toning Balance | +85 |
Split Toning Highlight Hue | 0 |
Split Toning Highlight Saturation | 0 |
Split Toning Shadow Hue | 234 |
Split Toning Shadow Saturation | 73 |
Subject | HO train |
Subject Distance Range | Macro |
TTL DA A Down | 0 |
TTL DA A Up | 0 |
TTL DA B Down | 0 |
TTL DA B Up | 0 |
Tone Curve Name 2012 | Medium Contrast |
Tone Curve PV2012 | 0, 0, 32, 22, 64, 56, 128, 128, 192, 196, 255, 255 |
Tone Curve PV2012 Blue | 0, 0, 255, 255 |
Tone Curve PV2012 Green | 0, 0, 255, 255 |
Tone Curve PV2012 Red | 0, 0, 255, 255 |
Version | 7.4 |
Vibrance | -10 |
Vignette Amount | 0 |
WB RGGB Levels Cloudy | 14560 8192 8192 9375 |
WB RGGB Levels Daylight | 13824 8192 8192 10558 |
WB RGGB Levels Flash | 13824 8192 8192 10558 |
WB RGGB Levels Fluorescent D | 17376 8192 8192 9830 |
WB RGGB Levels Fluorescent N | 14528 8192 8192 11195 |
WB RGGB Levels Fluorescent W | 13088 8192 8192 13562 |
WB RGGB Levels Shade | 16128 8192 8192 8100 |
WB RGGB Levels Tungsten | 8192 8192 8192 23301 |
White Balance | Auto |
White Balance Auto Adjustment | On |
White Balance Mode | Auto (White Fluorescent) |
White Balance Set | Auto |
White Point | 12096 8192 8192 13376 |
Whites 2012 | 0 |