Shooting information for this photo
Camera: | Apple iPhone 6s |
Exposure: | 0.00833 sec. (1/120) |
Aperture: | f/2.2 |
Focal Length: | 4.2 mm (35 mm equivalent: 39.0 mm) |
Flash: | Auto, Did not fire |
Exposure mode: | Program AE |
Resolution: | 240 x 240 dpi |
Original Date: | 2018:10:07 18:19:36.866 |
Created on: | 2018:10:07 18:19:36.866 |
Modified on: | 2019:01:14 12:12:58 |
Software: | Adobe Photoshop Lightroom 4.4 (Windows) |
Already Applied | True |
Auto Lateral CA | 0 |
Blacks 2012 | +1 |
Blue Hue | 0 |
Blue Saturation | 0 |
Brightness Value | 6.433163326 |
Camera Profile | Embedded |
Circle Of Confusion | 0.003 mm |
Clarity 2012 | +19 |
Color Noise Reduction | 0 |
Contrast 2012 | -13 |
Convert To Grayscale | False |
Date Created | 2018:10:07 18:19:36.866 |
Defringe Green Amount | 0 |
Defringe Green Hue Hi | 60 |
Defringe Green Hue Lo | 40 |
Defringe Purple Amount | 0 |
Defringe Purple Hue Hi | 70 |
Defringe Purple Hue Lo | 30 |
Digital Zoom Ratio | 1.342806394 |
Exposure 2012 | -0.25 |
Exposure Compensation | 0 |
Exposure Mode | Auto |
Field Of View | 49.6 deg |
Focal Length In 35mm Format | 39 mm |
Format | image/jpeg |
Grain Amount | 0 |
Green Hue | 0 |
Green Saturation | 0 |
Has Crop | False |
Has Settings | True |
Highlights 2012 | -50 |
Hue Adjustment Aqua | 0 |
Hue Adjustment Blue | 0 |
Hue Adjustment Green | 0 |
Hue Adjustment Magenta | 0 |
Hue Adjustment Orange | 0 |
Hue Adjustment Purple | 0 |
Hue Adjustment Red | 0 |
Hue Adjustment Yellow | 0 |
Hyperfocal Distance | 2.45 m |
ISO | 40 |
Image Size | 4032x3024 |
Incremental Temperature | 0 |
Incremental Tint | 0 |
Label | Blue |
Lens | iPhone 6s back camera 4.15mm f/2.2 |
Lens Info | 4.15mm f/2.2 |
Lens Make | Apple |
Lens Manual Distortion Amount | 0 |
Lens Model | iPhone 6s back camera 4.15mm f/2.2 |
Lens Profile Enable | 0 |
Lens Profile Setup | LensDefaults |
Light Value | 10.5 |
Luminance Adjustment Aqua | -9 |
Luminance Adjustment Blue | -4 |
Luminance Adjustment Green | +38 |
Luminance Adjustment Magenta | -100 |
Luminance Adjustment Orange | -13 |
Luminance Adjustment Purple | +4 |
Luminance Adjustment Red | -47 |
Luminance Adjustment Yellow | -20 |
Luminance Smoothing | 0 |
Metering Mode | Multi-segment |
Parametric Darks | 0 |
Parametric Highlight Split | 75 |
Parametric Highlights | 0 |
Parametric Lights | 0 |
Parametric Midtone Split | 50 |
Parametric Shadow Split | 25 |
Parametric Shadows | 0 |
Perspective Horizontal | 0 |
Perspective Rotate | 0.0 |
Perspective Scale | 100 |
Perspective Vertical | 0 |
Post Crop Vignette Amount | 0 |
Process Version | 6.7 |
Red Hue | 0 |
Red Saturation | 0 |
Saturation | 0 |
Saturation Adjustment Aqua | -9 |
Saturation Adjustment Blue | +49 |
Saturation Adjustment Green | -20 |
Saturation Adjustment Magenta | +100 |
Saturation Adjustment Orange | +33 |
Saturation Adjustment Purple | +100 |
Saturation Adjustment Red | +38 |
Saturation Adjustment Yellow | +31 |
Scale Factor To 35 mm Equivalent | 9.4 |
Scene Capture Type | Standard |
Scene Type | Directly photographed |
Sensing Method | One-chip color area |
Shadow Tint | 0 |
Shadows 2012 | +50 |
Sharpen Detail | 25 |
Sharpen Edge Masking | 0 |
Sharpen Radius | +1.0 |
Sharpness | 0 |
Split Toning Balance | 0 |
Split Toning Highlight Hue | 0 |
Split Toning Highlight Saturation | 0 |
Split Toning Shadow Hue | 0 |
Split Toning Shadow Saturation | 0 |
Subject Area | 2015 1511 2219 1331 |
Tone Curve Name 2012 | Linear |
Tone Curve PV2012 | 0, 0, 255, 255 |
Tone Curve PV2012 Blue | 0, 0, 255, 255 |
Tone Curve PV2012 Green | 0, 0, 255, 255 |
Tone Curve PV2012 Red | 0, 0, 255, 255 |
Version | 7.4 |
Vibrance | 0 |
Vignette Amount | 0 |
White Balance | Auto |
Whites 2012 | +42 |
GPS Information |
GPS Altitude | 1056.2 m Above Sea Level |
GPS Altitude Ref | Above Sea Level |
GPS Date Stamp | 2018:10:07 |
GPS Date/Time | 2018:10:07 22:19:36Z |
GPS Dest Bearing | 140.3023339 |
GPS Dest Bearing Ref | Magnetic North |
GPS Horizontal Positioning Error | 5 m |
GPS Img Direction | 140.3023339 |
GPS Img Direction Ref | Magnetic North |
GPS Latitude | 42 deg 38' 14.11" N |
GPS Latitude Ref | North |
GPS Longitude | 73 deg 9' 57.08" W |
GPS Longitude Ref | West |
GPS Position | 42 deg 38' 14.11" N, 73 deg 9' 57.08" W |
GPS Speed | 0 |
GPS Speed Ref | km/h |
GPS Time Stamp | 22:19:36 |