Shooting information for this photo
Camera: | Apple iPhone 6s |
Exposure: | 0.00588 sec. (1/170) |
Aperture: | f/2.2 |
Focal Length: | 4.2 mm (35 mm equivalent: 99.0 mm) |
Flash: | Auto, Did not fire |
Exposure mode: | Program AE |
Resolution: | 240 x 240 dpi |
Original Date: | 2018:10:25 14:37:15.636 |
Created on: | 2018:10:25 14:37:15.636 |
Modified on: | 2018:11:15 09:43:06 |
Software: | Adobe Photoshop Lightroom 4.4 (Windows) |
Already Applied | True |
Auto Lateral CA | 0 |
Blacks 2012 | +1 |
Blue Hue | 0 |
Blue Saturation | 0 |
Brightness Value | 7.295333824 |
Camera Profile | Embedded |
Circle Of Confusion | 0.001 mm |
City | Boston |
Clarity 2012 | -60 |
Color Noise Reduction | 0 |
Contrast 2012 | +25 |
Convert To Grayscale | True |
Country | United States |
Custom Rendered | Unknown (3) |
Date Created | 2018:10:25 14:37:15.636 |
Digital Zoom Ratio | 3.397752809 |
Exposure 2012 | -1.15 |
Exposure Compensation | 0 |
Exposure Mode | Auto |
Field Of View | 20.6 deg |
Focal Length In 35mm Format | 99 mm |
Format | image/jpeg |
Grain Amount | 0 |
Gray Mixer Aqua | 0 |
Gray Mixer Blue | +7 |
Gray Mixer Green | +89 |
Gray Mixer Magenta | 0 |
Gray Mixer Orange | -13 |
Gray Mixer Purple | 0 |
Gray Mixer Red | -29 |
Gray Mixer Yellow | 0 |
Green Hue | 0 |
Green Saturation | 0 |
Has Crop | False |
Has Settings | True |
Hierarchical Subject | decay |
Highlights 2012 | 0 |
Hyperfocal Distance | 6.22 m |
ISO | 25 |
Image Size | 4032x3024 |
Incremental Temperature | +12 |
Incremental Tint | 0 |
Lens | iPhone 6s back camera 4.15mm f/2.2 |
Lens Info | 4.15mm f/2.2 |
Lens Make | Apple |
Lens Manual Distortion Amount | 0 |
Lens Model | iPhone 6s back camera 4.15mm f/2.2 |
Lens Profile Enable | 0 |
Lens Profile Setup | LensDefaults |
Light Value | 11.7 |
Location | Downtown |
Luminance Smoothing | 0 |
Metering Mode | Multi-segment |
Parametric Darks | 0 |
Parametric Highlight Split | 75 |
Parametric Highlights | 0 |
Parametric Lights | 0 |
Parametric Midtone Split | 50 |
Parametric Shadow Split | 25 |
Parametric Shadows | 0 |
Perspective Horizontal | 0 |
Perspective Rotate | 0.0 |
Perspective Scale | 100 |
Perspective Vertical | 0 |
Post Crop Vignette Amount | 0 |
Process Version | 6.7 |
Rating | 2 |
Red Hue | 0 |
Red Saturation | 0 |
Scale Factor To 35 mm Equivalent | 23.9 |
Scene Capture Type | Standard |
Scene Type | Directly photographed |
Sensing Method | One-chip color area |
Shadow Tint | 0 |
Shadows 2012 | 0 |
Sharpen Detail | 25 |
Sharpen Edge Masking | 0 |
Sharpen Radius | +1.0 |
Sharpness | 0 |
Split Toning Balance | 0 |
Split Toning Highlight Hue | 0 |
Split Toning Highlight Saturation | 0 |
Split Toning Shadow Hue | 0 |
Split Toning Shadow Saturation | 0 |
State | Massachusetts |
Subject | decay |
Subject Area | 2009 1502 2220 1325 |
Tone Curve Name 2012 | Linear |
Tone Curve PV2012 | 0, 0, 255, 255 |
Tone Curve PV2012 Blue | 0, 0, 255, 255 |
Tone Curve PV2012 Green | 0, 0, 255, 255 |
Tone Curve PV2012 Red | 0, 0, 255, 255 |
Version | 7.4 |
Vignette Amount | 0 |
White Balance | Auto |
Whites 2012 | +21 |
GPS Information |
GPS Altitude | 16.2 m Above Sea Level |
GPS Altitude Ref | Above Sea Level |
GPS Date Stamp | 2018:10:25 |
GPS Date/Time | 2018:10:25 18:37:14Z |
GPS Dest Bearing | 122.7304994 |
GPS Dest Bearing Ref | Magnetic North |
GPS Horizontal Positioning Error | 30 m |
GPS Img Direction | 122.7304994 |
GPS Img Direction Ref | Magnetic North |
GPS Latitude | 42 deg 21' 30.29" N |
GPS Latitude Ref | North |
GPS Longitude | 71 deg 3' 35.99" W |
GPS Longitude Ref | West |
GPS Position | 42 deg 21' 30.29" N, 71 deg 3' 35.99" W |
GPS Speed | 0 |
GPS Speed Ref | km/h |
GPS Time Stamp | 18:37:14 |