Shooting information for this photo
Camera: | Apple iPhone 4S |
Exposure: | 0.01667 sec. (1/60) |
Aperture: | f/2.4 |
Focal Length: | 4.3 mm (35 mm equivalent: 35.0 mm) |
Flash: | Auto, Did not fire |
Exposure mode: | Program AE |
Resolution: | 240 x 240 dpi |
Original Date: | 2016:07:02 17:30:54.620 |
Created on: | 2016:07:02 17:30:54.620 |
Modified on: | 2017:12:14 09:41:26 |
Software: | Adobe Photoshop Lightroom 4.4 (Windows) |
Already Applied | True |
Auto Lateral CA | 0 |
Blacks 2012 | 0 |
Blue Hue | 0 |
Blue Saturation | 0 |
Brightness Value | 4.053100631 |
Camera Profile | Embedded |
Circle Of Confusion | 0.004 mm |
City | Williamsburg |
Clarity 2012 | +33 |
Color Noise Reduction | 0 |
Contrast 2012 | 0 |
Convert To Grayscale | False |
Country | United States |
Crop Angle | -2.79765 |
Crop Bottom | 0.830939 |
Crop Constrain To Warp | 0 |
Crop Height | 2019 |
Crop Left | 0 |
Crop Right | 0.875281 |
Crop Top | 0.062042 |
Crop Unit | pixels |
Crop Width | 2761 |
Date Created | 2016:07:02 17:30:54.620 |
Defringe Green Amount | 0 |
Defringe Green Hue Hi | 60 |
Defringe Green Hue Lo | 40 |
Defringe Purple Amount | 0 |
Defringe Purple Hue Hi | 70 |
Defringe Purple Hue Lo | 30 |
Exposure 2012 | +0.12 |
Exposure Compensation | 0 |
Exposure Mode | Auto |
Field Of View | 54.4 deg |
Focal Length In 35mm Format | 35 mm |
Format | image/jpeg |
Grain Amount | 0 |
Green Hue | 0 |
Green Saturation | 0 |
Has Crop | True |
Has Settings | True |
Hierarchical Subject | dogs |
Highlights 2012 | 0 |
Hue Adjustment Aqua | 0 |
Hue Adjustment Blue | 0 |
Hue Adjustment Green | 0 |
Hue Adjustment Magenta | 0 |
Hue Adjustment Orange | 0 |
Hue Adjustment Purple | 0 |
Hue Adjustment Red | 0 |
Hue Adjustment Yellow | 0 |
Hyperfocal Distance | 2.08 m |
ISO | 64 |
Image Size | 2761x2019 |
Incremental Temperature | 0 |
Incremental Tint | 0 |
Lens | iPhone 4S back camera 4.28mm f/2.4 |
Lens Info | 4.28mm f/2.4 |
Lens Make | Apple |
Lens Manual Distortion Amount | 0 |
Lens Model | iPhone 4S back camera 4.28mm f/2.4 |
Lens Profile Enable | 0 |
Lens Profile Setup | LensDefaults |
Light Value | 9.1 |
Luminance Adjustment Aqua | 0 |
Luminance Adjustment Blue | 0 |
Luminance Adjustment Green | 0 |
Luminance Adjustment Magenta | 0 |
Luminance Adjustment Orange | 0 |
Luminance Adjustment Purple | 0 |
Luminance Adjustment Red | 0 |
Luminance Adjustment Yellow | 0 |
Luminance Smoothing | 0 |
Metering Mode | Multi-segment |
Parametric Darks | 0 |
Parametric Highlight Split | 75 |
Parametric Highlights | 0 |
Parametric Lights | 0 |
Parametric Midtone Split | 50 |
Parametric Shadow Split | 25 |
Parametric Shadows | 0 |
Perspective Horizontal | 0 |
Perspective Rotate | 0.0 |
Perspective Scale | 100 |
Perspective Vertical | 0 |
Post Crop Vignette Amount | 0 |
Process Version | 6.7 |
Red Hue | 0 |
Red Saturation | 0 |
Saturation | +12 |
Saturation Adjustment Aqua | 0 |
Saturation Adjustment Blue | 0 |
Saturation Adjustment Green | 0 |
Saturation Adjustment Magenta | 0 |
Saturation Adjustment Orange | 0 |
Saturation Adjustment Purple | 0 |
Saturation Adjustment Red | 0 |
Saturation Adjustment Yellow | 0 |
Scale Factor To 35 mm Equivalent | 8.2 |
Scene Capture Type | Standard |
Scene Type | Directly photographed |
Sensing Method | One-chip color area |
Shadow Tint | 0 |
Shadows 2012 | 0 |
Sharpen Detail | 25 |
Sharpen Edge Masking | 0 |
Sharpen Radius | +1.0 |
Sharpness | 0 |
Split Toning Balance | 0 |
Split Toning Highlight Hue | 0 |
Split Toning Highlight Saturation | 0 |
Split Toning Shadow Hue | 0 |
Split Toning Shadow Saturation | 0 |
State | Massachusetts |
Subject | dogs |
Subject Area | 1631 1223 881 881 |
Tone Curve Name 2012 | Linear |
Tone Curve PV2012 | 0, 0, 255, 255 |
Tone Curve PV2012 Blue | 0, 0, 255, 255 |
Tone Curve PV2012 Green | 0, 0, 255, 255 |
Tone Curve PV2012 Red | 0, 0, 255, 255 |
Version | 7.4 |
Vibrance | 0 |
Vignette Amount | 0 |
White Balance | Auto |
Whites 2012 | 0 |
GPS Information |
GPS Altitude | 409 m Above Sea Level |
GPS Altitude Ref | Above Sea Level |
GPS Date Stamp | 2016:07:02 |
GPS Date/Time | 2016:07:02 21:30:54.18Z |
GPS Dest Bearing | 149.9347181 |
GPS Dest Bearing Ref | True North |
GPS Img Direction | 329.9347181 |
GPS Img Direction Ref | True North |
GPS Latitude | 42 deg 24' 52.15" N |
GPS Latitude Ref | North |
GPS Longitude | 72 deg 48' 3.06" W |
GPS Longitude Ref | West |
GPS Position | 42 deg 24' 52.15" N, 72 deg 48' 3.06" W |
GPS Speed | 0.59167761 |
GPS Speed Ref | km/h |
GPS Time Stamp | 21:30:54.18 |