Shooting information for this photo
Camera: | Canon EOS 5D Mark III |
Exposure: | 0.00313 sec. (1/320) |
Aperture: | f/4.0 |
Focal Length: | 135.0 mm (35 mm equivalent: 777.5 mm) |
Flash: | Off, Did not fire |
Exposure mode: | Manual |
Max Aperture: | 2.0 |
Resolution: | 72 x 72 dpi |
Dimension: | 850 x 850 pixels |
Original Date: | 2017:05:04 10:00:40.33 |
Created on: | 2017:05:04 10:00:40.33 |
Modified on: | 2017:10:12 08:00:03 |
Software: | Adobe Photoshop CS6 (Macintosh) |
Copyright: | Affolaby James Franck |
Already Applied | True |
Approximate Focus Distance | 16.5 |
Artist | AFFOLABY James Franck |
Auto Lateral CA | 0 |
Blacks 2012 | 0 |
Blue Hue | -44 |
Blue Saturation | +33 |
Camera Profile | Adobe Standard |
Circle Of Confusion | 0.005 mm |
Clarity 2012 | +25 |
Color Mode | RGB |
Color Noise Reduction | 50 |
Color Noise Reduction Detail | 50 |
Color Space | sRGB |
Color Temperature | 5861 |
Contrast 2012 | 0 |
Convert To Grayscale | False |
Creator | AFFOLABY James Franck |
Crop Angle | -1.5667 |
Crop Bottom | 0.945875 |
Crop Constrain To Warp | 0 |
Crop Left | 0.126578 |
Crop Right | 0.774408 |
Crop Top | 0.025871 |
Custom Rendered | Normal |
Date Created | 2017:05:04 10:00:40.033 |
Defringe Green Amount | 0 |
Defringe Green Hue Hi | 60 |
Defringe Green Hue Lo | 40 |
Defringe Purple Amount | 0 |
Defringe Purple Hue Hi | 70 |
Defringe Purple Hue Lo | 30 |
Exposure 2012 | +0.30 |
Exposure Compensation | 0 |
Exposure Mode | Manual |
Field Of View | 2.7 deg |
Firmware | 1.3.3 |
Flash Compensation | 0 |
Format | image/jpeg |
Grain Amount | 0 |
Green Hue | +46 |
Green Saturation | 0 |
Has Crop | True |
Has Settings | True |
Highlights 2012 | -55 |
Hue Adjustment Aqua | 0 |
Hue Adjustment Blue | 0 |
Hue Adjustment Green | 0 |
Hue Adjustment Magenta | 0 |
Hue Adjustment Orange | 0 |
Hue Adjustment Purple | 0 |
Hue Adjustment Red | 0 |
Hue Adjustment Yellow | 0 |
Hyperfocal Distance | 873.29 m |
ICC Profile Name | sRGB IEC61966-2.1 |
ISO | 800 |
Image Number | 0 |
Image Size | 850x850 |
Lens | EF135mm f/2L USM |
Lens ID | Canon EF 135mm f/2L |
Lens Info | 135mm f/? |
Lens Manual Distortion Amount | 0 |
Lens Model | EF135mm f/2L USM |
Lens Profile Enable | 0 |
Lens Profile Setup | LensDefaults |
Light Value | 9.3 |
Luminance Adjustment Aqua | 0 |
Luminance Adjustment Blue | 0 |
Luminance Adjustment Green | 0 |
Luminance Adjustment Magenta | 0 |
Luminance Adjustment Orange | 0 |
Luminance Adjustment Purple | 0 |
Luminance Adjustment Red | 0 |
Luminance Adjustment Yellow | 0 |
Luminance Noise Reduction Contrast | 0 |
Luminance Noise Reduction Detail | 50 |
Luminance Smoothing | 50 |
Metering Mode | Multi-segment |
Paint Correction Active | true |
Paint Correction Amount | 1.000000 |
Paint Correction Brightness | 0.000000 |
Paint Correction Clarity 2012 | 0.000000 |
Paint Correction Contrast 2012 | 0.000000 |
Paint Correction Defringe | 0.000000 |
Paint Correction Exposure 2012 | -0.351400 |
Paint Correction Highlights 2012 | -0.003092 |
Paint Correction Hue | 240.000000 |
Paint Correction Luminance Noise | 0.000000 |
Paint Correction Mask Center Weight | 0.701033 |
Paint Correction Mask Flow | 0.752800 |
Paint Correction Mask Radius | 0.020897 |
Paint Correction Mask Value | 1.000000 |
Paint Correction Mask What | Mask/Paint |
Paint Correction Moire | 0.000000 |
Paint Correction Saturation | 0.000000 |
Paint Correction Shadows 2012 | 0.000000 |
Paint Correction Sharpness | 0.000000 |
Paint Correction Temperature | 0.000000 |
Paint Correction Tint | 0.000000 |
Paint Correction What | Correction |
Parametric Darks | +52 |
Parametric Highlight Split | 90 |
Parametric Highlights | 0 |
Parametric Lights | 0 |
Parametric Midtone Split | 59 |
Parametric Shadow Split | 10 |
Parametric Shadows | 0 |
Perspective Aspect | 0 |
Perspective Horizontal | 0 |
Perspective Rotate | 0.0 |
Perspective Scale | 100 |
Perspective Upright | 0 |
Perspective Vertical | 0 |
Photometric Interpretation | RGB |
Planar Configuration | Chunky |
Post Crop Vignette Amount | 0 |
Process Version | 6.7 |
Recommended Exposure Index | 800 |
Red Hue | +49 |
Red Saturation | 0 |
Rights | Affolaby James Franck |
Samples Per Pixel | 3 |
Saturation | -45 |
Saturation Adjustment Aqua | -14 |
Saturation Adjustment Blue | -14 |
Saturation Adjustment Green | -14 |
Saturation Adjustment Magenta | -14 |
Saturation Adjustment Orange | -12 |
Saturation Adjustment Purple | -14 |
Saturation Adjustment Red | -12 |
Saturation Adjustment Yellow | -13 |
Scale Factor To 35 mm Equivalent | 5.8 |
Scene Capture Type | Standard |
Sensitivity Type | Recommended Exposure Index |
Shadow Tint | 0 |
Shadows 2012 | 0 |
Sharpen Detail | 25 |
Sharpen Edge Masking | 0 |
Sharpen Radius | +1.0 |
Sharpness | 12 |
Split Toning Balance | 0 |
Split Toning Highlight Hue | 69 |
Split Toning Highlight Saturation | 28 |
Split Toning Shadow Hue | 236 |
Split Toning Shadow Saturation | 49 |
Tint | +33 |
Tone Curve Name 2012 | Linear |
Tone Curve PV2012 | 0, 0, 255, 255 |
Tone Curve PV2012 Blue | 0, 0, 255, 255 |
Tone Curve PV2012 Green | 0, 0, 255, 255 |
Tone Curve PV2012 Red | 0, 0, 255, 255 |
Version | 8.1 |
Vibrance | +100 |
Vignette Amount | 0 |
White Balance | Auto |
Whites 2012 | +49 |