Shooting information for this photo
Camera: | NIKON CORPORATION NIKON D5100 |
Exposure: | 0.008 sec. (1/125) |
Aperture: | f/5.6 |
Focal Length: | 38.0 mm (35 mm equivalent: 57.0 mm) |
Flash: | No Flash |
Exposure mode: | Program AE |
Max Aperture: | 4.4 |
Resolution: | 240 x 240 dpi |
Dimension: | 4383 x 2922 pixels |
Original Date: | 2016:08:15 12:02:37.40 |
Created on: | 2016:08:15 12:02:37.40 |
Modified on: | 2016:08:21 17:02:57.40 |
Software: | Adobe Photoshop CS6 (Windows) |
Already Applied | True |
Approximate Focus Distance | 4294967295 |
Auto Lateral CA | 0 |
Blacks 2012 | +1 |
Blue Hue | 0 |
Blue Saturation | 0 |
Brightness | 0 |
CFA Pattern | [Red,Green][Green,Blue] |
Camera Profile | Embedded |
Circle Of Confusion | 0.020 mm |
Clarity | 0 |
Clarity 2012 | +18 |
Color Mode | RGB |
Color Noise Reduction | 0 |
Color Space | sRGB |
Contrast | Normal |
Contrast 2012 | -8 |
Convert To Grayscale | False |
Crop Angle | 0 |
Crop Bottom | 1 |
Crop Constrain To Warp | 1 |
Crop Left | 0 |
Crop Right | 1 |
Crop Top | 0 |
Custom Rendered | Normal |
Date Created | 2016:08:15 12:02:37.004 |
Defringe | 0 |
Digital Zoom Ratio | 1 |
Exposure | 0.00 |
Exposure 2012 | -1.10 |
Exposure Compensation | 0 |
Exposure Mode | Auto |
Field Of View | 35.1 deg |
Fill Light | 0 |
Focal Length In 35mm Format | 57 mm |
Format | image/jpeg |
Gain Control | None |
Grain Amount | 0 |
Green Hue | 0 |
Green Saturation | 0 |
Has Crop | True |
Has Settings | True |
Highlight Recovery | 0 |
Highlights 2012 | -12 |
Hue Adjustment Aqua | 0 |
Hue Adjustment Blue | 0 |
Hue Adjustment Green | 0 |
Hue Adjustment Magenta | 0 |
Hue Adjustment Orange | 0 |
Hue Adjustment Purple | 0 |
Hue Adjustment Red | 0 |
Hue Adjustment Yellow | 0 |
Hyperfocal Distance | 12.87 m |
ICC Profile Name | sRGB IEC61966-2.1 |
ISO | 200 |
Image Number | 9475 |
Image Size | 4383x2922 |
Incremental Temperature | 0 |
Incremental Tint | 0 |
Lens | 18.0-105.0 mm f/3.5-5.6 |
Lens ID | AF-S DX VR Zoom-Nikkor 18-105mm f/3.5-5.6G ED |
Lens Info | 18-105mm f/3.5-5.6 |
Lens Manual Distortion Amount | 0 |
Lens Model | 18.0-105.0 mm f/3.5-5.6 |
Lens Profile Enable | 0 |
Lens Profile Setup | LensDefaults |
Light Source | Unknown |
Light Value | 10.9 |
Luminance Adjustment Aqua | 0 |
Luminance Adjustment Blue | 0 |
Luminance Adjustment Green | 0 |
Luminance Adjustment Magenta | 0 |
Luminance Adjustment Orange | 0 |
Luminance Adjustment Purple | 0 |
Luminance Adjustment Red | 0 |
Luminance Adjustment Yellow | 0 |
Luminance Smoothing | 0 |
Metering Mode | Multi-segment |
Parametric Darks | 0 |
Parametric Highlight Split | 75 |
Parametric Highlights | 0 |
Parametric Lights | 0 |
Parametric Midtone Split | 50 |
Parametric Shadow Split | 25 |
Parametric Shadows | 0 |
Perspective Horizontal | 0 |
Perspective Rotate | 0.0 |
Perspective Scale | 100 |
Perspective Vertical | 0 |
Post Crop Vignette Amount | 0 |
Process Version | 6.7 |
Rating | 0 |
Raw File Name | DSC_0838.JPG |
Red Hue | 0 |
Red Saturation | 0 |
Saturation | Normal |
Saturation Adjustment Aqua | 0 |
Saturation Adjustment Blue | 0 |
Saturation Adjustment Green | 0 |
Saturation Adjustment Magenta | 0 |
Saturation Adjustment Orange | 0 |
Saturation Adjustment Purple | 0 |
Saturation Adjustment Red | 0 |
Saturation Adjustment Yellow | 0 |
Scale Factor To 35 mm Equivalent | 1.5 |
Scene Capture Type | Standard |
Scene Type | Directly photographed |
Sensing Method | One-chip color area |
Sensitivity Type | Recommended Exposure Index |
Shadow Tint | 0 |
Shadows | 0 |
Shadows 2012 | +12 |
Sharpen Detail | 25 |
Sharpen Edge Masking | 0 |
Sharpen Radius | +1.0 |
Sharpness | Normal |
Split Toning Balance | 0 |
Split Toning Highlight Hue | 0 |
Split Toning Highlight Saturation | 0 |
Split Toning Shadow Hue | 0 |
Split Toning Shadow Saturation | 0 |
Subject Distance Range | Unknown |
Tone Curve | 0, 0, 255, 255 |
Tone Curve Blue | 0, 0, 255, 255 |
Tone Curve Green | 0, 0, 255, 255 |
Tone Curve Name | Linear |
Tone Curve Name 2012 | Linear |
Tone Curve PV2012 | 0, 0, 255, 255 |
Tone Curve PV2012 Blue | 0, 0, 255, 255 |
Tone Curve PV2012 Green | 0, 0, 255, 255 |
Tone Curve PV2012 Red | 0, 0, 255, 255 |
Tone Curve Red | 0, 0, 255, 255 |
Version | 7.0 |
Vibrance | 0 |
Vignette Amount | 0 |
White Balance | Auto |
Whites 2012 | +14 |