Shooting information for this photo
Camera: | Panasonic DMC-FZ20 |
Exposure: | 0.01667 sec. (1/60) |
Aperture: | f/2.8 |
Focal Length: | 7.6 mm (35 mm equivalent: 46.0 mm) |
Flash: | Auto, Fired, Red-eye reduction |
Exposure mode: | Program AE |
Max Aperture: | 2.8 |
Resolution: | 72 x 72 dpi |
Dimension: | 2451 x 1815 pixels |
Original Date: | 2005:08:07 07:05:15 |
Created on: | 2005:08:07 07:05:15 |
Modified on: | 2018:07:01 17:53:02.461 |
Software: | Adobe Photoshop Lightroom 7.3 Classic CC (Windows) |
AF Area Mode | 1-area |
Already Applied | False |
Audio | No |
Auto Lateral CA | 0 |
Blacks 2012 | 0 |
Blue Hue | 0 |
Blue Saturation | 0 |
Body Serial Number | 4 |
Burst Mode | Off |
Camera Profile | Embedded |
Circle Of Confusion | 0.005 mm |
Clarity 2012 | 0 |
Color Effect | Off |
Color Noise Reduction | 9 |
Color Noise Reduction Detail | 50 |
Color Noise Reduction Smoothness | 50 |
Color Space | Uncalibrated |
Contrast | Normal |
Contrast 2012 | 0 |
Contrast Mode | Normal |
Convert To Grayscale | False |
Custom Rendered | Normal |
Defringe Green Amount | 0 |
Defringe Green Hue Hi | 60 |
Defringe Green Hue Lo | 40 |
Defringe Purple Amount | 0 |
Defringe Purple Hue Hi | 70 |
Defringe Purple Hue Lo | 30 |
Dehaze | +26 |
Digital Zoom Ratio | 0 |
Exposure 2012 | +0.41 |
Exposure Compensation | 0 |
Exposure Mode | Auto |
Field Of View | 42.7 deg |
Firmware Version | 0.1.0.18 |
Flash Bias | 0 |
Focal Length In 35mm Format | 46 mm |
Focus Mode | Auto |
Format | image/jpeg |
Gain Control | None |
Grain Amount | 0 |
Green Hue | 0 |
Green Saturation | 0 |
Has Settings | True |
Highlights 2012 | 0 |
Hue Adjustment Aqua | 0 |
Hue Adjustment Blue | 0 |
Hue Adjustment Green | 0 |
Hue Adjustment Magenta | 0 |
Hue Adjustment Orange | 0 |
Hue Adjustment Purple | 0 |
Hue Adjustment Red | 0 |
Hue Adjustment Yellow | 0 |
Hyperfocal Distance | 4.16 m |
ISO | 80 |
Image Quality | High |
Image Size | 2451x1815 |
Image Stabilization | On, Mode 2 |
Incremental Temperature | 0 |
Incremental Tint | 0 |
Lens Manual Distortion Amount | 0 |
Lens Profile Enable | 0 |
Lens Profile Setup | LensDefaults |
Light Source | Flash |
Light Value | 9.2 |
Luminance Adjustment Aqua | 0 |
Luminance Adjustment Blue | 0 |
Luminance Adjustment Green | 0 |
Luminance Adjustment Magenta | 0 |
Luminance Adjustment Orange | 0 |
Luminance Adjustment Purple | 0 |
Luminance Adjustment Red | 0 |
Luminance Adjustment Yellow | 0 |
Luminance Noise Reduction Contrast | 0 |
Luminance Noise Reduction Detail | 50 |
Luminance Smoothing | 11 |
Macro Mode | Off |
Metering Mode | Multi-segment |
Noise Reduction | Standard |
Override Look Vignette | False |
Panasonic Exif Version | 0100 |
Parametric Darks | 0 |
Parametric Highlight Split | 75 |
Parametric Highlights | 0 |
Parametric Lights | 0 |
Parametric Midtone Split | 50 |
Parametric Shadow Split | 25 |
Parametric Shadows | 0 |
Perspective Aspect | 0 |
Perspective Horizontal | 0 |
Perspective Rotate | 0.0 |
Perspective Scale | 100 |
Perspective Upright | 0 |
Perspective Vertical | 0 |
Perspective X | 0.00 |
Perspective Y | 0.00 |
Photographic Sensitivity | 80 |
Post Crop Vignette Amount | 0 |
Process Version | 10.0 |
Raw File Name | Picture 179_ptXX-1.jpg |
Red Hue | 0 |
Red Saturation | 0 |
Saturation | Low |
Saturation Adjustment Aqua | 0 |
Saturation Adjustment Blue | 0 |
Saturation Adjustment Green | 0 |
Saturation Adjustment Magenta | 0 |
Saturation Adjustment Orange | 0 |
Saturation Adjustment Purple | 0 |
Saturation Adjustment Red | 0 |
Saturation Adjustment Yellow | 0 |
Scale Factor To 35 mm Equivalent | 6.1 |
Scene Capture Type | Standard |
Scene Type | Directly photographed |
Self Timer | Off |
Sensing Method | One-chip color area |
Sequence Number | 0 |
Shadow Tint | 0 |
Shadows 2012 | 0 |
Sharpen Detail | 25 |
Sharpen Edge Masking | 0 |
Sharpen Radius | +1.0 |
Sharpness | Normal |
Shooting Mode | Program |
Split Toning Balance | 0 |
Split Toning Highlight Hue | 0 |
Split Toning Highlight Saturation | 0 |
Split Toning Shadow Hue | 0 |
Split Toning Shadow Saturation | 0 |
Time Since Power On | 00:21:45.31 |
Tone Curve | 0, 0, 255, 255 |
Tone Curve Blue | 0, 0, 255, 255 |
Tone Curve Green | 0, 0, 255, 255 |
Tone Curve Name | Linear |
Tone Curve Name 2012 | Linear |
Tone Curve PV2012 | 0, 0, 255, 255 |
Tone Curve PV2012 Blue | 0, 0, 255, 255 |
Tone Curve PV2012 Green | 0, 0, 255, 255 |
Tone Curve PV2012 Red | 0, 0, 255, 255 |
Tone Curve Red | 0, 0, 255, 255 |
Tone Map Strength | 0 |
Version | 10.3 |
Vibrance | 0 |
Vignette Amount | 0 |
White Balance | Auto |
White Balance Bias | 0 |
Whites 2012 | 0 |